BEGIN:VCALENDAR
VERSION:2.0
PRODID:-//Vakarų Vėjai - ECPv6.15.3//NONSGML v1.0//EN
CALSCALE:GREGORIAN
METHOD:PUBLISH
X-WR-CALNAME:Vakarų Vėjai
X-ORIGINAL-URL:https://vakaruvejai.com
X-WR-CALDESC:Vakarų Vėjai renginiai
REFRESH-INTERVAL;VALUE=DURATION:PT1H
X-Robots-Tag:noindex
X-PUBLISHED-TTL:PT1H
BEGIN:VTIMEZONE
TZID:America/Los_Angeles
BEGIN:DAYLIGHT
TZOFFSETFROM:-0800
TZOFFSETTO:-0700
TZNAME:PDT
DTSTART:20230312T100000
END:DAYLIGHT
BEGIN:STANDARD
TZOFFSETFROM:-0700
TZOFFSETTO:-0800
TZNAME:PST
DTSTART:20231105T090000
END:STANDARD
END:VTIMEZONE
BEGIN:VEVENT
DTSTART;TZID=America/Los_Angeles:20230211T150000
DTEND;TZID=America/Los_Angeles:20230211T180000
DTSTAMP:20260423T190832
CREATED:20230210T045834Z
LAST-MODIFIED:20230210T045919Z
UID:23671-1676127600-1676138400@vakaruvejai.com
SUMMARY:Šv. Mišios ir Vasario 16-osios šventė Sietle\, WA
DESCRIPTION:LT \nŠV. MIŠIOS: Šv. Mišias laikys kun. Tomas Karanauskas \nKun. Tomas Karanauskas džiaugiasi galėdamas vėl švęsti katalikiškas mišias lietuvių kalba už mūsų bendruomenę. Mišios vyks šalia salės esančioje Latvių centro koplyčioje. Arkivyskupija mums maloniai primena apie renkamas aukas todėl\, jei dalyvaujate Šv. Mišiose\, mandagiai prašome\, kurie galite\, turėti grynųjų pinigų\, kad galėtumėte paaukoti. \nVasario 16-osios šventė \nPagrindinė pranešėja: Rima Ziuraitis\, „Mėlyna ir Geltona” už Ukrainą JAV vadovė \n\nĮėjimas suaugusiems – $25. Siūlome BILIETUS nusipirkti iš anksto. Vaikams iki 18 metų mokestis netaikomas. \nVakarienė suneštinė. Atsineškite patiekalą visiems pasivaišinti. Prie durų turėsime žmones\, kurie jūsų atneštą maistą nuneš į virtuvę.\nOficialioje programoje turėsime garbingų svečių pasisakymus\, o programos pranešėja papasakos apie svarbias lietuvių paramos Ukrainai pastangas.\nKaip visada\, vakaro programą apvainikuos dainos\, šokiai ir pasirodymai\, o po programos bus soti vakarienė ir linksmybės!\nDėl Latvių centro automobilių stovėjimo aikštelėje vykstančių statybų automobilių statymas tik pagal laikrodžio rodyklę.\n\nEN \nMASS: Celebrant: Fr. Tomas Karanauskas \nFr. Karanauskas is pleased to once again celebrate Catholic Mass in Lithuanian for our community\, in the Latvian Center chapel adjacent to the hall.  The archdiocese has gently reminded us of the practice of passing around a collection basket\, so if you’re attending Mass\, consider having cash on hand to make a monetary donation if you can. \nCelebration of Lithuanian State Restoration Day \nKeynote speaker: Mrs. Rima Ziuraitis\, Director\, Blue / Yellow for Ukraine USA \n\nAdmission is $25 per adult. Consider pre-paying HERE.  There is no charge for children younger than 18.\nDinner is potluck.  Bring a generous dish to share.  There will be runners at the door to take your item to the kitchen.\nThe formal program will include remarks by distinguished guests and a keynote address about incredible support efforts for Ukraine by Lithuanians.\nAs always\, the evening’s entertainment will include singing\, dancing\, and performing\, followed by hearty dining and merriment!\nOngoing construction has impacted the parking lot at the Latvian center.  Please drive carefully and only in a clockwise direction.\n\n 
URL:https://vakaruvejai.com/renginys/sv-misios-ir-vasario-16-osios-svente-sietle-wa/
LOCATION:Latvian Community Center Chapel\, 11710 - 3rd Ave NE\, Seattle\, WA\, 98125
CATEGORIES:Lietuviški renginiai,Seattle
ATTACH;FMTTYPE=image/png:https://vakaruvejai.com/wp-content/uploads/2023/02/Screen-Shot-2023-02-09-at-8.22.33-PM.png
ORGANIZER;CN="Seattle Lithuanian Community/Seattle Lietuvi%C5%B3 Bendruomen%C4%97":MAILTO:seattlelb.president@gmail.com
END:VEVENT
END:VCALENDAR