BEGIN:VCALENDAR
VERSION:2.0
PRODID:-//Vakarų Vėjai - ECPv6.15.3//NONSGML v1.0//EN
CALSCALE:GREGORIAN
METHOD:PUBLISH
X-ORIGINAL-URL:https://vakaruvejai.com
X-WR-CALDESC:Vakarų Vėjai renginiai
REFRESH-INTERVAL;VALUE=DURATION:PT1H
X-Robots-Tag:noindex
X-PUBLISHED-TTL:PT1H
BEGIN:VTIMEZONE
TZID:America/Los_Angeles
BEGIN:DAYLIGHT
TZOFFSETFROM:-0800
TZOFFSETTO:-0700
TZNAME:PDT
DTSTART:20220313T100000
END:DAYLIGHT
BEGIN:STANDARD
TZOFFSETFROM:-0700
TZOFFSETTO:-0800
TZNAME:PST
DTSTART:20221106T090000
END:STANDARD
END:VTIMEZONE
BEGIN:VEVENT
DTSTART;TZID=America/Los_Angeles:20221022T093000
DTEND;TZID=America/Los_Angeles:20221022T103000
DTSTAMP:20260423T190638
CREATED:20221021T233449Z
LAST-MODIFIED:20221022T001336Z
UID:22771-1666431000-1666434600@vakaruvejai.com
SUMMARY:Lietuvos Diplomatijos Istorija – Pristatymas ir Mokinių Konkursas\, Los Andželas
DESCRIPTION:KVIEČIAME TĖVELIUS IR SVEČIUS \nLietuvos Diplomatijos Istorija – Pristatymas ir Mokinių Konkursas \nŠeštadienį\, spalio 22d. 9:30-10:30 val. parapijos salėje. Dalyvauja 9-12 kl. mokiniai. \nSiekiant skatinti jaunimą domėtis Lietuvos istorija ir paminėti Lietuvos ir JAV diplomatinių santykių 1⃣ 0⃣ 0⃣ -metį\, Generalinis konsulatas Los Andžele kartu su Lituanistikos tyrimo centru Čikagoje organizuoja viktoriną “Lietuvos diplomatai JAV – darbas Lietuvos labui”. Moksleiviams bus pasakojama apie išeivijos lietuvių veiklą 1916- 1922 metais\, siekiant Lietuvos nepriklausomybės bei JAV pripažinimo. Remiantis Lituanistikos tyrimo centro archyvine medžiaga moksleiviai susipažins su konsulo Juliaus Bielskio (vėliau dirbusio Kalifornijoje) asmenybe. Sužinos\, kodėl užtruko ketverius metus\, kol JAV pripažino Lietuvą lygiaverte valstybe. \nKonsulato darbuotojas Mindaugas Čiaglys papasakos apie dabartinį Los Andželo konsulato darbą ir funkcijas.\nViktorinos nugalėtojai bus pakviesti į Generalinį konsulatą Los Andžele dalyvauti Diplomato dienos programoje ir apdovanoti suvenyrais. Jie iš arčiau susipažins su konsulų darbu\, atstovybės organizuojamais kultūros ir ekonominio bendradarbiavimo projektais\, bendradarbiavimo su bendruomene programomis bei kasdieniais darbais. \nViešnia – Kristina Lapienytė iš Lituanistikos Tyrimo Centro.
URL:https://vakaruvejai.com/renginys/lietuvos-diplomatijos-istorija-pristatymas-ir-mokiniu-konkursas-los-andzelas/
LOCATION:Šv. Kazimiero parapijos salėje\, 2714 St. George St.\, Los Angeles\, CA\, 90027
CATEGORIES:Lietuviški renginiai,Los Andželas
ATTACH;FMTTYPE=image/png:https://vakaruvejai.com/wp-content/uploads/2022/10/Screen-Shot-2022-10-21-at-4.09.03-PM-1.png
END:VEVENT
END:VCALENDAR