BEGIN:VCALENDAR
VERSION:2.0
PRODID:-//Vakarų Vėjai - ECPv6.15.3//NONSGML v1.0//EN
CALSCALE:GREGORIAN
METHOD:PUBLISH
X-ORIGINAL-URL:https://vakaruvejai.com
X-WR-CALDESC:Vakarų Vėjai renginiai
REFRESH-INTERVAL;VALUE=DURATION:PT1H
X-Robots-Tag:noindex
X-PUBLISHED-TTL:PT1H
BEGIN:VTIMEZONE
TZID:America/Los_Angeles
BEGIN:DAYLIGHT
TZOFFSETFROM:-0800
TZOFFSETTO:-0700
TZNAME:PDT
DTSTART:20200308T100000
END:DAYLIGHT
BEGIN:STANDARD
TZOFFSETFROM:-0700
TZOFFSETTO:-0800
TZNAME:PST
DTSTART:20201101T090000
END:STANDARD
BEGIN:DAYLIGHT
TZOFFSETFROM:-0800
TZOFFSETTO:-0700
TZNAME:PDT
DTSTART:20210314T100000
END:DAYLIGHT
BEGIN:STANDARD
TZOFFSETFROM:-0700
TZOFFSETTO:-0800
TZNAME:PST
DTSTART:20211107T090000
END:STANDARD
BEGIN:DAYLIGHT
TZOFFSETFROM:-0800
TZOFFSETTO:-0700
TZNAME:PDT
DTSTART:20220313T100000
END:DAYLIGHT
BEGIN:STANDARD
TZOFFSETFROM:-0700
TZOFFSETTO:-0800
TZNAME:PST
DTSTART:20221106T090000
END:STANDARD
BEGIN:DAYLIGHT
TZOFFSETFROM:-0800
TZOFFSETTO:-0700
TZNAME:PDT
DTSTART:20230312T100000
END:DAYLIGHT
BEGIN:STANDARD
TZOFFSETFROM:-0700
TZOFFSETTO:-0800
TZNAME:PST
DTSTART:20231105T090000
END:STANDARD
BEGIN:DAYLIGHT
TZOFFSETFROM:-0800
TZOFFSETTO:-0700
TZNAME:PDT
DTSTART:20240310T100000
END:DAYLIGHT
BEGIN:STANDARD
TZOFFSETFROM:-0700
TZOFFSETTO:-0800
TZNAME:PST
DTSTART:20241103T090000
END:STANDARD
BEGIN:DAYLIGHT
TZOFFSETFROM:-0800
TZOFFSETTO:-0700
TZNAME:PDT
DTSTART:20250309T100000
END:DAYLIGHT
BEGIN:STANDARD
TZOFFSETFROM:-0700
TZOFFSETTO:-0800
TZNAME:PST
DTSTART:20251102T090000
END:STANDARD
BEGIN:DAYLIGHT
TZOFFSETFROM:-0800
TZOFFSETTO:-0700
TZNAME:PDT
DTSTART:20260308T100000
END:DAYLIGHT
BEGIN:STANDARD
TZOFFSETFROM:-0700
TZOFFSETTO:-0800
TZNAME:PST
DTSTART:20261101T090000
END:STANDARD
END:VTIMEZONE
BEGIN:VEVENT
DTSTART;TZID=America/Los_Angeles:20260215T130000
DTEND;TZID=America/Los_Angeles:20260215T150000
DTSTAMP:20260423T160238
CREATED:20260120T021304Z
LAST-MODIFIED:20260120T022514Z
UID:30379-1771160400-1771167600@vakaruvejai.com
SUMMARY:Vasario 16-osios - Lietuvos valstybės atkūrimo dienos minėjimas\, Los Andželas
DESCRIPTION:LA lietuvių bendruomenė kviečia visus lietuvius ir draugus švęsti ir paminėti Vasario 16-ąją – Lietuvos valstybės atkūrimo dieną. \nLaikas: Sekmadienis\, vasario 15 d.\, 11:00 val. mišios\, 13:00 val. minėjimas \nVieta: Šv. Kazimiero parapijos viršutinė salė \nDalyviai: Kalbės atstovas iš projekto „Šaknys“\, šoks mūsų mylima šokių grupė „Retro“ ir koncertuos „CinAmono Duo“ iš Lietuvos. \nŠvęskime Lietuvos nepriklausomybę drauge! \nRenginys nemokamas\, bet labai lauksime aukų. \nKlausimai – tara@lalithuanians.org
URL:https://vakaruvejai.com/renginys/vasario-16-osios-lietuvos-valstybes-atkurimo-dienos-minejimas-los-andzelas/
LOCATION:Šv. Kazimiero parapijos salėje\, 2714 St. George St.\, Los Angeles\, CA\, 90027
CATEGORIES:Lietuviški renginiai,Los Andželas
ATTACH;FMTTYPE=image/jpeg:https://vakaruvejai.com/wp-content/uploads/2026/01/IMG_5359-1.jpeg
END:VEVENT
BEGIN:VEVENT
DTSTART;TZID=America/Los_Angeles:20251123T110000
DTEND;TZID=America/Los_Angeles:20251123T130000
DTSTAMP:20260423T160238
CREATED:20251108T022402Z
LAST-MODIFIED:20251108T022402Z
UID:29935-1763895600-1763902800@vakaruvejai.com
SUMMARY:Kariuomenės dienos minėjimas\, Los Andželas
DESCRIPTION:Kviečiame visus į iškilmingas mišias paminėti Lietuvos kariuomenės dieną\, kuri įvyks lapkričio 23 d. 11 val. Po mišių bus įšventinami nauji J. Daumanto šaulių kuopos nariai. \n 
URL:https://vakaruvejai.com/renginys/kariuomenes-dienos-minejimas-los-andzelas/
LOCATION:Šv. Kazimiero parapija\, 2716 St. George St.\, Los Angeles\, CA\, 90027
CATEGORIES:Lietuviški renginiai,Los Andželas
ATTACH;FMTTYPE=image/jpeg:https://vakaruvejai.com/wp-content/uploads/2025/11/lietuvos-kariuomenes-diena.jpg
END:VEVENT
BEGIN:VEVENT
DTSTART;TZID=America/Los_Angeles:20250608T130000
DTEND;TZID=America/Los_Angeles:20250608T150000
DTSTAMP:20260423T160238
CREATED:20250606T152728Z
LAST-MODIFIED:20250606T152728Z
UID:29164-1749387600-1749394800@vakaruvejai.com
SUMMARY:June 1941 deportations commemoration: Estonia\, Latvia\, Lithuania
DESCRIPTION:Please join us for church service to commemorate the mass deportations of the Baltic people in June\, 1941 \nWHEN? Sunday\, June 8 at 1:00pm \nWHERE? Latvian Ev. Luth Church of Southern California \n1927 Riverside Dr.\, Los Angeles\, CA 90039 \nRefreshments will follow
URL:https://vakaruvejai.com/renginys/june-1941-deportations-commemoration-estonia-latvia-lithuania/
LOCATION:Latvian Ev. Luth Church of Southern California\, 1927 Riverside Dr.\, Los Angeles\, CA\, 90039
CATEGORIES:Los Andželas
ATTACH;FMTTYPE=image/png:https://vakaruvejai.com/wp-content/uploads/2025/06/Screen-Shot-2025-06-06-at-8.13.42-AM.png
END:VEVENT
BEGIN:VEVENT
DTSTART;TZID=America/Los_Angeles:20250312T170000
DTEND;TZID=America/Los_Angeles:20250312T180000
DTSTAMP:20260423T160238
CREATED:20250201T050503Z
LAST-MODIFIED:20250201T050503Z
UID:28296-1741798800-1741802400@vakaruvejai.com
SUMMARY:Lietuvos Nepriklausomybės atkūrimo 35-ųjų metinių minėjimas\, Virtualus renginys
DESCRIPTION:LT \nKovo 12 d. JAV lietuvių bendruomenės Krašto valdybos pirmininkė Edita Buzėnienė drauge su Lietuvos ambasadorė Jungtinėse Amerikos Valstijose Audra Plepyte kviečia visus į didžiausią virtualų JAV lietuvių susibūrimą\, skirtą Vasario 16-osios ir Kovo 11-osios švenčių paminėjimui.Nepraleiskite šios puikios progos visiems susiburti ir išgirsti apie Lietuvos prioritetus bei susipažinti su JAV LB planais.Registracija vyksta iki kovo 5 d. Daugiau informacijos apie renginį bei registracijos formą rasite čia: https://bit.ly/kovo12_registracija \nENOn March 12\, the Chairperson of the Lithuanian American Community Board\, Edita Buzėnienė\, together with Lithuania’s Ambassador to the United States\, Audra Plepytė\, warmly invites everyone to the largest virtual event dedicated to commemorating February 16th and March 11th\, two pivotal days in Lithuania’s history.Don’t miss this wonderful opportunity to come together as a community\, hear about Lithuania’s key priorities\, and learn about the Lithuanian American Community’s exciting plans.Registration is open until March 5. For more details about the event and to access the registration form\, click here: https://bit.ly/kovo12_registracija
URL:https://vakaruvejai.com/renginys/lietuvos-nepriklausomybes-atkurimo-35-uju-metiniu-minejimas-virtualus-renginys/
LOCATION:Virtualus renginys
CATEGORIES:Lietuviški renginiai,Virtualus renginys
ATTACH;FMTTYPE=image/jpeg:https://vakaruvejai.com/wp-content/uploads/2025/01/474976407_926688256338572_1885672104173725830_n.jpeg
END:VEVENT
BEGIN:VEVENT
DTSTART;TZID=America/Los_Angeles:20250222T090000
DTEND;TZID=America/Los_Angeles:20250222T110000
DTSTAMP:20260423T160238
CREATED:20250201T054102Z
LAST-MODIFIED:20250201T054102Z
UID:28306-1740214800-1740222000@vakaruvejai.com
SUMMARY:Pagarbos bėgimas sausio 13-osios ir Ukrainos laisvės gynėjų atminimui\, Los Andželas
DESCRIPTION:LT \n\nŠiais metais dėl Los Andžele kilusių gaisrų negalėjome susitikti Sausio 13-osios atminimo renginyje\, tačiau išlaikydami pagarbą šiai reikšmingai datai\, kviečiame Jus dalyvauti Pagarbos bėgime\, kuris vyks vasario 22 d.\nPrisiminsime ne tik Sausio 13-osios didvyrius\, gynusius Lietuvos laisvę ir už ją žuvusius\, bet kartu paminėsime ir rusijos plataus masto invazijos į Ukrainą trečiąsias metines. Šios dvi datos – Sausio 13-oji ir 2022 m. vasario 24-oji – primena apie laisvės kainą ir drąsą priešintis agresijai. Maloniai kviečiame dalyvauti ir kartu prisiminti\, kad laisvė – tai vertybė\, kurią turime branginti\, ginti ir remti kasdien. Vieningi esame stiprūs!\n\nBėgimas vyks vasario 22 d.\, šeštadienį\, pradžia – 9 val. ryte (9 AM).Susitikimo vieta ir bėgimo/ėjimo pradžia bei pabaiga – Crescent Bay Park stovėjimo aikštelė (2000 Ocean Ave\, Santa Monica\, CA\, 90405).Bėgimo maršrutas – 3 mylios/5 km (iki Jonathan Club ir atgal\, 850 Palisades Beach Rd\, Santa Monica\, CA 90403).\nĖjimo maršrutas – 1 mylia/1.6 km (iki Santa Monica Pier ir atgal).\nUžsiregistravusiems dalyviams\, pasiekusiems finišą\, bus įteikti atminimo medaliai!\nRegistracija  https://shorturl.at/y3a8B\n\n SVARBU: Prašome atsakingai įvertinti savo fizinį pasirengimo lygį ir bėgti tik jeigu esate sveika (-s) bei galite bėgti pasirinktą distanciją. Dalyvavimas bėgime yra savanoriškas\, kiekvienas dalyvis (-ė) prisiima asmeninę atsakomybę už savo sveikatą. Bėgimo iniciatoriai neatsako už dalyvių sveikatos sutrikimusrenginio metu.\n\nEN\nThis year\, due to the wildfires in Los Angeles\, we were unable to come together for the January 13th commemoration. However\, we invite you to honor this significant date on February 22 by participating in the Remembrance Run – in memory of the Lithuanian heroes of January 13th and in solidarity with Ukrainian Freedom Fighters.\nAs we remember the brave defenders who gave their lives for Lithuania’s freedom on January 13\, 1991\, we will also mark the third anniversary of russia’s large-scale invasion of Ukraine. These two historic dates – January 13\, 1991 and February 24\, 2022 – serve as powerful reminders of the cost of freedom and the courage required to resist aggression.\nWe kindly invite you to join us in honoring the sacrifices of the past and showing solidarity in the present. United\, we are strong!\n\nThe run will take place on Saturday\, February 22\, 2025\, at 9 AM.Meeting point and start/finish: Crescent Bay Park parking lot (2000 Ocean Ave\, Santa Monica\, CA 90405).Run distance: 3 miles/5 km (to the Jonathan Club and back\, 850 Palisades Beach Rd\, Santa Monica\, CA 90403).\nWalk distance: 1 mile/1.6 km (to Santa Monica Pier and back).\nRegistered participants will be awarded commemorative medals after the finish!\nRegistration  https://shorturl.at/y3a8B\n\n IMPORTANT: Please consider your fitness level carefully and participate only if you are in good health and capable of completing your chosen distance. Participation in the run is entirely voluntary\, and each participant assumes full responsibility for their own health and well-being. The event coordinators disclaim any liability for health issues that may arise during the event.
URL:https://vakaruvejai.com/renginys/pagarbos-begimas-sausio-13-osios-ir-ukrainos-laisves-gyneju-atminimui-los-andzelas/
LOCATION:Crescent Bay Park stovėjimo aikštelė (2000 Ocean Ave\, Santa Monica\, CA 90405)
CATEGORIES:Lietuviški renginiai,Los Andželas
ATTACH;FMTTYPE=image/jpeg:https://vakaruvejai.com/wp-content/uploads/2025/01/475088263_3040642899423845_9069589313627729444_n.jpeg
END:VEVENT
BEGIN:VEVENT
DTSTART;TZID=America/Los_Angeles:20250208T160000
DTEND;TZID=America/Los_Angeles:20250208T180000
DTSTAMP:20260423T160238
CREATED:20250117T064615Z
LAST-MODIFIED:20250201T083230Z
UID:28190-1739030400-1739037600@vakaruvejai.com
SUMMARY:Vasario 16-osios šventė/Celebration of Lithuanian state restoration day\, Sietlas
DESCRIPTION:LT\n\n\nVašingtono valstijos Amerikos Lietuvių Bendruomenės skyrius maloniai kviečia Jus švęsti Lietuvos Valstybės Atkūrimo Dieną (Vasario 16-ąją) ir Lietuvos Nepriklausomybės Atkūrimo Dieną (Kovo 11-ąją).. Pagrindiniu renginio pranešėju bus Kęstutis Daugirdas – kompozitorius\, prodiuseris\, atlikėjas\, chorų vadovas ir pedagogas. Prisijunkite prie mūsų įkvepiančiam ir informatyviam vakarui. Kęstučio pranešimo tema – „Kūrybiškumas ir bendruomeniškumas Lietuvos dainų švenčių kontekste“.\nŠventėje taip pat pasirodys mūsų talentingos bendruomenės šokių grupės ir choras\, kurie atliks tradicines lietuviškas dainas ir šokius\, pabrėždami mūsų kultūros grožį.\nTai puiki proga susitikti su draugais\, šeima ir Amerikos lietuvių bendruomenės nariais\, pagerbiant šią svarbią dieną.\nKada: Vasario 8 d.\, 16:15 val.Kelintą valandą: bendruomenės nuotrauka bus daroma 16:15\, o programa prasidės 16:30.Kur: Sietlo latvių centras\, 11710 3rd Ave. NE\, Seattle\, WA 98125Ką atsinešti: Prašome atsinešti gardžių vaišių patiekalą\, kuriuo galėtumėte pasidalinti.Įėjimas: 25 USD suaugusiems (nuo 18 metų). Vaikams – nemokamai.Bilietus galite įsigyti iš anksto čia: https://www.lacwastate.com\n\n\nEN\n\nWashington state chapter of the American Lithuanian community cordially invites you to celebrate Restoration of the Lithuanian State (Vasario 16-oji) and the Restoration of Lithuanian Independence (Kovo 11-oji).. Our keynote note speaker will be Kęstutis Daugirdas\, a composer\, producer\, performer\, choral director\, and educator. Join us for what’s sure to be an informative evening. Kęstutis’s keynote address is titled „Creativity and Community in the Context of Lithuanian Song Festivals”.\nThe celebration will feature special performances by our talented community dance groups and choir\, showcasing traditional Lithuanian music and dances that highlight the beauty of our heritage.\nThis is a wonderful opportunity to connect with friends\, family\, and fellow members of the Lithuanian-American community as we honor this significant day.\nWhen: February 8thWhat time: we will start with a community group photo at 4:15pm\, the program will start at 4:30Where: Seattle Latvian Center\, 11710 3rd Ave. NE\, Seattle\, WA 98125What to Bring: Please bring a generous dish to share.Admission: $25 for adults 18 and over. Children are free.You can purchase your admission tickets in advance here: https://www.lacwastate.com
URL:https://vakaruvejai.com/renginys/vasario-16-osios-svente-celebration-of-lithuanian-state-restoration-day-sietlas/
LOCATION:Sietlo latvių centras\, 11710 3rd Ave.\, Seattle\, WA\, 98125
CATEGORIES:Lietuviški renginiai,Seattle
ATTACH;FMTTYPE=image/jpeg:https://vakaruvejai.com/wp-content/uploads/2025/01/475429508_1018875923598078_2864903457507933005_n.jpeg
ORGANIZER;CN="Seattle Lithuanian Community/Seattle Lietuvi%C5%B3 Bendruomen%C4%97":MAILTO:seattlelb.president@gmail.com
END:VEVENT
BEGIN:VEVENT
DTSTART;TZID=America/Los_Angeles:20241201T110000
DTEND;TZID=America/Los_Angeles:20241201T133000
DTSTAMP:20260423T160238
CREATED:20241114T173015Z
LAST-MODIFIED:20241114T173015Z
UID:27885-1733050800-1733059800@vakaruvejai.com
SUMMARY:Lietuvos kariuomenės dienos minėjimas\, Los Andželas
DESCRIPTION:2024 metų gruodžio 1 dieną kviečiame į iškilmingas mišias 11-tą valandą ir minėjimą\, skirtą Lietuvos kariuomenės dienai pažymėti\, kuris įvyks šv. Kazimiero Parapijos apatinėje salėje po pietų\, 12:30. \nJeigu ateisite\, tai sužinosite\, kaip Lietuvoje yra ruošiami elitiniai kariai. \n(C) LŠSĮ J. Daumanto šaulių kuopa
URL:https://vakaruvejai.com/renginys/lietuvos-kariuomenes-dienos-minejimas-los-andzelas/
LOCATION:Šv. Kazimiero parapija\, 2716 St. George St.\, Los Angeles\, CA\, 90027
CATEGORIES:Lietuviški renginiai,Los Andželas
ATTACH;FMTTYPE=image/jpeg:https://vakaruvejai.com/wp-content/uploads/2024/11/LT-kariuomenes-diena-flyer.jpg
END:VEVENT
BEGIN:VEVENT
DTSTART;TZID=America/Los_Angeles:20221204T123000
DTEND;TZID=America/Los_Angeles:20221204T143000
DTSTAMP:20260423T160238
CREATED:20221103T030908Z
LAST-MODIFIED:20221201T171146Z
UID:22897-1670157000-1670164200@vakaruvejai.com
SUMMARY:J. Daumanto šaulių kuopos Lietuvos kariuomenės dienos minėjimas\, Los Andželas
DESCRIPTION:Kviečiame į minėjimą\, skirtą Lietuvos kariuomenės dienai\, kuris įvyks gruodžio 4-tą dieną 12:30 valandą Šv. Kazimiero parapijos salėje adresu: 2718 St George St\, Los Angeles\, CA 90027. \nŠventėje dalyvaus Lietuvos gynybos atašė JAV ir Kanadai\, brigados generolas Modestas Petrauskas kartu su svečiais iš generalinio konsulato Los Andžele. \nJūsų laukia spalvinga\, įdomi programa ir vaišės. \nŠventę organizuoja Los Angeles\, Lietuvos Sauliu Sajunga Iseivijoje\, J. Daumanto Kuopa. \nŠventę organizuoja J. Daumanto šaulių kuopa
URL:https://vakaruvejai.com/renginys/j-daumanto-sauliu-kuopos-lietuvos-kariuomenes-dienos-minejimas-los-andzelas/
LOCATION:Šv. Kazimiero parapijos salėje\, 2714 St. George St.\, Los Angeles\, CA\, 90027
CATEGORIES:Lietuviški renginiai,Los Andželas
ATTACH;FMTTYPE=image/jpeg:https://vakaruvejai.com/wp-content/uploads/2022/11/IMG_7146-scaled.jpg
END:VEVENT
BEGIN:VEVENT
DTSTART;TZID=America/Los_Angeles:20220313T100000
DTEND;TZID=America/Los_Angeles:20220313T140000
DTSTAMP:20260423T160238
CREATED:20220303T011935Z
LAST-MODIFIED:20220304T230433Z
UID:20341-1647165600-1647180000@vakaruvejai.com
SUMMARY:11 000 žingsnių žygis Kovo 11-ąjai paminėti / Independence Day Hike\, San Diegas
DESCRIPTION:LT \nKviečiame visus lietuvius ir jiems prijaučiančius į simbolinį 11-os tūkstančių žingsnių žygį\, skirtą Lietuvos nepriklausomybės atkūrimo dienai – Kovo 11-ąjai paminėti! \nŽygiuosime Eagle Rock trail\, kuris vingiuoja lyguma ir yra tinkamas visiems. Atstumas pirmyn atgal apie 6.2 mylios. Žygiuosime neskubėdami ir pakeliui sustosime atsikvėpti.\nPikniko vaišės suneštinės. \nŽygio spalvos – geltona\, žalia ir raudona \nRenkamės kovo 13 d. 10 val. trailo pradžioje \nAdresas:\nEagle Rock Trailhead\nhttps://goo.gl/maps/NSkv4UHpbK2xY7rRA \nJeigu kyla klausimų\, rašykite žinutę per fb Vitalija Ar \nIki greito! \n \nEN \nLet’s celebrate 11th of March – Restoration of Independence Day of Lithuania together! We will hike to Eagle Rock. This trail is nice and easy with some small inclines/declines and suitable for everyone. Trail length is 6.2 miles out and back. We will walk slowly and will stop to rest on the way. Please bring your favorite picnic dishes to share. \nColor code of the hike – yellow\, green and red. Please come dressed in your best Lithuanian attire. \nTime:\n13 March 2022\n10 am at the beginning of the trail. \nLocation:\nEagle Rock Trailhead\nhttps://goo.gl/maps/NSkv4UHpbK2xY7rRA
URL:https://vakaruvejai.com/renginys/vienuolikos-tukstanciu-zingsniu-zygis-san-diego/
LOCATION:Eagle Rock Trailhead\, Pacific Crest Trail\, Warner Springs\, CA\, 92086\, Jungtinės Amerikos Valstijos
CATEGORIES:Lietuviški renginiai,San Diego
ATTACH;FMTTYPE=image/jpeg:https://vakaruvejai.com/wp-content/uploads/2022/03/unnamed.jpg
END:VEVENT
BEGIN:VEVENT
DTSTART;TZID=America/Los_Angeles:20220109T130000
DTEND;TZID=America/Los_Angeles:20220109T150000
DTSTAMP:20260423T160238
CREATED:20211217T171545Z
LAST-MODIFIED:20211217T171545Z
UID:19094-1641733200-1641740400@vakaruvejai.com
SUMMARY:Green Lake Walk to Commemorate Lithuanian Freedom Defenders\, Seattle
DESCRIPTION:LT \nPrisijunkite prie mūsų organizuojamo solidarumo pasivaikščiojimo aplink Greenlake ežerą\, pagerbdami laisvės gynėjus\, žuvusius per sovietų agresijas Lietuvoje 1991 m. sausį. Atsineškite savo Lietuvos vėliavas ir dėvėkite patriotines spalvas.\nSusitikime „Aqua“ teatre pietrytiniame parko kampe.\nApie tuos 1991 metų sausio mėnesio įvykius galite paskaityti čia: https://en.m.wikipedia.org/wiki/January_Events_(Lietuva) \nEN \nJoin us for a casual walk of solidarity around Green Lake as we honor freedom defenders who lost their lives during Soviet aggressions in Lithuania in January 1991. Bring your Lithuanian flags and wear patriotic colors.\nMeet at the Aqua Theater in the southeast corner of the park.\nYou can read about those January 1991 events here: https://en.m.wikipedia.org/wiki/January_Events_(Lithuania)
URL:https://vakaruvejai.com/renginys/green-lake-walk-to-commemorate-lithuanian-freedom-defenders-seattle-2/
LOCATION:Green Lake Aqua Theater\, 5900 W Green Lake Way N\, Seattle\, WA\, 98103
CATEGORIES:Lietuviški renginiai,Seattle
ATTACH;FMTTYPE=image/jpeg:https://vakaruvejai.com/wp-content/uploads/2021/12/268846247_4825998820753929_482568795188886296_n.jpg
ORGANIZER;CN="Seattle Lithuanian Community/Seattle Lietuvi%C5%B3 Bendruomen%C4%97":MAILTO:seattlelb.president@gmail.com
END:VEVENT
BEGIN:VEVENT
DTSTART;TZID=America/Los_Angeles:20210614T180000
DTEND;TZID=America/Los_Angeles:20210614T200000
DTSTAMP:20260423T160238
CREATED:20210519T205912Z
LAST-MODIFIED:20210519T205912Z
UID:16356-1623693600-1623700800@vakaruvejai.com
SUMMARY:Gedulo ir Vilties bei Okupacijos dienos minėjimas\, Grotto parkas\, Portlandas
DESCRIPTION:Mielieji bendruomenės nariai\,\n1941 m. birželio 14 d. 3 val. nakties Sovietų NKVD pradėjo masinius lietuvių areštus ir trėmima į Sibirą. Per vieną savaitę iš Lietuvos buvo išvežta apie 18\,500 Lietuvos piliečių. Is viso į Sibirą buvo ištremta daugiau nei 300\,000 Lietuvos piliečių.\nBirželio 14d. paskelbta Gedulo ir Vilties bei Okupacijos diena. Kviečiame visus galinčius prisijungti ir pagerbti žuvusiujų tremtyje atminimą.\n„…didžių dalykų padarė man Visagalis\, kurio vardas šventas. Per kartų kartas Jis gailestingas tiems\, kurie Jo klauso…” (Luko 1:47\, Švč. M. Marijos giesmė).\nPrograma:\nRenkamės pirmadienį birželio 14 dieną\, 18 val. prie lietuvių koplytstulpio\, esančio Grotto parke. Padainuosime tremtinių dainas\, pasidalinsime istorijomis.\nhttp://www.vydija.lt/…/gedulo_ir_vilties_Vilucko.htm\nhttp://www.bernardinai.lt/…/2011-06-13-laisves…/64051
URL:https://vakaruvejai.com/renginys/gedulo-ir-vilties-bei-okupacijos-dienos-minejimas-grotto-parkas-portlandas/
LOCATION:The Grotto Portland\, 8840 NE Skidmore\, Portland\, OR\, 97220\, United States
CATEGORIES:Lietuviški renginiai,Portlandas
ATTACH;FMTTYPE=image/jpeg:https://vakaruvejai.com/wp-content/uploads/2021/05/185807525_10159152006837970_8103095042918287870_n.jpg
END:VEVENT
BEGIN:VEVENT
DTSTART;TZID=America/Los_Angeles:20210126T000000
DTEND;TZID=America/Los_Angeles:20210126T010000
DTSTAMP:20260423T160238
CREATED:20210123T181937Z
LAST-MODIFIED:20210123T181937Z
UID:14840-1611619200-1611622800@vakaruvejai.com
SUMMARY:"Stiprybės semiuosi iš Lietuvos". Virtualus renginys Marijos Gimbutienės 100-mečiui paminėti
DESCRIPTION:Sausio 26 d. 12:00am (Los Andželo laiku) Lietuvos Respublikos Prezidento rūmuose vyks virtuali konferencija „Stiprybės semiuosi iš Lietuvos“\, skirta ilgą laiką Los Andžele gyvenusios ir dirbusios iškilios archeologės Marijos Gimbutienės šimtmečiui. Konferencijos įrašą bus galima rasti LRT mediatekoje.\nKaras ir kitos objektyvios aplinkybės privertė M. Gimbutienę išvykti iš Lietuvos. Būdama toli nuo gimtinės\, M. Gimbutienė mintimis ir moksliniais darbais artėjo prie Tėvynės: gilinosi į senąją lietuvių kultūrą\, mitologiją\, tautosaką\, toliau studijavo archeologiją\, etnologiją ir religijų istoriją.\n2021-ieji Lietuvos Respublikos Seimo bei UNESCO sprendimu paskelbti M. Gimbutienės metais.
URL:https://vakaruvejai.com/renginys/stiprybes-semiuosi-is-lietuvos-virtualus-renginys-marijos-gimbutienes-100-meciui-pamineti/
LOCATION:Virtualus renginys
CATEGORIES:Arizona,Hawaii,Lietuviški renginiai,Los Andželas,Nevada,Portlandas,San Diego,San Franciskas,Seattle,Virtualus renginys
ATTACH;FMTTYPE=image/png:https://vakaruvejai.com/wp-content/uploads/2021/01/141087854_1856883447782937_1226231251855033043_o.png
END:VEVENT
BEGIN:VEVENT
DTSTART;TZID=America/Los_Angeles:20200306T170000
DTEND;TZID=America/Los_Angeles:20200306T200000
DTSTAMP:20260423T160238
CREATED:20200218T061843Z
LAST-MODIFIED:20200220T154332Z
UID:11431-1583514000-1583524800@vakaruvejai.com
SUMMARY:Lithuanian Independance Day celebration with Roslyn Lithuanians\, WA
DESCRIPTION:Mieli Portlando ir Seattlo bendruomės nariai\, \nNorime pakviesti Jus\, į Portlando ir Roslyno lietuvių organizuojamą Lietuvos Respublikos Nepriklausomybės atkūrimo dienos minėjimą. \nPrograma:\n– Atidarymas – Lietuvos ir JAV himnų giedojimas\n– Sveikinimo žodžiai\n– Prelegentas: Vidmantas Valiušaitis – Lietuvos filologas\, žurnalistas\, publicistas\, politikos ir kultūros apžvalgininkas\, redaktorius ir visuomenės veikėjas. \nVaišės suneštinės\, prašome atsinešti savo megstamus gėrimus. \n**********\nDear Portland and Seattle community members\, \nWe would like to invite you to join Roslyn Lithuanians to celebrate Lithuanian Independence Day. \nProgram: \n– Opening with singing go the National Anthems of Lithuania and USA\n– Greetings\n– Keynote speaker: Vidmantas Valiušaitis – Lithuanian philologist\, journalist\, publicist\, political and cultural reviewer\, editor and public figure. \nCommunity potluck\, bring a main dish and dessert. Bring your own favorite drinks.
URL:https://vakaruvejai.com/renginys/lithuanian-independance-day-celebration-with-roslyn-lithuanians/
LOCATION:304 N 2nd St\, Roslyn\, WA 98941-5813\, United States\, 304 N 2nd St\, Roslyn\, WA\, 98941\, Jungtinės Amerikos Valstijos
CATEGORIES:Lietuviški renginiai,Portlandas,Seattle
ATTACH;FMTTYPE=image/jpeg:https://vakaruvejai.com/wp-content/uploads/2020/02/Portland.jpg
END:VEVENT
BEGIN:VEVENT
DTSTART;TZID=America/Los_Angeles:20200229T170000
DTEND;TZID=America/Los_Angeles:20200229T200000
DTSTAMP:20260423T160238
CREATED:20200113T082036Z
LAST-MODIFIED:20200218T064539Z
UID:10895-1582995600-1583006400@vakaruvejai.com
SUMMARY:Lietuvos Nepriklausomybės Šventė/Lithuanian Independence Day\, Portland\, OR
DESCRIPTION:Maloniai pranešame\, kad švęsime Lietuvos Respublikos Nepriklausomybės minėjimą\nskirtą vasario 16 d. ir kovo 11 d. įvykiams atminti. \nMinėjimo PROGRAMA:\n– Atidarymas – LIETUVOS IR JAV HIMNŲ GIEDOJIMAS\n– Garbės svečių sveikinimo žodžiai\n– Prelegentas: VIDMANTAS VALIUŠAITIS\, Lietuvos filologas\, žurnalistas\, publicistas\, politikos ir kultūros apžvalgininkas\, redaktorius ir visuomenės veikėjas. \nLinksmosios dalies programa:\n– Portlando šokių grupė „Aitvaras”\n– Portlando lituanistinė mokykla „Atžalynas”\n– Seattle bendruomenės choras „Vakarai”. \nSuneštinės vaišės:\nPrašome\, atsineškite pagrindinį patiekalą ir desertą. Kava\, arbata ir nealkoholiniai gėrimai bus pateikti. Jei pageidaujate\, atsineškite savo vyną\, alų ar/ir pan. \nAukos bendruomenei:\nMūsų bendruomenės gyvybingumas paremtas Jūsų aktyviu dalyvavimu bei dosniomis aukomis! \nŠventės metu rinksime JAV Lietuvių bendruomenės metinį solidarumo įnašą bei aukas Portlando ir JAV bendruomenėms. Šie įnašai padeda išlaikyti Portlando apylinkės\, kuri apima Oregono ir Pietvakarių Vašingtono lietuvius\, veiklą ir taipogi prisideda prie JAV Lietuvių bendruomenės skatinimo. Surinktos lėšos suteikia galimybę organizuoti renginius\, nuomotis patalpas bei padengti išlaidas susijusias su bendruomenės veikla. Tad esame labai dėkingi už Jūsų dosnumą! \nJei šventėje nedalyvausite\, savo įnašus galite siųsti per PayPal http://paypal@portlandlithuanians.com arba paštu Portland LAC\, c/o Inga Kozhevnikov adresu: 3744 NW 19th Cir\, Camas\, WA 98607. \nSOLIDARUMO ĮNAŠAS\n$20 / žmogui (18+) \nJei turite klausimų ar pasiūlymų\, prašome kreipkitės info@portlandlithuanians.com arba tel: (360) 904-4032. \nJAV Lietuvių Bendruomenės Portlando apylinkės valdyba \n******** \nLithuanian Independence Day Celebration \nPlease\, mark your calendars for the Lithuanian Independence Day Celebration. \nPROGRAM:\n– Opening with singing of the National Anthems of Lithuania and USA\n– Greetings\n– Keynote speaker: VIDMANTAS VALIUŠAITIS\, Lithuanian philologist\, journalist\, publicist\, political and cultural reviewer\, editor and public figure.\n– Portland Lithuanian dance group „Aitvaras”\n– Portland Lithuanian heritage school „Atžalynas”\n– Seattle Lithuanian community choir „Vakarai”. \nCommunity Potluck:\nPlease\, bring a main dish and dessert. Coffee\, tea and non-alcoholic beverages will be provided. Feel free to BYO wine and beer if desired. \nDonations:\nThe existence of our community relies on your active participation and your generous donations! \nDuring the celebration we will be collecting annual Lithuanian-American Community (LAC\, Inc.) solidarity dues. Your contributions help keep the LAC Portland chapter (which covers Oregon and Northwest Washington Lithuanians) alive and also help support the LAC\, Inc. The funds enable us to organize events and gatherings\, rent space and cover any other community related expenses. We truly appreciate your generosity! \nIf you are unable to attend the event please consider sending your donation via PayPal http://paypal@portlandlithuanians.com or by mail to the community treasurer Inga Kozhevnikov\, address: 3744 NW 19th Cir\, Camas\, WA 98607. Please\, make the checks payable to Portland LAC. \nSOLIDARITY DUES\n$20 / adult (18+) \nIf you have any questions please feel free to contact us at info@portlandlithuanians.com or (360) 904-4032 \nLAC Portland Chapter Board
URL:https://vakaruvejai.com/renginys/lietuvos-nepriklausomybes-svente-lithuanian-independence-day/
LOCATION:pin 	 5500 SW Dosch Rd\, Portland\, OR 97239-1151\, 5500 SW Dosch Rd\,\, Portland\, OR\, 97239-1151\, United States
CATEGORIES:Lietuviški renginiai,Portlandas
ATTACH;FMTTYPE=image/jpeg:https://vakaruvejai.com/wp-content/uploads/2020/01/Vasario16.jpg
END:VEVENT
END:VCALENDAR