BEGIN:VCALENDAR
VERSION:2.0
PRODID:-//Vakarų Vėjai - ECPv6.15.3//NONSGML v1.0//EN
CALSCALE:GREGORIAN
METHOD:PUBLISH
X-WR-CALNAME:Vakarų Vėjai
X-ORIGINAL-URL:https://vakaruvejai.com
X-WR-CALDESC:Vakarų Vėjai renginiai
REFRESH-INTERVAL;VALUE=DURATION:PT1H
X-Robots-Tag:noindex
X-PUBLISHED-TTL:PT1H
BEGIN:VTIMEZONE
TZID:America/Los_Angeles
BEGIN:DAYLIGHT
TZOFFSETFROM:-0800
TZOFFSETTO:-0700
TZNAME:PDT
DTSTART:20230312T100000
END:DAYLIGHT
BEGIN:STANDARD
TZOFFSETFROM:-0700
TZOFFSETTO:-0800
TZNAME:PST
DTSTART:20231105T090000
END:STANDARD
BEGIN:DAYLIGHT
TZOFFSETFROM:-0800
TZOFFSETTO:-0700
TZNAME:PDT
DTSTART:20240310T100000
END:DAYLIGHT
BEGIN:STANDARD
TZOFFSETFROM:-0700
TZOFFSETTO:-0800
TZNAME:PST
DTSTART:20241103T090000
END:STANDARD
BEGIN:DAYLIGHT
TZOFFSETFROM:-0800
TZOFFSETTO:-0700
TZNAME:PDT
DTSTART:20250309T100000
END:DAYLIGHT
BEGIN:STANDARD
TZOFFSETFROM:-0700
TZOFFSETTO:-0800
TZNAME:PST
DTSTART:20251102T090000
END:STANDARD
END:VTIMEZONE
BEGIN:VEVENT
DTSTART;TZID=America/Los_Angeles:20250517T103000
DTEND;TZID=America/Los_Angeles:20250517T123000
DTSTAMP:20260423T125958
CREATED:20250510T064537Z
LAST-MODIFIED:20250510T064537Z
UID:29067-1747477800-1747485000@vakaruvejai.com
SUMMARY:Mokslo metų užbaigimo ir abiturientų pagerbimo šventė\, Los Andželas
DESCRIPTION:Gerbiami Los Angeles Šv. Kazimiero Lituanistinės Mokyklos abiturientų tėveliai ir svečiai\, \nMokyklos 75-ais jubiliejiniais mokslo metais 2024-2025 į mokyklą užsiregistravo 110 mokinių. Dirbo 24 mokytojos ir talkininkės bei talkininkai. Tai gražus įrodymas\, kad tėvams\, mokiniams ir mokytojoms lietuviškas švietimas užima svarbią vietą jų gyvenime. \nMokyklos dvylikos metų programą baigia šie abiturientai: \nLinas Čelkis\, Dovis Gailiūnas\, Kamilė Klimauskaitė\, Breka Petrulytė ir Aleksas Reivydas. Didžiuojamės jų ištverme ir meile lietuviškam žodžiui\, ir dėkojame jų mokytojoms Nidai Gedgaudaitei ir Vėjūnei Baltrušaitytei už mokslą ir globą. Dėkojame tėveliams už tautišką sąmoningumą\, bei mokyklos tradicijų palaikymą. \nMaloniai kvieęiame Jus į 2024-2025 mokslo metų užbaigimą ir abiturientų pagerbimą. Mokyklos užbaigimo apeigos\, mokytojų ir visų klasių mokinių pagerbimas\, abiturientų išleistuvės ir atestatų įteikimas vyks Šv. Kazimiero parapijos salėje šeštadienį\, gegužės 17 d. \nVėliavų pakėlimas – 9:00 val. \nŠv. Mišios – 9:15 val. \nAkademinė dalis – 10:30 val. \nPo programos bus galima nusipirkti karštus pietus. \nSavo dalyvavimu pagerbsite musų jaunimą! \nMarytė S. Newsom\, mokytojos\, mokytojai ir Tėvų Komitetas.
URL:https://vakaruvejai.com/renginys/mokslo-metu-uzbaigimo-ir-abiturientu-pagerbimo-svente-los-andzelas/
LOCATION:Los Angeles Šv. Kazimiero lituanistinė mokykla\, 2714 St. George St.\, Los Angeles\, CA\, 90027
CATEGORIES:Lietuviški renginiai,Los Andželas
ATTACH;FMTTYPE=image/jpeg:https://vakaruvejai.com/wp-content/uploads/2025/05/IMG_2650.jpg
END:VEVENT
BEGIN:VEVENT
DTSTART;TZID=America/Los_Angeles:20250329T103000
DTEND;TZID=America/Los_Angeles:20250329T113000
DTSTAMP:20260423T125958
CREATED:20250315T060142Z
LAST-MODIFIED:20250315T060142Z
UID:28654-1743244200-1743247800@vakaruvejai.com
SUMMARY:Šv. Kazimiero mokyklos 75-ojo gimtadieno progos Sporto šventė\, Los Andželas
DESCRIPTION:Kviečiame visus\, mažus ir didelius į Šv. Kazimiero mokyklos 75-ojo gimtadieno progos Sporto šventę. Smagūs žaidimai\, prizai\, skanumynai ir gera nuotaika lauks jūsų visų. \nTėveliai kviečiami į žiūrovų ir teisėjų pareigas.
URL:https://vakaruvejai.com/renginys/sv-kazimiero-mokyklos-75-ojo-gimtadieno-progos-sporto-svente-los-andzelas/
LOCATION:Los Angeles Šv. Kazimiero lituanistinė mokykla\, 2714 St. George St.\, Los Angeles\, CA\, 90027
CATEGORIES:Lietuviški renginiai,Los Andželas
ATTACH;FMTTYPE=image/png:https://vakaruvejai.com/wp-content/uploads/2025/03/image-6.png
END:VEVENT
BEGIN:VEVENT
DTSTART;TZID=America/Los_Angeles:20240518T090000
DTEND;TZID=America/Los_Angeles:20240518T130000
DTSTAMP:20260423T125958
CREATED:20240503T013248Z
LAST-MODIFIED:20240503T013248Z
UID:26631-1716022800-1716037200@vakaruvejai.com
SUMMARY:Mokslo metų užbaigimas ir abiturientų atestatų įteikimas\, Los Andželas
DESCRIPTION:Gerbiami Los Angeles Šv. Kazimiero Lituanistinės Mokyklos abiturientų tėveliai ir svečiai\, \n2023-2024 mokslo metais į mokyklą užsiregistravo 110 mokinių. Dirbo 25 mokytojos ir talkininkės bei talkininkai. Tai gražus įrodymas\, kad tėvams\, mokiniams ir mokytojoms lietuviškas švietimas užima svarbią vietą jų gyvenime. \nMokyklos dvylikos metų programą baigia šie abiturientai: \n\nMaya Donovich;\nVincentas Gedgaudas;\nLukas Greblikas;\nNida Jakeliūnaitė;\nEmili Kedytė;\nGreta Perevičiūtė;\nErikas Puodžiūnas;\nCamile Casper;\nEmilia Venckutė.\n\nDidžiuojamės jų ištverme ir meile lietuviškam žodžiui ir dėkojame jų mokytojai Vitalijai Virbukienei už mokslą ir globą. Dėkojame tėveliams už tautišką sąmoningumą bei mokyklos tradicijų palaikymą. \nMaloniai Jus kviečiame į 2023-2024 mokslo metų užbaigimą ir abiturientų pagerbimą. \nMokyklos užbaigimo apeigos\, mokytojų ir visų klasių mokinių pagerbimas\, abiturientų išleistuvės ir atestatų įteikimas vyks Šv. Kazimiero parapijos patalpose šeštadienį\, gegužės 18d. pradedant šv. Mišiomis 9 val. ryto. Akademinė dalis 10:30 val. \nPo programos bus galima nusipirkti karštus pietus. \nPagerbkime mūsų jaunimą! \nMarytė S. Newsom ir Tėvų Komitetas
URL:https://vakaruvejai.com/renginys/mokslo-metu-uzbaigimas-ir-abiturientu-atestatu-iteikimas-los-andzelas/
LOCATION:Los Angeles Šv. Kazimiero lituanistinė mokykla\, 2714 St. George St.\, Los Angeles\, CA\, 90027
CATEGORIES:Lietuviški renginiai,Los Andželas
ATTACH;FMTTYPE=image/jpeg:https://vakaruvejai.com/wp-content/uploads/2024/05/baigimas-2024.jpg
END:VEVENT
BEGIN:VEVENT
DTSTART;TZID=America/Los_Angeles:20230506T113000
DTEND;TZID=America/Los_Angeles:20230506T123000
DTSTAMP:20260423T125958
CREATED:20230505T183816Z
LAST-MODIFIED:20230506T183104Z
UID:24380-1683372600-1683376200@vakaruvejai.com
SUMMARY:Mamyčių ir tėvelių dienos minėjimas\, Los Andželas
DESCRIPTION:Kviečiame mamytes/močiutes ir tėvelius/senelius į minėjimą\, kuris įvyks Los Angeles Šv. Kazimiero lituanistinėje mokykloje 11:30 val.ryto viršutinėje salėj. Prisidedant prie šventės temos\, kviečiame mamytes ir močiutes pasipuošti suknelėmis.
URL:https://vakaruvejai.com/renginys/mamyciu-ir-teveliu-dienos-minejimas-los-andzelas/
LOCATION:Los Angeles Šv. Kazimiero lituanistinė mokykla\, 2714 St. George St.\, Los Angeles\, CA\, 90027
CATEGORIES:Lietuviški renginiai,Los Andželas
ATTACH;FMTTYPE=image/png:https://vakaruvejai.com/wp-content/uploads/2023/05/Teveliu-Svente.png
END:VEVENT
END:VCALENDAR