BEGIN:VCALENDAR
VERSION:2.0
PRODID:-//Vakarų Vėjai - ECPv6.15.3//NONSGML v1.0//EN
CALSCALE:GREGORIAN
METHOD:PUBLISH
X-WR-CALNAME:Vakarų Vėjai
X-ORIGINAL-URL:https://vakaruvejai.com
X-WR-CALDESC:Vakarų Vėjai renginiai
REFRESH-INTERVAL;VALUE=DURATION:PT1H
X-Robots-Tag:noindex
X-PUBLISHED-TTL:PT1H
BEGIN:VTIMEZONE
TZID:America/Los_Angeles
BEGIN:DAYLIGHT
TZOFFSETFROM:-0800
TZOFFSETTO:-0700
TZNAME:PDT
DTSTART:20230312T100000
END:DAYLIGHT
BEGIN:STANDARD
TZOFFSETFROM:-0700
TZOFFSETTO:-0800
TZNAME:PST
DTSTART:20231105T090000
END:STANDARD
END:VTIMEZONE
BEGIN:VEVENT
DTSTART;VALUE=DATE:20230422
DTEND;VALUE=DATE:20230605
DTSTAMP:20260423T161906
CREATED:20230421T175429Z
LAST-MODIFIED:20230421T175552Z
UID:24273-1682121600-1685923199@vakaruvejai.com
SUMMARY:Moraga meno galerijoje viena pagrindinių autorių - lietuvė\, San Franciskas
DESCRIPTION:Moraga Art Gallery vyksta „Pavasario paroda 2023“\, kurios viena pagrindinių autorių – lietuvė Danguolė Rita Kuolas.\n\n\n\nDanguolė Rita gimė ir mokslus baigė Čikagoje\, Mundelein kolegijoje įgijo menų bakalauro laipsnį. Ji yra Kalifornijos\, Los Andželo ir Bostono profesinių grafikos draugijų narė\, priklauso parodą surengusios Moraga Art Gallery dailininkų kolektyvui.\n\n\n\nAsmeninės menininkės grafikos parodos vyko Čiurlionio galerijoje Čikagoje (2009) \, Lietuvos ambasadoje Vašingtone (2013)\, V.K. Jonyno galerijoje Druskininkuose (2011) ir kitur.\n\n\n\nKviečiame nepraleisti progos ir pamatyti Danguolės Ritos Kuolas darbus Moraga meno galerijoje! Paroda veikia iki birželio 4 d.\, o balandžio 22 d. 15-17 val. parodos rengėjai kviečia visus į oficialų parodos atidarymą.
URL:https://vakaruvejai.com/renginys/moraga-meno-galerijoje-viena-pagrindiniu-autoriu-lietuve-san-franciskas/
LOCATION:Moraga Art Gallery\, 432 Center St.\, Moraga\, CA\, 94556
CATEGORIES:San Franciskas
ATTACH;FMTTYPE=image/jpeg:https://vakaruvejai.com/wp-content/uploads/2023/04/342159466_1186044858778502_4195587782924429361_n.jpeg
END:VEVENT
END:VCALENDAR