BEGIN:VCALENDAR
VERSION:2.0
PRODID:-//Vakarų Vėjai - ECPv6.15.3//NONSGML v1.0//EN
CALSCALE:GREGORIAN
METHOD:PUBLISH
X-WR-CALNAME:Vakarų Vėjai
X-ORIGINAL-URL:https://vakaruvejai.com
X-WR-CALDESC:Vakarų Vėjai renginiai
REFRESH-INTERVAL;VALUE=DURATION:PT1H
X-Robots-Tag:noindex
X-PUBLISHED-TTL:PT1H
BEGIN:VTIMEZONE
TZID:America/Los_Angeles
BEGIN:DAYLIGHT
TZOFFSETFROM:-0800
TZOFFSETTO:-0700
TZNAME:PDT
DTSTART:20250309T100000
END:DAYLIGHT
BEGIN:STANDARD
TZOFFSETFROM:-0700
TZOFFSETTO:-0800
TZNAME:PST
DTSTART:20251102T090000
END:STANDARD
END:VTIMEZONE
BEGIN:VEVENT
DTSTART;TZID=America/Los_Angeles:20250301T110000
DTEND;TZID=America/Los_Angeles:20250301T150000
DTSTAMP:20260423T174541
CREATED:20250215T180059Z
LAST-MODIFIED:20250215T180059Z
UID:28462-1740826800-1740841200@vakaruvejai.com
SUMMARY:Užgavėnės 2025\, Sietlas\, WA
DESCRIPTION:LT  \nAteikite švęsti šios tradicinės lietuviškos šventės su kaukėmis\, kostiumais\, žaidimais ir gardžiais blynais! Mėgaukitės linksmybėmis ir stebėkite simbolinę kovą tarp Lašininio\, atstovaujančio žiemą\, ir Kanapinio\, simbolizuojančio pavasarį. Šventės kulminacija – Morės deginimas ant jūros kranto\, kad atsisveikintume su žiema ir pasveikintume atbundančią gamtą. \nPrašome atsinešti bendram stalui skirtą patiekalą. \nDauguma šventės veiklų vyks paplūdimyje\, todėl pasirūpinkite šiltais drabužiais ir gera nuotaika. Lauksime jūsų! \nEN \nWe invite you to take part in this cherished Lithuanian tradition filled with joy\, laughter\, and community spirit. Come dressed in masks and costumes\, enjoy traditional games\, and indulge in delicious pancakes as we welcome the changing of the seasons. Witness the entertaining battle between Lašininis (the Porky One) and Kanapinis (the Hemp One)—a symbolic fight between winter and spring—culminating in the burning of Morė\, a ritual to drive away the cold and welcome renewal. \nPlease bring a potluck dish to share. \nMost of the festivities will take place on the beach\, so dress warmly and be ready for a fun-filled afternoon by the water. \nWe look forward to celebrating with you!
URL:https://vakaruvejai.com/renginys/uzgavenes-2025-sietlas-wa/
LOCATION:19829 Indianola Rd NE\, Indianola\, WA 98342
CATEGORIES:Lietuviški renginiai,Seattle
ATTACH;FMTTYPE=image/jpeg:https://vakaruvejai.com/wp-content/uploads/2025/02/478132674_1118131673441225_7638866133857579466_n.jpeg
END:VEVENT
END:VCALENDAR