BEGIN:VCALENDAR
VERSION:2.0
PRODID:-//Vakarų Vėjai - ECPv6.15.3//NONSGML v1.0//EN
CALSCALE:GREGORIAN
METHOD:PUBLISH
X-WR-CALNAME:Vakarų Vėjai
X-ORIGINAL-URL:https://vakaruvejai.com
X-WR-CALDESC:Vakarų Vėjai renginiai
REFRESH-INTERVAL;VALUE=DURATION:PT1H
X-Robots-Tag:noindex
X-PUBLISHED-TTL:PT1H
BEGIN:VTIMEZONE
TZID:America/Los_Angeles
BEGIN:DAYLIGHT
TZOFFSETFROM:-0800
TZOFFSETTO:-0700
TZNAME:PDT
DTSTART:20200308T100000
END:DAYLIGHT
BEGIN:STANDARD
TZOFFSETFROM:-0700
TZOFFSETTO:-0800
TZNAME:PST
DTSTART:20201101T090000
END:STANDARD
BEGIN:DAYLIGHT
TZOFFSETFROM:-0800
TZOFFSETTO:-0700
TZNAME:PDT
DTSTART:20210314T100000
END:DAYLIGHT
BEGIN:STANDARD
TZOFFSETFROM:-0700
TZOFFSETTO:-0800
TZNAME:PST
DTSTART:20211107T090000
END:STANDARD
BEGIN:DAYLIGHT
TZOFFSETFROM:-0800
TZOFFSETTO:-0700
TZNAME:PDT
DTSTART:20220313T100000
END:DAYLIGHT
BEGIN:STANDARD
TZOFFSETFROM:-0700
TZOFFSETTO:-0800
TZNAME:PST
DTSTART:20221106T090000
END:STANDARD
BEGIN:DAYLIGHT
TZOFFSETFROM:-0800
TZOFFSETTO:-0700
TZNAME:PDT
DTSTART:20230312T100000
END:DAYLIGHT
BEGIN:STANDARD
TZOFFSETFROM:-0700
TZOFFSETTO:-0800
TZNAME:PST
DTSTART:20231105T090000
END:STANDARD
BEGIN:DAYLIGHT
TZOFFSETFROM:-0800
TZOFFSETTO:-0700
TZNAME:PDT
DTSTART:20240310T100000
END:DAYLIGHT
BEGIN:STANDARD
TZOFFSETFROM:-0700
TZOFFSETTO:-0800
TZNAME:PST
DTSTART:20241103T090000
END:STANDARD
BEGIN:DAYLIGHT
TZOFFSETFROM:-0800
TZOFFSETTO:-0700
TZNAME:PDT
DTSTART:20250309T100000
END:DAYLIGHT
BEGIN:STANDARD
TZOFFSETFROM:-0700
TZOFFSETTO:-0800
TZNAME:PST
DTSTART:20251102T090000
END:STANDARD
END:VTIMEZONE
BEGIN:VEVENT
DTSTART;TZID=America/Los_Angeles:20250503T110000
DTEND;TZID=America/Los_Angeles:20250503T120000
DTSTAMP:20260423T143915
CREATED:20250425T045139Z
LAST-MODIFIED:20250426T134632Z
UID:28942-1746270000-1746273600@vakaruvejai.com
SUMMARY:Lino lituanistinės mokyklos Mamos dienos šventė visai šeimai ir bendruomenės draugams\, Sietlas\, WA
DESCRIPTION:LT \nMokykla nuoširdžiai kviečia bendruomenės narius – vaikus\, mamas\, tėčius\, šeimas – švęsti Motinos dieną su programa\, kurioje bus ir vaikų talentų šou. Ar jūsų vaikas gali deklamuoti eilėraštį\, dainuoti\, šokti\, ruošti maistą ar pasakoti anekdotus? Susisiekite su mokykla adresu: mokyklalinas@gmail.com ir suderinkite jų dalyvavimą parodoje. Kurkime šią šventę kartu! \nEN \nThe school warmly invites community members — kids\, moms\, dads\, families — to celebrate Mother’s Day with a program that will include a kids’ talent show. Can your child recite a poem\, sing\, dance\, prepare food\, or tell jokes?  Contact the school at  mokyklalinas@gmail.com to coordinate their participation in the show.  Let’s create this festive celebration together!
URL:https://vakaruvejai.com/renginys/linas-lithuanian-school-mothers-day-celebration-for-family-and-community-friends-sietlas-wa/
LOCATION:Lino Lituanistinė mokykla\, 17839 Aurora Ave N\, Seattle\, WA\, 98133
CATEGORIES:Lietuviški renginiai,Seattle
ATTACH;FMTTYPE=image/jpeg:https://vakaruvejai.com/wp-content/uploads/2025/04/geles-mamai-sveikinimai.jpeg
END:VEVENT
BEGIN:VEVENT
DTSTART;TZID=America/Los_Angeles:20240512T173000
DTEND;TZID=America/Los_Angeles:20240512T210000
DTSTAMP:20260423T143915
CREATED:20240420T022407Z
LAST-MODIFIED:20240420T022407Z
UID:26556-1715535000-1715547600@vakaruvejai.com
SUMMARY:Nijolės Narmontaitės kūrybinis vakaras "Apie meilę - rimtai ir žaismingai"\, San Franciskas
DESCRIPTION:Kviečiame Motinos dienos proga į kūryba ir meile pulsuojantį vakarą.\n\nNijolė Narmontaitė yra Lietuvos teatro ir kino aktorė\, suvaidinusi daugybę įsimintinų vaidmenų teatre ir kine\, rašytoja\, rašanti knygas\, graibstomas Lietuvoje ir už jos ribų. Švytinti talentu\, charizma\, išoriniu ir vidiniu grožiu. Žiūrovus akimirksniu verčianti atsidavusiais gerbėjais. Mokanti sutelkti\, sugraudinti\, bet dar sėkmingiau žaibiškai priverčianti kvatotis iki ašarų. Tai tik maža dalis priežasčių\, kodėl verta atvykti į Nijolės Narmontaitės turo po JAV kūrybinį vakarą „Apie Meilę – rimtai ir žaismingai”. Juk esmė visada ten – Meilėje…\n\nGegužės 12 d.\, sekmadienis\n5:30 pm – atidaromos durys6.30 pm – programos pradžia8.00 pm – susitikimas ir diskusija su Nijole\n\nFoster City Community Center1000 E. Hillsdale Blvd.ANTRAS AUKŠTASFoster City\, CA 94404\n\nBilietų kaina:$45$40 – sumokėjusiems Solidarumo narysrės mokestį už 2024 m.https://checkout.square.site/…/D4B5CMQXRIGQ4ALKLCX3VGHF\nSolidarumo narysrės mokestis:https://sflithuanians.com/metinis-narystes-mokestis\n\nAčiū renginio remėjams:Lietuvių fonduiJAV Lietuvių bendruomenės Kultūros Tarybai
URL:https://vakaruvejai.com/renginys/nijoles-narmontaites-kurybinis-vakaras-apie-meile-rimtai-ir-zaismingai-san-franciskas/
LOCATION:Foster City Community Center\, 1000 E. Hillsdale Blvd.\, Foster City\, CA\, 94404
CATEGORIES:Lietuviški renginiai,San Franciskas
ATTACH;FMTTYPE=image/jpeg:https://vakaruvejai.com/wp-content/uploads/2024/04/437135749_423107157032756_4019486069672211040_n.jpeg
END:VEVENT
BEGIN:VEVENT
DTSTART;TZID=America/Los_Angeles:20240504T120000
DTEND;TZID=America/Los_Angeles:20240504T130000
DTSTAMP:20260423T143915
CREATED:20240504T081542Z
LAST-MODIFIED:20240504T081542Z
UID:26755-1714824000-1714827600@vakaruvejai.com
SUMMARY:Los Angeles Šv. Kazimiero mokyklos mamyčių\, tėvelių ir globėjų šventė\, Los Andželas
DESCRIPTION:
URL:https://vakaruvejai.com/renginys/los-angeles-sv-kazimiero-mokyklos-mamyciu-teveliu-ir-globeju-svente-los-andzelas/
LOCATION:Los Angeles Šv. Kazimiero lituanistinė mokykla\, 2714 St. George St.\, Los Angeles\, CA\, 90027
CATEGORIES:Lietuviški renginiai,Los Andželas
ATTACH;FMTTYPE=image/png:https://vakaruvejai.com/wp-content/uploads/2024/05/Royal-Purple-Pink-Floral-Watercolor-Mothers-Day-Event-Poster-1.png
END:VEVENT
BEGIN:VEVENT
DTSTART;TZID=America/Los_Angeles:20240504T110000
DTEND;TZID=America/Los_Angeles:20240504T130000
DTSTAMP:20260423T143915
CREATED:20240504T061814Z
LAST-MODIFIED:20240504T062232Z
UID:26744-1714820400-1714827600@vakaruvejai.com
SUMMARY:Mamos Dienos šventė/Mother's Day celebration\, Shoreline\, WA
DESCRIPTION:LT \nLino lituanistinė mokykla kviečia bendruomenės šeimas į Mamos dienos šventę. \nŠventė vyks gegužės 4 d. 11 val. Lino lituanistinėje mokykloje (17839 Aurora Ave N\, Shoreline\, WA 98133). \nDrauge su mokyklėlės mokiniais dainuosime ir šoksime\, džiuginsime mamytes šiltu dėmesiu. Jei vaikai nori savo mylimoms mamytėms padeklamuoti eilėraštį\, padainuoti\, pagroti ar kt.\, turės puikią progą tai padaryti šventės metu. \nDėl detalių prašome susisiekite su mumis (mokyklalinas@gmail.com). Ateikite visa šeima\, atsineškite lengvą užkandį ir švęskime Mamos šventę drauge. \nEN \nLinas Lithuanian School invites community families to join us for a special Mother’s Day celebration! \nThe event will take place on May 4th at 11 a.m. at Linas Lithuanian School (17839 Aurora Ave N\, Shoreline\, WA 98133). \nLet’s sing\, dance\, and shower our moms with love and attention! Children can recite poems\, sing\, play music\, or anything else to make their moms feel special during the celebration. \nFor details\, please contact us at mokyklalinas@gmail.com. Bring your whole family\, a light snack\, and let’s celebrate Mother’s Day together!
URL:https://vakaruvejai.com/renginys/mamos-dienos-svente-mothers-day-celebration-shoreline-wa/
LOCATION:Lino Lituanistinė mokykla\, 17839 Aurora Ave N\, Seattle\, WA\, 98133
CATEGORIES:Lietuviški renginiai,Seattle
ATTACH;FMTTYPE=image/jpeg:https://vakaruvejai.com/wp-content/uploads/2024/05/440578200_924833996104328_8187739327966423244_n.jpeg
END:VEVENT
BEGIN:VEVENT
DTSTART;TZID=America/Los_Angeles:20230506T130000
DTEND;TZID=America/Los_Angeles:20230506T140000
DTSTAMP:20260423T143915
CREATED:20230505T233443Z
LAST-MODIFIED:20230505T233443Z
UID:24402-1683378000-1683381600@vakaruvejai.com
SUMMARY:Mamyčių diena San Francisko "Genio" lituanistinėje mokykloje\, San Franciskas
DESCRIPTION:LT\n\nVisas SF Genio Mamytes kviečiame šį šeštadienį\, gegužės 6d. 1:00 val ateiti į mokyklos salę.\nMūsų mokiniai – jūsų vaikai – jums turi siurprizą \nLabai lauksim \nSu meile SF Genio Komanda\n\nEN\n\nWe invite all MOMS this Saturday (May 6th) at 1pm to come to LT School’s Event Hall for a Mother’s Day special celebration.\nOur students and your kids have prepared something special for all our SF Genys Mother’s.\nXOXOXO\nSF Genys School
URL:https://vakaruvejai.com/renginys/mamyciu-diena-san-francisko-genio-lituanistineje-mokykloje-san-franciskas/
LOCATION:Lituanistinė mokykla „Genys”\, 778 26th Ave\, San Francisco\, CA\, 94121-3614\, United States
CATEGORIES:Lietuviški renginiai,San Franciskas
ATTACH;FMTTYPE=image/jpeg:https://vakaruvejai.com/wp-content/uploads/2023/05/344725659_2157917131045590_2862246716140673969_n.jpeg
END:VEVENT
BEGIN:VEVENT
DTSTART;TZID=America/Los_Angeles:20230506T113000
DTEND;TZID=America/Los_Angeles:20230506T123000
DTSTAMP:20260423T143915
CREATED:20230505T183816Z
LAST-MODIFIED:20230506T183104Z
UID:24380-1683372600-1683376200@vakaruvejai.com
SUMMARY:Mamyčių ir tėvelių dienos minėjimas\, Los Andželas
DESCRIPTION:Kviečiame mamytes/močiutes ir tėvelius/senelius į minėjimą\, kuris įvyks Los Angeles Šv. Kazimiero lituanistinėje mokykloje 11:30 val.ryto viršutinėje salėj. Prisidedant prie šventės temos\, kviečiame mamytes ir močiutes pasipuošti suknelėmis.
URL:https://vakaruvejai.com/renginys/mamyciu-ir-teveliu-dienos-minejimas-los-andzelas/
LOCATION:Los Angeles Šv. Kazimiero lituanistinė mokykla\, 2714 St. George St.\, Los Angeles\, CA\, 90027
CATEGORIES:Lietuviški renginiai,Los Andželas
ATTACH;FMTTYPE=image/png:https://vakaruvejai.com/wp-content/uploads/2023/05/Teveliu-Svente.png
END:VEVENT
BEGIN:VEVENT
DTSTART;VALUE=DATE:20200502
DTEND;VALUE=DATE:20200503
DTSTAMP:20260423T143915
CREATED:20200128T061001Z
LAST-MODIFIED:20200420T015657Z
UID:11142-1588377600-1588463999@vakaruvejai.com
SUMMARY:Atšaukta !!!  Motinos dienos ir tėvelių šventė šv. Kazimiero lituanistinėje mokykloje\, Los Angeles
DESCRIPTION:
URL:https://vakaruvejai.com/renginys/motinos-dienos-ir-teveliu-svente-sv-kazimiero-lituanistineje-mokykloje-los-angeles/
LOCATION:Šv. Kazimiero parapija Los Andžele\, 2718 St George St\, Los Angeles\, CA\, 90027\, United States
CATEGORIES:Lietuviški renginiai,Los Andželas
END:VEVENT
END:VCALENDAR