BEGIN:VCALENDAR
VERSION:2.0
PRODID:-//Vakarų Vėjai - ECPv6.15.3//NONSGML v1.0//EN
CALSCALE:GREGORIAN
METHOD:PUBLISH
X-ORIGINAL-URL:https://vakaruvejai.com
X-WR-CALDESC:Vakarų Vėjai renginiai
REFRESH-INTERVAL;VALUE=DURATION:PT1H
X-Robots-Tag:noindex
X-PUBLISHED-TTL:PT1H
BEGIN:VTIMEZONE
TZID:America/Los_Angeles
BEGIN:DAYLIGHT
TZOFFSETFROM:-0800
TZOFFSETTO:-0700
TZNAME:PDT
DTSTART:20200308T100000
END:DAYLIGHT
BEGIN:STANDARD
TZOFFSETFROM:-0700
TZOFFSETTO:-0800
TZNAME:PST
DTSTART:20201101T090000
END:STANDARD
BEGIN:DAYLIGHT
TZOFFSETFROM:-0800
TZOFFSETTO:-0700
TZNAME:PDT
DTSTART:20210314T100000
END:DAYLIGHT
BEGIN:STANDARD
TZOFFSETFROM:-0700
TZOFFSETTO:-0800
TZNAME:PST
DTSTART:20211107T090000
END:STANDARD
BEGIN:DAYLIGHT
TZOFFSETFROM:-0800
TZOFFSETTO:-0700
TZNAME:PDT
DTSTART:20220313T100000
END:DAYLIGHT
BEGIN:STANDARD
TZOFFSETFROM:-0700
TZOFFSETTO:-0800
TZNAME:PST
DTSTART:20221106T090000
END:STANDARD
END:VTIMEZONE
BEGIN:VEVENT
DTSTART;TZID=America/Los_Angeles:20221014T193000
DTEND;TZID=America/Los_Angeles:20221014T213000
DTSTAMP:20260423T161912
CREATED:20220909T061807Z
LAST-MODIFIED:20220909T061807Z
UID:22437-1665775800-1665783000@vakaruvejai.com
SUMMARY:Piano Concert Program\, pianists Rokas and Sonata Zubovas\, Shoreline\, WA
DESCRIPTION:Great-grandson of prominent Lithuanian painter and composer Čurlionis\, pianist and music professor Rokas Zubovas and his wife pianist Sonata Zuboviene will present their concert program „The Sounding Sea of Colors”.  Program includes three symphonic sketches „La Mer” by Debussy and symphonic poem „The Sea” by Čurlionis arranged for four-hand piano. \nRonald United Methodist Church\, 17839 Aurora Ave N\, Shoreline\, WA 98133 \nSuggested donation $20.  Reception will follow.
URL:https://vakaruvejai.com/renginys/piano-concert-program-pianists-rokas-and-sonata-zubovas-shoreline-wa/
LOCATION:Ronald United Methodist Church\, 17839 Aurora Ave.\, Shoreline\, WA\, 98133
CATEGORIES:Lietuviški renginiai,Seattle
ATTACH;FMTTYPE=image/png:https://vakaruvejai.com/wp-content/uploads/2022/09/Screen-Shot-2022-09-08-at-11.17.38-PM.png
ORGANIZER;CN="Seattle Lithuanian Community/Seattle Lietuvi%C5%B3 Bendruomen%C4%97":MAILTO:seattlelb.president@gmail.com
END:VEVENT
BEGIN:VEVENT
DTSTART;TZID=America/Los_Angeles:20210717T070000
DTEND;TZID=America/Los_Angeles:20210717T080000
DTSTAMP:20260423T161912
CREATED:20210716T092347Z
LAST-MODIFIED:20210716T092347Z
UID:17071-1626505200-1626508800@vakaruvejai.com
SUMMARY:Pasaulio lietuvių koncertas "Vienybė Težydi"\, Virtualus renginys
DESCRIPTION:Liepos 17-oji Pasaulio lietuvių Vienybės diena. Pasaulio lietuviai turi gražią tradiciją – šventinį koncertą\, kurį šiemet organizuoja Airijos lietuvių kultūros asociacija bendradarbiaudama su Pasaulio lietuvių bendruomene. \nRenginio globėjai – Seimo narė Dalia Asanavičiūtė\, Užsienio reikalų ministerija\, Airijos lietuvių bendruomenė\, Lietuvos ambasada Airijoje. \nKadangi vis dar negalime susitikti gyvai\, atstovai iš įvairių pasaulio šalių Lietuvai ir jums visiems dovanos savo kūrybą virtualiai.
URL:https://vakaruvejai.com/renginys/pasaulio-lietuviu-koncertas-vienybe-tezydi-virtualus-renginys/
LOCATION:Virtualus renginys
CATEGORIES:Arizona,Hawaii,Lietuviški renginiai,Los Andželas,Nevada,Portlandas,San Diego,San Franciskas,Seattle,Virtualus renginys
ATTACH;FMTTYPE=image/jpeg:https://vakaruvejai.com/wp-content/uploads/2021/07/IMG_7264-1.jpg
END:VEVENT
BEGIN:VEVENT
DTSTART;TZID=America/Los_Angeles:20210523T160000
DTEND;TZID=America/Los_Angeles:20210523T170000
DTSTAMP:20260423T161912
CREATED:20210519T182001Z
LAST-MODIFIED:20210519T182001Z
UID:16326-1621785600-1621789200@vakaruvejai.com
SUMMARY:Vaicekonis Spring Piano Concert\, Virtual event
DESCRIPTION:The Vaicekonis family is pleased to perform a piano concert of 20th century pop music.  You are cordially invited to attend!  Click HERE for a concert flyer which includes a link to the event.
URL:https://vakaruvejai.com/renginys/vaicekonis-spring-piano-concert-virtual-event/
LOCATION:Virtualus renginys
CATEGORIES:Arizona,Hawaii,Lietuviški renginiai,Los Andželas,Nevada,Portlandas,San Diego,San Franciskas,Seattle,Virtualus renginys
ATTACH;FMTTYPE=image/png:https://vakaruvejai.com/wp-content/uploads/2021/05/Screen-Shot-2021-05-19-at-11.10.31-AM.png
END:VEVENT
BEGIN:VEVENT
DTSTART;TZID=America/Los_Angeles:20210311T091500
DTEND;TZID=America/Los_Angeles:20210311T221500
DTSTAMP:20260423T161912
CREATED:20210311T052340Z
LAST-MODIFIED:20210311T052340Z
UID:15514-1615454100-1615500900@vakaruvejai.com
SUMMARY:Šv. Kristoforo kamerinio orkestro šventinis koncertas "MES - KARTU"
DESCRIPTION:Minint Lietuvos Nepriklausomybės atkūrimo dieną Šv. Kristoforo kamerinis orkestras iš LR Seimo rūmų pasaulio lietuviams ir Lietuvai dovanoja šventinį koncertą Mes – kartu.\n\nIdėja padovanoti muzikinę šventę viso pasaulio lietuviams kilo Šv. Kristoforo kamerinio orkestro meno vadovui ir dirigentui Modestas Barkauskas. Maestro sako: “Gyvename pandemijos sąlygomis\, kuomet kultūrinių renginių beveik neliko. Tokia situacija kelia pavojų ne tik fizinei sveikatai\, bet ir dvasinei būsenai\, todėl ypač svarbu kurti šventinę nuotaiką\, dalintis šviesa bei optimizmu. Taip gimė idėja Kovo 11-osios proga padovanoti viso pasaulio tautiečiams muzikinę šventę. Simboliška\, kad koncertas vyks Seimo rūmuose\, iš kurių\, kaip ir prieš 31 metus\, Lietuvai ir visam pasauliui transliuosime vilties žinią\, šiemet virtusią muzikos garsais”.\n\n\n\nNuoširdžiai dėkojame: \nŠv. Kristoforo Kamerinis Orkestras ir jo vadovui Modestui Barkauskui už tokią taurią ir įkvepiančią dovaną bei primename\, kad Kovo 11-os koncertas rengiamas bendradarbiaujant su LRT ir PLB – Pasaulio Lietuvių Bendruomenė.\nKoncertas bus transliuojamas LRT Plius ir LRT Lituanica kanalais\, portale LRT.LT bei Šv. Kristoforo kamerinis orkestras ir šioje #PLB facebook paskyrose Kovo 11 d. 19.15 val. Lietuvos laiku. Koncerto vedėja Gerūta Griniūtė.\n\n\n\n\nKoncerto solistai – Lietuvos nacionalinės kultūros ir meno premijos laureatai Veronika Povilionienė (vokalas) ir Petras Vyšniauskas (saksofonas). Koncerto programoje skambės M.K. Čiurlionio\, B. Kutavičiaus\, A. Martinaičio\, J. Naujalio\, F. Bajoro ir kitų lietuvių kompozitorių kūriniai bei aranžuotės.\n\nMaloniai kviečiame dalyvauti bei aktyviai dalintis šiuo kvietimu lietuvių bendruomenėse visame pasaulyje. Linkime pakilios nuotaikos bei įkvepiančių akimirkų.\n\n\n\nNuoroda į koncerto renginį čia: https://www.facebook.com/events/130987692183583
URL:https://vakaruvejai.com/renginys/sv-kristoforo-kamerinio-orkestro-sventinis-koncertas-mes-kartu/
LOCATION:Virtualus renginys
CATEGORIES:Arizona,Hawaii,Lietuviški renginiai,Los Andželas,Nevada,Portlandas,San Diego,San Franciskas,Seattle,Virtualus renginys
ATTACH;FMTTYPE=image/jpeg:https://vakaruvejai.com/wp-content/uploads/2021/03/156732863_10159384287892193_326908161137995615_o.jpg
END:VEVENT
BEGIN:VEVENT
DTSTART;TZID=America/Los_Angeles:20210215T084500
DTEND;TZID=America/Los_Angeles:20210215T094500
DTSTAMP:20260423T161912
CREATED:20210212T231947Z
LAST-MODIFIED:20210212T232741Z
UID:15226-1613378700-1613382300@vakaruvejai.com
SUMMARY:Įdomūs faktai apie operą „Lietuviai“ ir ryškiausi jos fragmentai\, Virtualus renginys
DESCRIPTION:Valstybės atkūrimo dienos išvakarėse\, vasario 15-ąją\, 8.45 val. ryte (Vakarinės JAV pakrantės laiku) Lietuvos Nacionalinė filharmonija kviečia geriau pažinti pasaulinei klasikai priskiriamą italų kompozitoriaus Amilcare’s Ponchielli operą „Lietuviai“ („I Lituani“). Apie šį Adomo Mickevičiaus poemos „Konradas Valenrodas“ motyvais parašytą kūrinį pasakos muzikologės Beata Baublinskienė\, Jūratė Katinaitė\, viena fondo „Orfėjo lyra“ vadovių Nerija Kasparienė\, Čikagos lietuvių operoje prieš daug metų dainavusi pagrindinę Aldonos partiją\, ir dabartinės operos versijos Aldonos vaidmens atlikėja\, JAV gyvenanti solistė\, sopranas Jūratė Švedaitė-Waller\, taip pat maestro Modestas Pitrėnas.\n9 val. ryte (Vakarinės JAV pakrantės laiku) klausytojus kviečiame pasimėgauti nuostabia muzika – fragmentais iš koncertinio „Lietuvių“ atlikimo. Girdėsite Lietuvos nacionalinį simfoninį orkestrą\, Kauno valstybinį chorą ir tarptautinį pripažinimą pelniusius solistus: Jūratę Švedaitę-Waller (sopranas\, JAV)\, Mickael Spadaccini (tenoras\, Belgija)\, Arūną Malikėną (baritonas)\, Modestą Sedlevičių (baritonas) ir Tadą Girininką (bosas). J. E. Prezidento Gitano Nausėdos globojamas operos „Lietuviai“ koncertinis atlikimas vyko ir įrašas buvo padarytas 2020 m. rugsėjį\, atidarant 80-ąjį Filharmonijos koncertų sezoną.\nŠventinė transliacija prasidės vasario 15 dieną\, pirmadienį\, 8.45 val. ryte (Vakarinės JAV pakrantės laiku). www.nationalphilharmonic.tv\, Filharmonijos ir Skaitmeninės koncertų salės Facebook paskyrose\, YouTube kanalu.\nDaugiau apie operą „Lietuviai“: https://bit.ly/36Ty2iU\nRenginio programėlė: https://bit.ly/3aaBhVa
URL:https://vakaruvejai.com/renginys/idomus-faktai-apie-opera-lietuviai-ir-ryskiausi-jos-fragmentai-virtualus-renginys/
LOCATION:Virtualus renginys
CATEGORIES:Arizona,Hawaii,Lietuviški renginiai,Los Andželas,Nevada,Portlandas,San Diego,San Franciskas,Seattle,Virtualus renginys
ATTACH;FMTTYPE=image/jpeg:https://vakaruvejai.com/wp-content/uploads/2021/02/148097062_10158740430281273_2383363283258477688_o.jpg
END:VEVENT
BEGIN:VEVENT
DTSTART;TZID=America/Los_Angeles:20201113T190000
DTEND;TZID=America/Los_Angeles:20201113T210000
DTSTAMP:20260423T161912
CREATED:20201106T230631Z
LAST-MODIFIED:20201106T230631Z
UID:14000-1605294000-1605301200@vakaruvejai.com
SUMMARY:Roko Maršas / Rock Music Festival\, Virtualus renginys
DESCRIPTION:Join us for a fascinating online presentation about a touring series of rock music festivals that took place in Lithuanian cities during the summers of 1987 – 1989. It was called „Roko Maršas”\, literally\, „The March of Rock Music”. The marches were as much political statements\, ever-increasingly calling for independence\, as they were rock music festivals. In 1989\, three groups from North America were invited to join Lithuanian rock groups for that year’s „Rock March”. Several of those participants will share their experiences from that summer tour. Our presenters are brothers Darius and Marius Polikaitis and their colleague Saulius Gylys. Email seattlelb.president@gmail.com to register and obtain a link for this online event.
URL:https://vakaruvejai.com/renginys/roko-marsas-rock-music-festival-virtualus-renginys/
LOCATION:Virtualus renginys
CATEGORIES:Lietuviški renginiai,Seattle,Virtualus renginys
ATTACH;FMTTYPE=image/jpeg:https://vakaruvejai.com/wp-content/uploads/2020/11/R-12407361-1534676840-7990.jpg
END:VEVENT
BEGIN:VEVENT
DTSTART;VALUE=DATE:20200313
DTEND;VALUE=DATE:20200314
DTSTAMP:20260423T161912
CREATED:20200214T214535Z
LAST-MODIFIED:20200313T073429Z
UID:11403-1584057600-1584143999@vakaruvejai.com
SUMMARY:Atšauktas Poezijos ir Muzikos Vakaras\, Seattle
DESCRIPTION:Seattle Lietuvių Bendruomenė atšaukią muzikos ir poezijos vakarą dėl koronoviruso grėsmės. \n 
URL:https://vakaruvejai.com/renginys/poezijos-ir-muzikos-vakaras-evening-of-music-and-poetry-seattle/
LOCATION:WA
CATEGORIES:Lietuviški renginiai,Seattle
ATTACH;FMTTYPE=image/jpeg:https://vakaruvejai.com/wp-content/uploads/2020/02/596E3D5A-4CAD-4127-8CFC-6C0C61BC86DB.jpeg
END:VEVENT
BEGIN:VEVENT
DTSTART;TZID=America/Los_Angeles:20200216T150000
DTEND;TZID=America/Los_Angeles:20200216T170000
DTSTAMP:20260423T161912
CREATED:20200209T212224Z
LAST-MODIFIED:20200209T212224Z
UID:11299-1581865200-1581872400@vakaruvejai.com
SUMMARY:Eglės Janulevičiūtės fortepijono rečitalis\, Santa Barbara
DESCRIPTION:Eglė Janulevičiūtė – pianistė ir įrašų atlikėja iš Lietuvos\, gavusi daugybę tarptautinių apdovanojimų ir kuri yra kritikų įvertinta kaip viena iš labiausiai puoselėjamų vietinių atlikėjų. \nPianistė atliks kūrinius \n\nW. A. Mozart – Sonata KV 332 in F Major;\nJ.S. Bach – Organ Chorale Prelude Jesus Christus\,unser Heiland (arr. F. Busoni) English Suite No. 2 BWV 807 in A Minor;\nF. Liszt – Vallèe de’Obermann from Annèes de pèlerinage Fantasy and the Fugue on the theme of BACH.\n\nAuka $10.
URL:https://vakaruvejai.com/renginys/egles-januleviciutes-fortepijono-recitalis-santa-barbara/
LOCATION:First United Methodist Church\, 305 East Anapamu St.\, Santa Barbara\, California\, 93101\, Jungtinės Amerikos Valstijos
CATEGORIES:Lietuviški renginiai
ATTACH;FMTTYPE=image/jpeg:https://vakaruvejai.com/wp-content/uploads/2020/02/image0.jpeg
END:VEVENT
END:VCALENDAR