BEGIN:VCALENDAR
VERSION:2.0
PRODID:-//Vakarų Vėjai - ECPv6.15.3//NONSGML v1.0//EN
CALSCALE:GREGORIAN
METHOD:PUBLISH
X-ORIGINAL-URL:https://vakaruvejai.com
X-WR-CALDESC:Vakarų Vėjai renginiai
REFRESH-INTERVAL;VALUE=DURATION:PT1H
X-Robots-Tag:noindex
X-PUBLISHED-TTL:PT1H
BEGIN:VTIMEZONE
TZID:America/Los_Angeles
BEGIN:DAYLIGHT
TZOFFSETFROM:-0800
TZOFFSETTO:-0700
TZNAME:PDT
DTSTART:20200308T100000
END:DAYLIGHT
BEGIN:STANDARD
TZOFFSETFROM:-0700
TZOFFSETTO:-0800
TZNAME:PST
DTSTART:20201101T090000
END:STANDARD
BEGIN:DAYLIGHT
TZOFFSETFROM:-0800
TZOFFSETTO:-0700
TZNAME:PDT
DTSTART:20210314T100000
END:DAYLIGHT
BEGIN:STANDARD
TZOFFSETFROM:-0700
TZOFFSETTO:-0800
TZNAME:PST
DTSTART:20211107T090000
END:STANDARD
END:VTIMEZONE
BEGIN:VEVENT
DTSTART;VALUE=DATE:20201215
DTEND;VALUE=DATE:20210107
DTSTAMP:20260423T160404
CREATED:20201209T205217Z
LAST-MODIFIED:20201209T214938Z
UID:14199-1607990400-1609977599@vakaruvejai.com
SUMMARY:Nacionalinio Kauno dramos teatro spektaklis vaikams "Labas\, Lape!"
DESCRIPTION:Laba diena\, \nSu Jumis ir vėl sveikinasi Nacionalinis Kauno dramos teatras. \nŠiemetinis didžiųjų metų švenčių laukimas kitoks – be susibūrimų ir šurmulio. Bet mes norime padėti sukurti jaukias ir šiltas Kalėdas Jums ir Jūsų mažiesiems\, pakviesdami žiūrėti specialiai šiai progai nufilmuotą spektaklį-pasaką „Labas\, Lape!” pagal žinomą Evelinos Daciūtės knygelę „Laimė yra lapė”. \nDramaturgė Daiva Čepauskaitė nuotaikingai sudėliojo Lapės ir berniuko Povilo istoriją\, ją papildė smagios dainelės. Kūrinys tinka vaikams nuo 5 metų\, trunka apie 1 valandą. \nSpektaklį galima žiūrėti nuo 2020 m. gruodžio 15 d. iki 2021 m. sausio 6 d. Tiketos platformoje. \nBilieto kaina – 4 eur. \nSpektaklio įrašas garantuos kokybišką spektaklio žiūrėjimą JUMS patogiu laiku. Jei bilietus norite įsigyti individualiai (galimas grupinis pirkimas)\, susisiekite su mumis ir mes pasiūlysim  geriausią variantą vadyba@dramosteatras.lt \n  \nO dabar žodis suteikiamas Lapei. Ji sukūrė kvietimą: \nLabas\, aš Lapė! \nLabai laukiau Šv. Kalėdų. O tu? Norėjau pakviesti tave ir mylimiausius žmones gruodžio 15- sausio 6 dienomis \nkartu su manimi ir mano geriausiu draugu Povilu leistis į nuotaikingą ir šviesiai oranžinę draugystes kelionę! \nŠioje kelionėje supsimės\, klausysimės istorijų\, dainuosime ir pašėlusiai linksminsimės! \nGražių\, jaukių ir oranžinių Švenčių! \nNori geriau mane pažinti\, spausk čia. \n  \nSu geriausiais linkėjimais\, \nJolanta Garnytė-Jadkauskienė  \nNacionalinio Kauno dramos teatro \nViešųjų ryšių koordinatorė \nTel. +370 37 324205 \nMob.tel. +370 687 52649 \nspauda@dramosteatras.lt \nwww.dramosteatras.lt
URL:https://vakaruvejai.com/renginys/14199/
LOCATION:Virtualus renginys
CATEGORIES:Arizona,Hawaii,Lietuviški renginiai,Los Andželas,Nevada,Portlandas,San Diego,San Franciskas,Seattle,Virtualus renginys
ATTACH;FMTTYPE=image/jpeg:https://vakaruvejai.com/wp-content/uploads/2020/12/id_44440.jpg
ORGANIZER;CN="Nacionalinis Kauno Dramos Teatras":MAILTO:spauda@dramosteatras.lt
END:VEVENT
END:VCALENDAR