BEGIN:VCALENDAR
VERSION:2.0
PRODID:-//Vakarų Vėjai - ECPv6.15.3//NONSGML v1.0//EN
CALSCALE:GREGORIAN
METHOD:PUBLISH
X-ORIGINAL-URL:https://vakaruvejai.com
X-WR-CALDESC:Vakarų Vėjai renginiai
REFRESH-INTERVAL;VALUE=DURATION:PT1H
X-Robots-Tag:noindex
X-PUBLISHED-TTL:PT1H
BEGIN:VTIMEZONE
TZID:America/Los_Angeles
BEGIN:DAYLIGHT
TZOFFSETFROM:-0800
TZOFFSETTO:-0700
TZNAME:PDT
DTSTART:20250309T100000
END:DAYLIGHT
BEGIN:STANDARD
TZOFFSETFROM:-0700
TZOFFSETTO:-0800
TZNAME:PST
DTSTART:20251102T090000
END:STANDARD
END:VTIMEZONE
BEGIN:VEVENT
DTSTART;TZID=America/Los_Angeles:20250914T120000
DTEND;TZID=America/Los_Angeles:20250914T150000
DTSTAMP:20260423T160403
CREATED:20250913T044548Z
LAST-MODIFIED:20250913T044548Z
UID:29690-1757851200-1757862000@vakaruvejai.com
SUMMARY:Lino lituanistinė mokykla kviečia į mokslo metų pradžios šventę\, Sietlas
DESCRIPTION:LT\n\nMūsų Linas Lithuanian Heritage School / Lino Lituanistinė Mokykla kviečia visus prisijungti prie mokslo metų pradžios pikniko šį sekmadienį! Tai puiki proga pradėti naujus mokslo metus kartu\, pabendrauti ir smagiai praleisti laiką gamtoje.\nPrimename\, kad laukiame jūsų registracijos naujiems mokslo metams! Jei turite klausimų\, prašau parašykite mums: mokyklalinas@gmail.com.\n\nEN\n\nOur Linas Lithuanian Heritage School / Lino Lituanistinė Mokykla warmly invites everyone to join them for the school opening picnic this Sunday! It’s a wonderful opportunity to celebrate the start of the school year\, connect with others\, and enjoy a beautiful afternoon together.\nIf you have any questions\, please do not hesitate to write us an email: mokyklalinas@gmail.com
URL:https://vakaruvejai.com/renginys/lino-lituanistine-mokykla-kviecia-i-mokslo-metu-pradzios-svente-sietlas/
LOCATION:Cedar River Trail park Shelter\, 600 Nishiwaki Lane\, Renton\, WA\, 98057
CATEGORIES:Lietuviški renginiai,Seattle
ATTACH;FMTTYPE=image/jpeg:https://vakaruvejai.com/wp-content/uploads/2025/09/539614038_1264667712120953_5883427276269674184_n.jpeg
END:VEVENT
END:VCALENDAR