BEGIN:VCALENDAR
VERSION:2.0
PRODID:-//Vakarų Vėjai - ECPv6.15.3//NONSGML v1.0//EN
CALSCALE:GREGORIAN
METHOD:PUBLISH
X-ORIGINAL-URL:https://vakaruvejai.com
X-WR-CALDESC:Vakarų Vėjai renginiai
REFRESH-INTERVAL;VALUE=DURATION:PT1H
X-Robots-Tag:noindex
X-PUBLISHED-TTL:PT1H
BEGIN:VTIMEZONE
TZID:America/Los_Angeles
BEGIN:DAYLIGHT
TZOFFSETFROM:-0800
TZOFFSETTO:-0700
TZNAME:PDT
DTSTART:20220313T100000
END:DAYLIGHT
BEGIN:STANDARD
TZOFFSETFROM:-0700
TZOFFSETTO:-0800
TZNAME:PST
DTSTART:20221106T090000
END:STANDARD
BEGIN:DAYLIGHT
TZOFFSETFROM:-0800
TZOFFSETTO:-0700
TZNAME:PDT
DTSTART:20230312T100000
END:DAYLIGHT
BEGIN:STANDARD
TZOFFSETFROM:-0700
TZOFFSETTO:-0800
TZNAME:PST
DTSTART:20231105T090000
END:STANDARD
BEGIN:DAYLIGHT
TZOFFSETFROM:-0800
TZOFFSETTO:-0700
TZNAME:PDT
DTSTART:20240310T100000
END:DAYLIGHT
BEGIN:STANDARD
TZOFFSETFROM:-0700
TZOFFSETTO:-0800
TZNAME:PST
DTSTART:20241103T090000
END:STANDARD
END:VTIMEZONE
BEGIN:VEVENT
DTSTART;TZID=America/Los_Angeles:20240310T084500
DTEND;TZID=America/Los_Angeles:20240310T140000
DTSTAMP:20260423T160438
CREATED:20240309T055537Z
LAST-MODIFIED:20240309T060715Z
UID:26244-1710060300-1710079200@vakaruvejai.com
SUMMARY:Nepriklausomybės žygis - Mount Diablo\, San Franciskas
DESCRIPTION:Būtinai pasitikrinkite aprašymą prieš pat renginį\, jei informacija pasikeistų!\nKovo 11-ąją paminėkime Nepriklausomybės žygiu.\nLietuva nuėjo ilgą\, sunkų ir vingiuotą kelią kol tapo vėl nepriklausoma valstybe. Kviečiame į žygį\, kuris galimai taip pat nebus pats lengviausias\, kopiant į Diablo kalną\, bet tikrai vertas rezultato. Kalno viršunėje sugiedosime himną prie iškeltos trispalvės (~12 val.).\nŠiuo žygiu mes taip pat paminėsime ir Olimpinio judėjimo 100-etį. 1924 m. Lietuvos sportininkai pirmą kartą startavo olimpinėse žaidynėse. Lietuvos tautinis olimpinis komitetas kviečia prisijungti prie „Olimpinio judėjimo 100-mečio ėjimo iššūkio“ kartu sumobiliąja programėle „Walk15“. Iššūkis vyksta nuo vasario 29 iki birželio 7 d.\nDaugiau info: http://www.ltok.lt/olimpinio-judejimo-100-meciui…/…\nKOVO 10 D.\nLIPANTIEMS Į KALNĄ\nRenkamės 8:45 am\, pradedam lipti 9 am.\nApie 12 pm planuojame būti Mt. Diablo viršuje.\nParkuojamės ties S. Gate Rd.\nDaugiau informacijos apie taką:\nhttp://www.alltrails.com/…/mount-diablo-via-summit…\nVAŽIUOJANTIEMS DVIRAČIAIS\nJei būtų norinčių\, galima važiuoti ir dviračiais į kalną. Būsime dėkingi\, jei atsirastų norinčių koordinuoti dviratininkus.\nVAŽIUOJANTYS MAŠINA\nJei vis tik yra noras be ėjimo kalno viršunėje sugiedoti himną ir taip paminėti Nepriklausomybės atkūrimo dieną\, galima į kalną užvažiuoti mašina ir sulaukti ėjikų.\nREGISTRACIJA\nhttps://form.jotform.com/230260498984163\nPastabose nurodykite eisite\, minsite ar važiuosite.\nPIKNIKAS\nKalno viršunėje turėsime pikniką\, tad visi pasiruoškite maisto ir gėrimų. Planuojama apie 12 val. Ėjikų maistą tikėtina pavyks užvešti mašina\, kad nereiktų nešti.\nAPSIRENGIMAS\nDrabužiai geltoni\, žali\, raudoni arba su lietuviška atributika bei simbolika. Vėliavėlės ir vėliavos.\nKalno viršunėje gali būti vėsoka\, tad pasirūpinkite šiltais drabužiais.\nKLAUSIMAI\nvirgilija@sflithuanians.com\n408 482 3677 (tik žinutėms)
URL:https://vakaruvejai.com/renginys/nepriklausomybes-zygis-mount-diablo-san-franciskas/
LOCATION:S. Gate Rd.\, Mt. Diablo
CATEGORIES:Lietuviški renginiai,San Franciskas
ATTACH;FMTTYPE=image/jpeg:https://vakaruvejai.com/wp-content/uploads/2024/03/431341840_398059982870807_2101866159239978538_n.jpeg
END:VEVENT
BEGIN:VEVENT
DTSTART;TZID=America/Los_Angeles:20240309T113000
DTEND;TZID=America/Los_Angeles:20240309T133000
DTSTAMP:20260423T160438
CREATED:20240308T075348Z
LAST-MODIFIED:20240308T075420Z
UID:26182-1709983800-1709991000@vakaruvejai.com
SUMMARY:Lietuvos Nepriklausomybės minėjimas lituanistinėje mokykloje "Genys"\, San Franciskas
DESCRIPTION:Kviečiame visus į LIETUVOS NEPRIKLAUSOMYBĖS ATKŪRIMO ŠVENTĘ!\nProgramoje:\n– Lituanistinės mokyklos mokinių pasirodymas.\n– Lietuvos regioninių šokių pristatymas.\n\nKADA:\nŠeštadienį\,\nKovo 9 d. – 11:30 val. ryto\nKUR: San Francisko Lituanistinės Mokyklos „Genys” Salėje/Castro Valley United Methodist Church\n19806 Wisteria Street\nCastro Valley\, CA 94546\nATSINEŠKITE SUNEŠTINIŲ VAIŠIŲ BENDRAM STALUI.\nAčiū\, SF Genio Mokyklos Kolektyvas
URL:https://vakaruvejai.com/renginys/lietuvos-nepriklausomybes-minejimas-san-franciskas/
LOCATION:Lituanistinė mokykla „Genys”\, 778 26th Ave\, San Francisco\, CA\, 94121-3614\, United States
CATEGORIES:Lietuviški renginiai,San Franciskas
ATTACH;FMTTYPE=image/png:https://vakaruvejai.com/wp-content/uploads/2024/03/Screen-Shot-2024-03-07-at-11.49.09-PM.png
END:VEVENT
BEGIN:VEVENT
DTSTART;TZID=America/Los_Angeles:20240218T090000
DTEND;TZID=America/Los_Angeles:20240218T110000
DTSTAMP:20260423T160438
CREATED:20240210T052438Z
LAST-MODIFIED:20240210T052438Z
UID:26046-1708246800-1708254000@vakaruvejai.com
SUMMARY:Lietuvos Nepriklausomybės dienos žygis\, Arizona
DESCRIPTION:LT\n\nArizonos Lietuvių Bendruomenė kviečia visus lietuvius su šeimomis\, vaikais ir draugais į Vasario 16-tosios pagarbos žygį Lietuvos Nepriklausomybės dienos progai paminėti.\n\n\nSusitikimo Vieta: Gateway\, 18333 N. Thompson Peak Pkwy. Scottsdale\, AZ 85255\n\n\nLaikas: Vasario 18\, 2024 (sekmadienį) 9 valandą.\n\n\nPapildoma informacija: Labai norėtume\, kad visi dalyviai atsineštų lietuviškos atributikos (nepamirškite lietuviškų vėliavėlių!) ir visi apsirengtų lietuviškom spalvom! Siūlome avėti patogius batus ir atsinešti pakankamai vandens. Renginys yra nemokamas. Kviečiame atsinešti užkandį pasivaišinimui ir pasidalinti su draugais ir šeimomis po žygio.\n\n\nŽygio statistika:\n– Pavadinimas: Gateway Loop\n– Atstumas: 4\,4 mylios\n– Sunkumo lygis: lengvas/vidutinis\n– Trukmė: 2-2.5 val. plius ~ 1 valanda\npabendravimui.\n\n\nRenginį organizuoja: Arizonos Lietuvių Bendruomenė\n\n\nRENGINYS NEMOKAMAS.\n\nEN\n\nLithuanian American Community of Arizona is inviting all Lithuanians\, friends\, families and kids to hike in celebration of the February 16th\, the Lithuania’s Independence Day.\n\n\nLocation: Gateway\, 18333 N. Thompson Peak Pkwy. Scottsdale\, AZ 85255\n\n\nTime & Date: February 18th\, 2024 (Sunday) at 9:00am.\n\n\nAdditional information: We would like to ask all participants to bring Lithuanian accessories\, flags\, wear Lithuanian colors! Please come wearing comfortable hiking shoes and bring plenty of water.\nThe event is free. Please bring a small appetizer to share with friends and families after the hike.\n\n\nAbout the hike:\n– Name: Gateway Loop\n– Distance: 4.4 miles\n– Category: easy/moderate\n– Completion time: 2-2.5 hours plus one for\nsocializing.\n\n\nThe even is organized by Arizona Lithuanian American Community.\n\n\nTHE EVENT IS FREE.
URL:https://vakaruvejai.com/renginys/lietuvos-nepriklausomybes-dienos-zygis-arizona/
LOCATION:Gateway Trailhead\, 18333 N. Thompson Peak Pkwy\, Scottsdale\, AZ\, 85255
CATEGORIES:Arizona,Lietuviški renginiai
ATTACH;FMTTYPE=image/jpeg:https://vakaruvejai.com/wp-content/uploads/2024/02/426178856_787748750048842_4230571974213303928_n.jpeg
END:VEVENT
BEGIN:VEVENT
DTSTART;TZID=America/Los_Angeles:20220305T190000
DTEND;TZID=America/Los_Angeles:20220305T210000
DTSTAMP:20260423T160438
CREATED:20220119T175320Z
LAST-MODIFIED:20220304T231909Z
UID:19723-1646506800-1646514000@vakaruvejai.com
SUMMARY:Lietuvos Nepriklausomybės minėjimas / Lithuanian Independence celebration\, Sietlas\, WA
DESCRIPTION:LT \nLietuvos Nepriklausomybės šventė \nSusirinkimo nuoroda: https://washington.zoom.us/j/91314920260 \n\nPrisijunkite švęsti Lietuvos Nepriklausomybę. Pagrindinis pranešėjas – diplomatas ir teisininkas Raimundas Karoblis\, 2016–2020 m. ėjęs krašto apsaugos ministro pareigas. Prieš tai jis buvo užsienio reikalų viceministras. RAIMUNDAS KAROBLIS KALBĖS GYVAI (kalba iš anksto neįrašyta). Taip pat gyvai prie mūsų prisijungs ir LAIMA JUREVIČIENĖ\, Lietuvos Respublikos generalinė konsulė Los Andžele.\n Vakaro programą galite atsisiųsti ČIA ir matyti savo ekranuose.  Jeigu norite programą atsispausdinti\, spauskite ČIA.\n Susirinkimo nuoroda: https://washington.zoom.us/j/91314920260\n\n___ \n\nAmerikos lietuvių bendruomenė (JAVLB) priima aukas ukrainiečių paramai. Informacija čia https://www.javlb.org/Ukraine.\n„Vakarų vėjai“ angliškai ir lietuviškai aprašo septynis dalykus\, kuriuos jau dabar galite padaryti\, norėdami padėti Ukrainai.  Informacija čia https://vakaruvejai.com/2022/02/25/jav-lietuviu-bendruomenes-parama-ukrainai-ir-raginimas-imtis-veiksmu/.\n Amerikos Lietuvių bendruomenės laiško pavyzdį\, skirtą rašyti išrinktiems pareigūnams\, rasite ČIA.\n\n\n*** \nEN \nLithuanian Independence celebration \nMeeting link: https://washington.zoom.us/j/91314920260 \n\nJoin us online to celebrate Lithuania’s Independence.  Keynote speaker is diplomat and lawyer Mr. Raimundas Karoblis\, who served as Lithuania’s Minister of National Defense from 2016-2020.  Before that\, he was vice minister of foreign affairs. MR. KAROBLIS WILL DELIVER HIS PRESENTATION LIVE (not pre-recorded).  Also joining us live will be MRS. LAIMA JUREVIČIENĖ\, Consul General of the Republic of Lithuania in Los Angeles.  \nYou can download a written program for the evening HERE for VIEWING on your screen.  Click HERE to get a written program for BOOKLET PRINTING.\nMeeting link: https://washington.zoom.us/j/91314920260\n\n___ \n\n The Lithuanian American Community (LAC\, in Lithuanian: JAVLB) is accepting donations for Ukrainian support.  See https://www.javlb.org/Ukraine.\n„Vakarų Vėjai” describes in both English and Lithuanian seven things you can do right now to support Ukraine.  See https://vakaruvejai.com/2022/02/25/jav-lietuviu-bendruomenes-parama-ukrainai-ir-raginimas-imtis-veiksmu/.\nA sample letter provided by the LAC for writing to elected officials is available HERE.
URL:https://vakaruvejai.com/renginys/lithuanian-independence-celebration-sietlas-wa/
LOCATION:Virtualus renginys
CATEGORIES:Lietuviški renginiai,Seattle
ATTACH;FMTTYPE=image/png:https://vakaruvejai.com/wp-content/uploads/2022/01/Screen-Shot-2022-01-19-at-9.52.21-AM.png
END:VEVENT
END:VCALENDAR