BEGIN:VCALENDAR
VERSION:2.0
PRODID:-//Vakarų Vėjai - ECPv6.15.3//NONSGML v1.0//EN
CALSCALE:GREGORIAN
METHOD:PUBLISH
X-WR-CALNAME:Vakarų Vėjai
X-ORIGINAL-URL:https://vakaruvejai.com
X-WR-CALDESC:Vakarų Vėjai renginiai
REFRESH-INTERVAL;VALUE=DURATION:PT1H
X-Robots-Tag:noindex
X-PUBLISHED-TTL:PT1H
BEGIN:VTIMEZONE
TZID:America/Los_Angeles
BEGIN:DAYLIGHT
TZOFFSETFROM:-0800
TZOFFSETTO:-0700
TZNAME:PDT
DTSTART:20240310T100000
END:DAYLIGHT
BEGIN:STANDARD
TZOFFSETFROM:-0700
TZOFFSETTO:-0800
TZNAME:PST
DTSTART:20241103T090000
END:STANDARD
END:VTIMEZONE
BEGIN:VEVENT
DTSTART;TZID=America/Los_Angeles:20240928T090000
DTEND;TZID=America/Los_Angeles:20240928T140000
DTSTAMP:20260423T145754
CREATED:20240921T073229Z
LAST-MODIFIED:20240921T073229Z
UID:27634-1727514000-1727532000@vakaruvejai.com
SUMMARY:Vankuverio lietuvių biznio forumas\, Vankuveris
DESCRIPTION:Labas! The Lithuanian Professionals of British Columbia invites you to the first-ever Vancouver Lithuanian Business Forum “From Vilnius to Vancouver: Building Business Bridges” on September 28th\, 2024. The event is free\, pre-registration is required at https://lithuanianprofessionalsbc.com/conference/\n\n\nThis exciting forum will bring together business leaders and entrepreneurs to explore opportunities for building lasting partnerships and to share insights and knowledge. Panelists will focus on:\n\n\n• Technology\n• Life Sciences\n• Import/Export\n\n\nWhether you are looking to expand your network\, discover new markets\, or gain valuable perspectives on international trade\, the Vancouver Lithuanian Business Forum is your gateway to unlocking the potential of transatlantic cooperation. Join us as we connect individuals and cultures\, create opportunities and drive new business growth. Everyone is welcome! Capacity for this event is limited.\n\n\nRefreshments and lunch  will be served. The event will be followed by an evening social with the Ambassador of Lithuania to Canada\, Darius Skusevičius\, and Honorary Consul of Lithuania in Vancouver\, Christopher Juras.\n\n\nLearn more at https://lithuanianprofessionalsbc.com/conference/
URL:https://vakaruvejai.com/renginys/vankuverio-lietuviu-biznio-forumas-vankuveris/
LOCATION:Simon Fraser University\, Segal building\, 500 Granville St.\, Vancouver\, BC
CATEGORIES:Seattle
ATTACH;FMTTYPE=image/jpeg:https://vakaruvejai.com/wp-content/uploads/2024/09/460723984_921918003293871_2618216595555734703_n.jpeg
END:VEVENT
END:VCALENDAR