BEGIN:VCALENDAR
VERSION:2.0
PRODID:-//Vakarų Vėjai - ECPv6.15.3//NONSGML v1.0//EN
CALSCALE:GREGORIAN
METHOD:PUBLISH
X-ORIGINAL-URL:https://vakaruvejai.com
X-WR-CALDESC:Vakarų Vėjai renginiai
REFRESH-INTERVAL;VALUE=DURATION:PT1H
X-Robots-Tag:noindex
X-PUBLISHED-TTL:PT1H
BEGIN:VTIMEZONE
TZID:America/Los_Angeles
BEGIN:DAYLIGHT
TZOFFSETFROM:-0800
TZOFFSETTO:-0700
TZNAME:PDT
DTSTART:20210314T100000
END:DAYLIGHT
BEGIN:STANDARD
TZOFFSETFROM:-0700
TZOFFSETTO:-0800
TZNAME:PST
DTSTART:20211107T090000
END:STANDARD
END:VTIMEZONE
BEGIN:VEVENT
DTSTART;TZID=America/Los_Angeles:20211105T100000
DTEND;TZID=America/Los_Angeles:20211106T160000
DTSTAMP:20260423T193518
CREATED:20211104T040159Z
LAST-MODIFIED:20211104T040159Z
UID:18456-1636106400-1636214400@vakaruvejai.com
SUMMARY:Latvian/Estonian/Lithuanian Christmas market\, Portland
DESCRIPTION:Latvian/Estonian/Lithuanian Christmas market at the Oregon Latvian Center.\nFRIDAY NOVEMER 5TH: 10AM – 6PM\nSATURDAY NOVEMER 6TH: 10AM – 4PM\nFeaturing a wonderful selection of authentic gifts including mittens\, socks\, glassware\, silver and amber jewelry\, books\, candles\, greeting cards\, and other handcrafted items. Also enjoy fresh baked goods\, cookies and cakes\, pīrāgi\, and rye bread. Surprise gift bags and raffle. All proceeds benefit the center!\nA DELICIOUS LUNCH WILL BE SERVED FROM 11 AM\nFACE MASKS REQUIRED\nWe sincerely invite volunteers to bring items for our baked goods table. Please help by bringing Christmas cookies\, rye bread\, cakes\, pīrāgi\, or your famous specialty. We also need volunteers during the market.\nPlease call Biruta Zommers at 503-436-1708 to sign-up.
URL:https://vakaruvejai.com/renginys/latvian-estonian-lithuanian-christmas-market-portland/
LOCATION:Oregon Latvian Center\, 5500 SW Dosch Road\, Portland\, OR\, 97239
CATEGORIES:Portlandas
ATTACH;FMTTYPE=image/jpeg:https://vakaruvejai.com/wp-content/uploads/2021/11/252583079_10159492768502970_572943729292541176_n.jpg
END:VEVENT
END:VCALENDAR