BEGIN:VCALENDAR
VERSION:2.0
PRODID:-//Vakarų Vėjai - ECPv6.15.3//NONSGML v1.0//EN
CALSCALE:GREGORIAN
METHOD:PUBLISH
X-WR-CALNAME:Vakarų Vėjai
X-ORIGINAL-URL:https://vakaruvejai.com
X-WR-CALDESC:Vakarų Vėjai renginiai
REFRESH-INTERVAL;VALUE=DURATION:PT1H
X-Robots-Tag:noindex
X-PUBLISHED-TTL:PT1H
BEGIN:VTIMEZONE
TZID:America/Los_Angeles
BEGIN:DAYLIGHT
TZOFFSETFROM:-0800
TZOFFSETTO:-0700
TZNAME:PDT
DTSTART:20260308T100000
END:DAYLIGHT
BEGIN:STANDARD
TZOFFSETFROM:-0700
TZOFFSETTO:-0800
TZNAME:PST
DTSTART:20261101T090000
END:STANDARD
END:VTIMEZONE
BEGIN:VEVENT
DTSTART;TZID=America/Los_Angeles:20260227T070000
DTEND;TZID=America/Los_Angeles:20260227T080000
DTSTAMP:20260423T162846
CREATED:20260131T114556Z
LAST-MODIFIED:20260131T114556Z
UID:30491-1772175600-1772179200@vakaruvejai.com
SUMMARY:Pažink palaimintąjį Jurgį Matulaitį\, Virtualus renginys
DESCRIPTION:2027-tuosius Lietuvos Seimas paskelbė Palaimintojo Jurgio Matulaičio metais. Šiemet kiekvieno mėnesio 27 d. 9 val. ryto CST (Čikagos laiku) vyks 20 min. paskaitų ciklas: „Pažink Palaimintąjį Jurgį Matulaitį”. Kviečiame prisijunkti į gyvą transliaciją arba\, žiūrėti įrašo jums patogu laiku. \n\nPrisijungimo nuoroda sausio 27 d.\, 9 val. ryte Čikagos laiku (Lietuvoje 17 val. v.) spaudžiant šią nuorodą:\nhttps://calendar.app.google/NuJgKq9s39Urs7FN9\n\n\nArba prisijunkite spaudžiant QR kodą ant prisegto plakato su jūsų telefono nuotraukų funkcija.\n\nArba žiūrėti įrašą bet kada Matulaičio Misija YouTube kanale: https://www.youtube.com/@matulaiciomisija731.\n\nPaskirkime 20 min. kiekvieno mėnesio 27 d.  pažinti Palaimintąjį Jurgį Matulaitį. \n \nPersiųskite savo pažįstamiems ir padėkite mums kuo plačiau skleisti žinią apie šią galimybę. \n\nPaskaitų seriją koordinuoja JAV ir Lietuvoje Marijos Nek. Pr. seserų vienuolija kartu su Matulaičio Misija Lemont IL.\n\n\nInformacijai kreiptis: sesigne@gmail.com ar matulaitismission@gmailcom
URL:https://vakaruvejai.com/renginys/pazink-palaimintaji-jurgi-matulaiti-virtualus-renginys/
LOCATION:Virtualus renginys
CATEGORIES:Lietuviški renginiai,Virtualus renginys
ATTACH;FMTTYPE=image/png:https://vakaruvejai.com/wp-content/uploads/2026/01/Pazink-Pal.-Jurgi-Matulaiti-plakatas-kie-kvieno-menesio-27-d.-.png
END:VEVENT
END:VCALENDAR