BEGIN:VCALENDAR
VERSION:2.0
PRODID:-//Vakarų Vėjai - ECPv6.15.3//NONSGML v1.0//EN
CALSCALE:GREGORIAN
METHOD:PUBLISH
X-WR-CALNAME:Vakarų Vėjai
X-ORIGINAL-URL:https://vakaruvejai.com
X-WR-CALDESC:Vakarų Vėjai renginiai
REFRESH-INTERVAL;VALUE=DURATION:PT1H
X-Robots-Tag:noindex
X-PUBLISHED-TTL:PT1H
BEGIN:VTIMEZONE
TZID:America/Los_Angeles
BEGIN:DAYLIGHT
TZOFFSETFROM:-0800
TZOFFSETTO:-0700
TZNAME:PDT
DTSTART:20200308T100000
END:DAYLIGHT
BEGIN:STANDARD
TZOFFSETFROM:-0700
TZOFFSETTO:-0800
TZNAME:PST
DTSTART:20201101T090000
END:STANDARD
END:VTIMEZONE
BEGIN:VEVENT
DTSTART;TZID=America/Los_Angeles:20201212T140000
DTEND;TZID=America/Los_Angeles:20201212T170000
DTSTAMP:20260423T174908
CREATED:20201209T202537Z
LAST-MODIFIED:20201212T174415Z
UID:14196-1607781600-1607792400@vakaruvejai.com
SUMMARY:Transkontinentinis pasaulio lietuvių jaunimo suvažiavimas\, Virtualus renginys
DESCRIPTION:LT \n2020m. gruodžio 12d. \nBuenos Aires 19:00-22:00\nSão Paulo 19:00-22:00\nToronto 17:00-20:00\nBoston 17:00-20:00\nChicago 16:00-19:00\nLos Angeles 14:00-17:00\nSydney 9:00-12:00 (13/12/2020)\nVilnius 00:00-03:00 (13/12/2020) \nKviečiame lietuvių jaunimo sąjungų atstovus į transkontinentinį pasaulio lietuvių jaunimo suvažiavimą.\nJei dalyvauji Argentinos\, Brazilijos\, JAV\, Kanados ar Australijos lietuvių jaunimo sąjungų veikloje – kviečiame prisijungti prie interaktyvios sesijos su Pasaulio lietuvių jaunimo sąjunga (PLJS). Jos metu sužinosi apie pagrindines PLJS veiklas bei susipažinsi su jaunimu iš kitų šalių. Interaktyvioje simuliacijoje susipažinsi su balsavimo principais ir Kongreso eigos procesais.\nPLJS Kongresas vyksta kas 4 metus ir nustato šios tarptautinės organizacijos kryptis\, išrenkama nauja PLJS valdyba\, aptariamos pasaulio lietuvių jaunimui aktualios temos. Šios simuliacijos metu kursime nutarimus\, kuriuos siūlysime svarstyti PLJS Kongresui 2021 metais. \nDALYVIAMS PRIVALOMA REGISTRACIJA:\nhttps://forms.gle/SkgW5wcrLZgdckG59 \nI dalis. \nSusipažinimas su PLJS\, šalių veiklomis ir dalyviais (1.5valandos)\nRenginio atidarymas\nPLJS veiklos ir kongreso pristatymas\nTrumpi dalyvaujančių šalių prisistatymai\nInteraktyvus susipažinimas su renginio dalyviais – Speed Friendship Dating \nII dalis. \nInteraktyvi PLJS Kongreso simuliacija (1.5 valandos)\nPraktinė sesija grupėse: kas yra Kongreso nutarimai? (nutarimų reitingavimas)\nSesija grupėse: nutarimų projektų rengimas ateinančiam Kongresui (2021)\nPlenarinė sesija: balsavimas dėl grupių pasiūlytų nutarimų projektų.\nPatvirtinti nutarimai bus teikiami svarstymui per ateinantį PLJS Kongresą kitais metais. \n\n\nRenginį remia Jaunimo reikalų departamentas prie Socialinės apsaugos ir darbo ministerijos (užsienio lietuvių jaunimo organizacijų veiklos projektų finansavimo programa). \n  \nEN \nDecember 12\, 2020 \nBuenos Aires 19:00-22:00\nSão Paulo 19:00-22:00\nToronto 17:00-20:00\nBoston 17:00-20:00\nChicago 16:00-19:00\nLos Angeles 14:00-17:00\nSydney 9:00-12:00 (13/12/2020)\nVilnius 00:00-03:00 (13/12/2020) \n\n\nCalling all Lithuanian Youth Association members to the Transcontinental World Lithuanian Youth Conference! If you have participated or want to participate in activities with the Lithuanian Youth Associations of Australia\, Argentina\, Brasil\, Canada\, or the United States\, we invite you to join our interactive session. We hope that during this conference\, you will hear about various events happening in the different countries as you make friends all over the world. You will also have a chance to learn more about PLJS (World Lithuanian Youth Association) and participate in a preview of the “Kongresas” event. The World Lithuanian Youth Association Congress is an event that happens every 4 years and attracts delegates from all over the world. We draft decisions and resolutions that will help the Lithuanian Youth of the World. This preview will help you understand the process that sets the initiatives for organization. The outcomes of our session will be added to the agenda of “Kongresas” 2021. We will also submit a list of questions that will be directed to the members of the Senate of Lithuania in a follow-up webinar. \n\n\nRegistration for this event is required.\nhttps://forms.gle/SkgW5wcrLZgdckG59 \n  \n\n\n\n\n\n\n\n\n\n\n\n\n\n\n 
URL:https://vakaruvejai.com/renginys/transkontinentinis-pasaulio-lietuviu-jaunimo-suvaziavimas/
LOCATION:Virtualus renginys
CATEGORIES:Arizona,Hawaii,Los Andželas,Nevada,Portlandas,San Diego,San Franciskas,Seattle,Virtualus renginys
ATTACH;FMTTYPE=image/jpeg:https://vakaruvejai.com/wp-content/uploads/2020/12/127097608_3684235741641519_3814596316518006250_o.jpg
END:VEVENT
END:VCALENDAR