BEGIN:VCALENDAR
VERSION:2.0
PRODID:-//Vakarų Vėjai - ECPv6.15.3//NONSGML v1.0//EN
CALSCALE:GREGORIAN
METHOD:PUBLISH
X-WR-CALNAME:Vakarų Vėjai
X-ORIGINAL-URL:https://vakaruvejai.com
X-WR-CALDESC:Vakarų Vėjai renginiai
REFRESH-INTERVAL;VALUE=DURATION:PT1H
X-Robots-Tag:noindex
X-PUBLISHED-TTL:PT1H
BEGIN:VTIMEZONE
TZID:America/Los_Angeles
BEGIN:DAYLIGHT
TZOFFSETFROM:-0800
TZOFFSETTO:-0700
TZNAME:PDT
DTSTART:20250309T100000
END:DAYLIGHT
BEGIN:STANDARD
TZOFFSETFROM:-0700
TZOFFSETTO:-0800
TZNAME:PST
DTSTART:20251102T090000
END:STANDARD
END:VTIMEZONE
BEGIN:VEVENT
DTSTART;TZID=America/Los_Angeles:20250626T050000
DTEND;TZID=America/Los_Angeles:20250626T060000
DTSTAMP:20260423T130136
CREATED:20250606T175622Z
LAST-MODIFIED:20250606T175622Z
UID:29175-1750914000-1750917600@vakaruvejai.com
SUMMARY:VDU diasporinio ugdymo programos mokytojams pristatymas\, VIRTUALUS RENGINYS
DESCRIPTION:DU Pasaulio lietuvių universitetas kviečia Lietuvos ir užsienio lituanistinių mokyklų mokytojus įgyvendinti neformalią diasporinio ugdymo programą „Lietuviškosios tapatybės iššūkiai ir šeimos pasakojimai“ ir dalyvauti nuotoliniuose programos mokymuose.\n\n \n\nProgramos pristatymas vyks birželio 26 d. (ketvirtadienį) 15 val. (Lietuvos laiku)\, Teams platformoje.\n\n \n\nProgramą pristatys VDU istorikas ir pedagogas Domas Boguševičius ir VDU Pasaulio lietuvių universiteto koordinatorė Ingrida Dačiolienė.\n\n \n\nPlačiau apie diasoirinio ugdymo programą
URL:https://vakaruvejai.com/renginys/vdu-diasporinio-ugdymo-programos-mokytojams-pristatymas-virtualus-renginys/
LOCATION:Virtualus renginys
CATEGORIES:Lietuviški renginiai,Virtualus renginys
ATTACH;FMTTYPE=image/jpeg:https://vakaruvejai.com/wp-content/uploads/2025/06/DUP-2025-FB-Event-min-1024x536-1.jpeg
END:VEVENT
END:VCALENDAR