BEGIN:VCALENDAR
VERSION:2.0
PRODID:-//Vakarų Vėjai - ECPv6.15.3//NONSGML v1.0//EN
CALSCALE:GREGORIAN
METHOD:PUBLISH
X-ORIGINAL-URL:https://vakaruvejai.com
X-WR-CALDESC:Vakarų Vėjai renginiai
REFRESH-INTERVAL;VALUE=DURATION:PT1H
X-Robots-Tag:noindex
X-PUBLISHED-TTL:PT1H
BEGIN:VTIMEZONE
TZID:America/Los_Angeles
BEGIN:DAYLIGHT
TZOFFSETFROM:-0800
TZOFFSETTO:-0700
TZNAME:PDT
DTSTART:20260308T100000
END:DAYLIGHT
BEGIN:STANDARD
TZOFFSETFROM:-0700
TZOFFSETTO:-0800
TZNAME:PST
DTSTART:20261101T090000
END:STANDARD
END:VTIMEZONE
BEGIN:VEVENT
DTSTART;TZID=America/Los_Angeles:20260211T190000
DTEND;TZID=America/Los_Angeles:20260211T210000
DTSTAMP:20260423T160439
CREATED:20260131T073651Z
LAST-MODIFIED:20260131T073651Z
UID:30473-1770836400-1770843600@vakaruvejai.com
SUMMARY:Krepšinio šventė\, San Franciskas
DESCRIPTION:DĖMESIO\, KREPŠINIO AISTRUOLIAI!\nŠVĘSKIME LIETUVOS VALSTYBĖS ATKŪRIMO DIENĄ SU KREPŠINIU! \nSaint Mary’s koledžas rungtynes skiria Lietuvos garbei – aikštėje du lietuviai! \n Mantas Juzėnas – Mantas Juzenas – Men’s Basketball – SMC California Athletics\n Paulius Murauskas – Paulius Murauskas – Men’s Basketball – SMC California Athletics \n Data: vasario 11 d.\, 19:00\n Bilietus galite įsigyti čia:\nhttps://smcgaels.universitytickets.com/w/event.aspx?id=1905\n Kiekvienam bilietą įsigijusiam – dovanų krepšinio marškinėliai!\nBilieto kaina – $40\, panaudojus kodą LITH26\n Vieta: University Credit Union Pavilion 1928 Saint Mary’s Road\, Moraga\, CA 94575\nAtsineškite balsą\, energiją ir gerą nuotaiką. Padarykime šį vakarą nepamirštamą.\nLietuviai\, susivienijam – ir užkuriam areną!
URL:https://vakaruvejai.com/renginys/krepsinio-svente-san-franciskas/
LOCATION:University Credit Union Pavilion\, 1928 Saint Mary’s Road\, Moraga\, CA\, 94575
CATEGORIES:Lietuviški renginiai,San Franciskas
ATTACH;FMTTYPE=image/png:https://vakaruvejai.com/wp-content/uploads/2026/01/Screenshot-2026-01-30-at-11.33.22-PM.png
END:VEVENT
END:VCALENDAR