BEGIN:VCALENDAR
VERSION:2.0
PRODID:-//Vakarų Vėjai - ECPv6.15.3//NONSGML v1.0//EN
CALSCALE:GREGORIAN
METHOD:PUBLISH
X-ORIGINAL-URL:https://vakaruvejai.com
X-WR-CALDESC:Vakarų Vėjai renginiai
REFRESH-INTERVAL;VALUE=DURATION:PT1H
X-Robots-Tag:noindex
X-PUBLISHED-TTL:PT1H
BEGIN:VTIMEZONE
TZID:America/Los_Angeles
BEGIN:DAYLIGHT
TZOFFSETFROM:-0800
TZOFFSETTO:-0700
TZNAME:PDT
DTSTART:20220313T100000
END:DAYLIGHT
BEGIN:STANDARD
TZOFFSETFROM:-0700
TZOFFSETTO:-0800
TZNAME:PST
DTSTART:20221106T090000
END:STANDARD
BEGIN:DAYLIGHT
TZOFFSETFROM:-0800
TZOFFSETTO:-0700
TZNAME:PDT
DTSTART:20230312T100000
END:DAYLIGHT
BEGIN:STANDARD
TZOFFSETFROM:-0700
TZOFFSETTO:-0800
TZNAME:PST
DTSTART:20231105T090000
END:STANDARD
BEGIN:DAYLIGHT
TZOFFSETFROM:-0800
TZOFFSETTO:-0700
TZNAME:PDT
DTSTART:20240310T100000
END:DAYLIGHT
BEGIN:STANDARD
TZOFFSETFROM:-0700
TZOFFSETTO:-0800
TZNAME:PST
DTSTART:20241103T090000
END:STANDARD
BEGIN:DAYLIGHT
TZOFFSETFROM:-0800
TZOFFSETTO:-0700
TZNAME:PDT
DTSTART:20250309T100000
END:DAYLIGHT
BEGIN:STANDARD
TZOFFSETFROM:-0700
TZOFFSETTO:-0800
TZNAME:PST
DTSTART:20251102T090000
END:STANDARD
BEGIN:DAYLIGHT
TZOFFSETFROM:-0800
TZOFFSETTO:-0700
TZNAME:PDT
DTSTART:20260308T100000
END:DAYLIGHT
BEGIN:STANDARD
TZOFFSETFROM:-0700
TZOFFSETTO:-0800
TZNAME:PST
DTSTART:20261101T090000
END:STANDARD
END:VTIMEZONE
BEGIN:VEVENT
DTSTART;VALUE=DATE:20260107
DTEND;VALUE=DATE:20260124
DTSTAMP:20260423T131335
CREATED:20260106T164448Z
LAST-MODIFIED:20260117T045829Z
UID:30280-1767744000-1769212799@vakaruvejai.com
SUMMARY:TAG LA Open 2026 Art Show present artist Agnė Skaringa\, Los Andželas
DESCRIPTION:I’m so excited to be part of this wonderful group art exhibition and to share my work with you all. \nI’ll be showing an art piece I created in Lithuania\, inspired by my cozy hometown of Kaunas—a place very close to my heart. I would truly love to see you there and experience this exhibition together. \nL.A. Open 2026\nThis invitational open showcases a broad interpretation of contemporary art in Los Angeles and features a diverse range of media\, including Painting\, Drawing\, Photography\, Printmaking\, Mixed Media\, Sculpture\, Digital\, and Video art. \nExhibition Dates:\nWednesday\, January 7 – Friday\, January 23\, 2026 \nAwards Reception:\nSaturday\, January 10\, 2026 | 5:00 – 8:00 pm \nJuror:\nGene Sasse \n📍 The Artists Gallery\n5458 Wilshire Blvd\nLos Angeles\, CA 90036\nStreet parking available. \nThank you so much for following me and supporting my artistic journey—it truly means the world to me. I hope to see you there 💛 \nLet’s connect on Instagram: @artistagneskaringa
URL:https://vakaruvejai.com/renginys/tag-la-open-2026-art-show-present-artist-agne-scaring-los-andzelas/
LOCATION:The Artists Gallery\, 5458 Wilshire Blvd\, Los Angeles\, CA\, 90036
CATEGORIES:Los Andželas
ATTACH;FMTTYPE=image/png:https://vakaruvejai.com/wp-content/uploads/2026/01/Screenshot-2026-01-06-at-8.35.52-AM.png
END:VEVENT
BEGIN:VEVENT
DTSTART;VALUE=DATE:20251219
DTEND;VALUE=DATE:20251228
DTSTAMP:20260423T131335
CREATED:20251220T063420Z
LAST-MODIFIED:20251220T063420Z
UID:30163-1766102400-1766879999@vakaruvejai.com
SUMMARY:🎄 KALĖDINĖ LOTERIJA! 🎄
DESCRIPTION:Tokio dosnaus Kalėdų Senelio jau seniai neturėjome!\n\n\nTurite progą laimėti išskirtinį Artūro Braziūno paveikslą (muziejinės kokybės reprodukcija ant drobės) „AR TU MANE MATAI?“\nDydis: 38\,5 × 30 in\nVertė: 665 USD\n\n\nŠis stulbinantis meno kūrinys gali tapti JŪSŲ dar iki šių metų pabaigos!\n\n\n Kaip dalyvauti loterijoje?\n\n\nAtlikite 3 labai paprastus žingsnius:\n Sekite @giclee_makers ant Instagramos\n Pakomentuokite ART (arba ką tik norite) po bet kuriuo įrašu.\n Pažymėkite (tag) mažiausiai 3 draugus komentaruose.\n\n\nSpauskite čia: https://www.instagram.com/giclee_makers/\n\n\n Loterijos laikotarpis: gruodžio 13–27 d.\n Laimėtojas bus paskelbtas iki gruodžio 31 d. vidurnakčio\n\n\n Paveikslas šiuo metu yra San Francisko apylinkėse\, todėl:\n– jį reikės atsiimti patiems\, jūsų draugams (kokia būtų šauni priežastis kelionei!) arba\n– padengti siuntimo išlaidas\n\n\n Apie Giclée Makers\n\n\nGiclée Makers – dviejų lietuvių įkurta ir valdoma internetinė šiuolaikinio meno galerija JAV.\nJie pristato šiuolaikinius Lietuvos menininkus\, siūlydami:\n\n\nmuziejinės kokybės\, archyvines giclée spaudas\n\n\nrankų darbą\, gaminamą Scottsdale\, Arizona\n\n\nparuoštus kabinti kūrinius su individualaus rėminimo galimybėmis\n\n\npristatymą visoje JAV\n\n\nKiekvienas pardavimas tiesiogiai palaiko menininkus per komisinius.\n Mūsų misija – kelti lietuviško meno vertę JAV.\n\n\n Daugiau: www.gicleemakers.com\n\n\n Taigi\, sekite @giclee_makers\, žymėkite (tag) draugus ir šeimos narius – galbūt būtent JŪS laimėsite šią išskirtinę kalėdinę dovaną!\nSėkmės! \n\n\n———————————————————————————-\n\n\n CHRISTMAS GIVEAWAY! \nWe haven’t had a Santa this generous in a long time!\nYou have a chance to win an exclusive museum quality reproduction on canvas by Artūras Braziūnas\, “DO YOU SEE ME?”\nSize: 38.5 × 30 in\nValue: $665 USD\n\n\nThis stunning artwork could be YOURS before the end of the year!\n\n\n How to enter the giveaway?\n\n\nComplete these 3 very simple steps:\n Follow @giclee_makers on Instagram\n Comment ART (or anything you like) on any post\n Tag at least 3 friends in the comments\n\n\nLink: https://www.instagram.com/giclee_makers/\n\n\n Giveaway period: December 13–27\n Winner announced: by midnight on December 31\n\n\n The painting is currently located in the San Francisco area\, so:\n– it will need to be picked up in person\, by your friends (what a great excuse for a trip!)\, or\n– shipping costs will need to be covered\n\n\n About Giclée Makers\n\n\nGiclée Makers is a U.S.-based online contemporary art gallery founded and run by two Lithuanians.\nThey showcase contemporary Lithuanian artists\, offering:\n\n\nmuseum-quality\, archival giclée prints\nhandcrafted production in Scottsdale\, Arizona\nready-to-hang artworks with custom framing options\ndelivery throughout the United States\nEvery sale directly supports artists through commissions.\n Our mission is to elevate the value of Lithuanian art in the U.S.\n More info: www.gicleemakers.com\n\n\n So follow @giclee_makers\, tag your friends and family — maybe YOU will win this exclusive Christmas gift!\nGood luck!
URL:https://vakaruvejai.com/renginys/%f0%9f%8e%84-kaledine-loterija-%f0%9f%8e%84/
LOCATION:CA
CATEGORIES:Lietuviški renginiai
ATTACH;FMTTYPE=image/jpeg:https://vakaruvejai.com/wp-content/uploads/2025/12/600927638_854970233846444_1957677650771713940_n.jpg
END:VEVENT
BEGIN:VEVENT
DTSTART;TZID=America/Los_Angeles:20220603T170000
DTEND;TZID=America/Los_Angeles:20220603T190000
DTSTAMP:20260423T131335
CREATED:20220603T180148Z
LAST-MODIFIED:20220603T180148Z
UID:21615-1654275600-1654282800@vakaruvejai.com
SUMMARY:Rolando Dabruko paveikslų išpardavimas\, Los Andželas
DESCRIPTION:Gyvas pasirodymas ir didžiausias Rolando Dabruko paveikslų išpardavimas. Tik vieną dieną! Birželio 3d.\, 5:00 po pietų Santa Monikoje www.upperscafebakeshop.com adresas: 2024 Broadway\, Santa Monica\, CA 90404\n\nIki greito pasimatymo draugai!\n\nDaugiau informacijos tel.: (203) 494-6857 arba e-paštu: rolandas2@mac.com.\nVisus mano darbus galite pamatyti: www.WhimsicalFineArts.com
URL:https://vakaruvejai.com/renginys/rolando-dabruko-paveikslu-ispardavimas-los-andzelas/
LOCATION:Uppers Cafe & Bakeshop\, 2024 Broadway\, Santa Monica\, 90404
CATEGORIES:Los Andželas
ATTACH;FMTTYPE=image/jpeg:https://vakaruvejai.com/wp-content/uploads/2022/06/284271498_10158282564841734_4002919473014427656_n.jpg
END:VEVENT
END:VCALENDAR