BEGIN:VCALENDAR
VERSION:2.0
PRODID:-//Vakarų Vėjai - ECPv6.15.3//NONSGML v1.0//EN
CALSCALE:GREGORIAN
METHOD:PUBLISH
X-WR-CALNAME:Vakarų Vėjai
X-ORIGINAL-URL:https://vakaruvejai.com
X-WR-CALDESC:Vakarų Vėjai renginiai
REFRESH-INTERVAL;VALUE=DURATION:PT1H
X-Robots-Tag:noindex
X-PUBLISHED-TTL:PT1H
BEGIN:VTIMEZONE
TZID:America/Los_Angeles
BEGIN:DAYLIGHT
TZOFFSETFROM:-0800
TZOFFSETTO:-0700
TZNAME:PDT
DTSTART:20230312T100000
END:DAYLIGHT
BEGIN:STANDARD
TZOFFSETFROM:-0700
TZOFFSETTO:-0800
TZNAME:PST
DTSTART:20231105T090000
END:STANDARD
END:VTIMEZONE
BEGIN:VEVENT
DTSTART;TZID=America/Los_Angeles:20230513T200000
DTEND;TZID=America/Los_Angeles:20230513T210000
DTSTAMP:20260423T191041
CREATED:20230505T142448Z
LAST-MODIFIED:20230505T234032Z
UID:24337-1684008000-1684011600@vakaruvejai.com
SUMMARY:Tragic Magic - A story of recovery\, Los Andželas
DESCRIPTION:LT \nNeseniai surengiau 2 pasirodymus savo gimtąjame mieste Čikagoje\, kur ir prasidėjo mano istorija – pati giliausia ir transformuojanti patirtis! Ačiū Pasaulio Lietuvių Centras/Siela ir Jaunimo Centras. \nO DABAR! Man didelė garbė atlikti bisą „Best Of The Fest“ „The Whitefire Theatre“ Sherman Oaks mieste\, Kalifornijoje\, gegužės 13 d.\, 8 val. Prašome atvykti! Norėčiau jus visus ten pamatyti. \nKur: @whitefire_theatre in Sherman Oaks \nKada: Saturday\, May 13th at 8pm \nApie: https://whitefire.stagey.net/projects/9441 \n  \nEN \nJust performed 2 shows in my hometown Chicago where my story\nbegan – a most profound and transforming experience! Thank you Pasaulio Lietuvių Centras/Siela ir Jaunimo\nCentras. \nAnd NOW\,  I am deeply honored to perform an encore as part of  “Best Of The Fest” at The Whitefire Theatre in Sherman Oaks\, CA on May 13th\, 8:00.  Please come! I would love to see you there. \nWhere: @whitefire_theatre in Sherman Oaks \nWhen: Saturday\, May 13th at 8pm \nAbout: https://whitefire.stagey.net/projects/9441
URL:https://vakaruvejai.com/renginys/24337/
LOCATION:The Whitefire Theater\, 13500 Ventura Blvd.\, Sherman Oaks\, 91423
CATEGORIES:Los Andželas
ATTACH;FMTTYPE=image/jpeg:https://vakaruvejai.com/wp-content/uploads/2023/05/IMG_7390.jpeg
END:VEVENT
END:VCALENDAR