BEGIN:VCALENDAR
VERSION:2.0
PRODID:-//Vakarų Vėjai - ECPv6.15.3//NONSGML v1.0//EN
CALSCALE:GREGORIAN
METHOD:PUBLISH
X-ORIGINAL-URL:https://vakaruvejai.com
X-WR-CALDESC:Vakarų Vėjai renginiai
REFRESH-INTERVAL;VALUE=DURATION:PT1H
X-Robots-Tag:noindex
X-PUBLISHED-TTL:PT1H
BEGIN:VTIMEZONE
TZID:America/Los_Angeles
BEGIN:DAYLIGHT
TZOFFSETFROM:-0800
TZOFFSETTO:-0700
TZNAME:PDT
DTSTART:20240310T100000
END:DAYLIGHT
BEGIN:STANDARD
TZOFFSETFROM:-0700
TZOFFSETTO:-0800
TZNAME:PST
DTSTART:20241103T090000
END:STANDARD
END:VTIMEZONE
BEGIN:VEVENT
DTSTART;TZID=America/Los_Angeles:20241202T193000
DTEND;TZID=America/Los_Angeles:20241202T213000
DTSTAMP:20260423T161912
CREATED:20241129T130328Z
LAST-MODIFIED:20241129T130506Z
UID:28009-1733167800-1733175000@vakaruvejai.com
SUMMARY:Andrius Zlabys piano recital at Athenaeum Music & Arts\, La Jolla
DESCRIPTION:On Monday\, December 2\, Grammy-nominated pianist Andrius Žlabys will perform a varied program of works by J.S. Bach and César Franck and his own composition Echoes of Light\, an homage to Mozart. Žlabys states\, “At the center of the piece\, there are two fragments from Mozart’s Requiem. [What follows is] influenced by Carl Sagan’s writings. I imagine fragments of Mozart’s Requiem continuing to echo through space and time\, perhaps never again detected\, yet always present.” Žlabys has received acclaim for his appearances with many of the world’s leading orchestras\, including the New York Philharmonic\, Boston Symphony Orchestra\, Cleveland Orchestra\, Rotterdam Symphony\, and Philharmonic Orchestra of Buenos Aires. \nAll concerts are preceded by a pre-concert talk at 6:45 p.m. and are followed by a reception with the artists in the Sharon & Joel Labovitz Entry Hall. \nThe concerts will be in person at the Athenaeum Music & Arts Library. There are no physical tickets for these concerts. Your name will be on the attendee list at the front door. Doors open at 6:15 p.m. Seating is first-come; first-served. These concerts will be presented in compliance with State of California and County of San Diego health regulations as applicable at the time of each concert.  \nGet tickets
URL:https://vakaruvejai.com/renginys/andrius-zlabys-piano-recital-at-athenaeum-music-arts-la-jolla/
LOCATION:Athenaeum Music & Arts Library\, 1008 Wall Street\, La Jolla\, CA\, 92037
CATEGORIES:San Diego
ATTACH;FMTTYPE=image/png:https://vakaruvejai.com/wp-content/uploads/2024/11/Screen-Shot-2024-11-29-at-4.59.43-AM.png
END:VEVENT
END:VCALENDAR