BEGIN:VCALENDAR
VERSION:2.0
PRODID:-//Vakarų Vėjai - ECPv6.15.3//NONSGML v1.0//EN
CALSCALE:GREGORIAN
METHOD:PUBLISH
X-WR-CALNAME:Vakarų Vėjai
X-ORIGINAL-URL:https://vakaruvejai.com
X-WR-CALDESC:Vakarų Vėjai renginiai
REFRESH-INTERVAL;VALUE=DURATION:PT1H
X-Robots-Tag:noindex
X-PUBLISHED-TTL:PT1H
BEGIN:VTIMEZONE
TZID:America/Los_Angeles
BEGIN:DAYLIGHT
TZOFFSETFROM:-0800
TZOFFSETTO:-0700
TZNAME:PDT
DTSTART:20240310T100000
END:DAYLIGHT
BEGIN:STANDARD
TZOFFSETFROM:-0700
TZOFFSETTO:-0800
TZNAME:PST
DTSTART:20241103T090000
END:STANDARD
END:VTIMEZONE
BEGIN:VEVENT
DTSTART;TZID=America/Los_Angeles:20240504T160000
DTEND;TZID=America/Los_Angeles:20240504T180000
DTSTAMP:20260423T162104
CREATED:20240420T034842Z
LAST-MODIFIED:20240420T034842Z
UID:26564-1714838400-1714845600@vakaruvejai.com
SUMMARY:Piešimo ir muzikos šeštadienis\, San Diegas
DESCRIPTION:Kviečiame visus\, norinčius išmokti piešti ar atgaivinti piešimo įgūdžius į veido\, galvos ir detalių piešimo pamoką su manimi\, Laura. Piešim\, ragausim vyno skambant Alan McGee gyvai atliekamai pianino muzikai. Piešimo pamoka orientuota 18-99 metų amžiaus grupėms. Suteiksime piešimo priemonių\, popieriaus.\n\nLauksime visų gegužės 4d. 16:00 val.Adresas: 1197 Whispering Water Dr\, San Marcos 92078\n\nBilieto kaina: $40\n\nPrašome užsiregistruoti\, vietų skaičius ribotas.\n\nRegistruojamės iki gegužės 1-os sumokėję mokestį per Zelle\, el. paštas: sandiegolietuviai@gmail.com\n\nIki pasimatymo!
URL:https://vakaruvejai.com/renginys/piesimo-ir-muzikos-sestadienis-san-diegas/
LOCATION:1197 Whispering Water Dr\, San Marcos\, CA 92078
CATEGORIES:Lietuviški renginiai,San Diego
ATTACH;FMTTYPE=image/jpeg:https://vakaruvejai.com/wp-content/uploads/2024/04/436725272_10230746639184681_1607173425269192551_n.jpeg
END:VEVENT
END:VCALENDAR