BEGIN:VCALENDAR
VERSION:2.0
PRODID:-//Vakarų Vėjai - ECPv6.15.3//NONSGML v1.0//EN
CALSCALE:GREGORIAN
METHOD:PUBLISH
X-ORIGINAL-URL:https://vakaruvejai.com
X-WR-CALDESC:Vakarų Vėjai renginiai
REFRESH-INTERVAL;VALUE=DURATION:PT1H
X-Robots-Tag:noindex
X-PUBLISHED-TTL:PT1H
BEGIN:VTIMEZONE
TZID:America/Los_Angeles
BEGIN:DAYLIGHT
TZOFFSETFROM:-0800
TZOFFSETTO:-0700
TZNAME:PDT
DTSTART:20200308T100000
END:DAYLIGHT
BEGIN:STANDARD
TZOFFSETFROM:-0700
TZOFFSETTO:-0800
TZNAME:PST
DTSTART:20201101T090000
END:STANDARD
BEGIN:DAYLIGHT
TZOFFSETFROM:-0800
TZOFFSETTO:-0700
TZNAME:PDT
DTSTART:20210314T100000
END:DAYLIGHT
BEGIN:STANDARD
TZOFFSETFROM:-0700
TZOFFSETTO:-0800
TZNAME:PST
DTSTART:20211107T090000
END:STANDARD
BEGIN:DAYLIGHT
TZOFFSETFROM:-0800
TZOFFSETTO:-0700
TZNAME:PDT
DTSTART:20220313T100000
END:DAYLIGHT
BEGIN:STANDARD
TZOFFSETFROM:-0700
TZOFFSETTO:-0800
TZNAME:PST
DTSTART:20221106T090000
END:STANDARD
BEGIN:DAYLIGHT
TZOFFSETFROM:-0800
TZOFFSETTO:-0700
TZNAME:PDT
DTSTART:20230312T100000
END:DAYLIGHT
BEGIN:STANDARD
TZOFFSETFROM:-0700
TZOFFSETTO:-0800
TZNAME:PST
DTSTART:20231105T090000
END:STANDARD
END:VTIMEZONE
BEGIN:VEVENT
DTSTART;TZID=America/Los_Angeles:20230520T110000
DTEND;TZID=America/Los_Angeles:20230520T140000
DTSTAMP:20260423T143931
CREATED:20230505T185534Z
LAST-MODIFIED:20230505T185559Z
UID:24388-1684580400-1684591200@vakaruvejai.com
SUMMARY:"Lino" lituanistinės mokyklos mokslo metų užbaigimo piknikas\, Sietlas
DESCRIPTION:LT\n\nLino lituanistinės mokyklėlės mokytojos\, tėveliai ir mokiniai kviečia visus į mokslo metų uždarymą gegužės 20 dieną 11 valandą parke.\nŽaidimai\, atestatų įteikimas\, pabuvimas kartu maloniame renginyje.\nVaišės suneštinės.\nMaloniai prašome vaikų atnešti gėlės žiedą savo mokytojoms.\nAdresas: 500 8th St S\, Kirkland 98033\nIki malonaus!\n\nEN \n\nThe teachers\, parents and students of the Lithuanian Linas school invite everyone to the closing of the school year on May 20 at 11 a.m. in the park.\nGames\, presentation of certificates\, spending time together at a pleasant event. Please bring potluck dish to share.\nWe kindly ask the children to bring a flower to their teachers.\nAddress: 500 8th St S\, Kirkland 98033\nSee you soon!
URL:https://vakaruvejai.com/renginys/lino-lituanistines-mokyklos-mokslo-metu-uzbaigimo-piknikas-sietlas/
LOCATION:500 8th St S\, Kirkland 98033
CATEGORIES:Lietuviški renginiai,Seattle
ATTACH;FMTTYPE=image/jpeg:https://vakaruvejai.com/wp-content/uploads/2023/05/344211681_783997216272903_2766965536228248440_n.jpeg
ORGANIZER;CN="Seattle Lithuanian Community/Seattle Lietuvi%C5%B3 Bendruomen%C4%97":MAILTO:seattlelb.president@gmail.com
END:VEVENT
BEGIN:VEVENT
DTSTART;TZID=America/Los_Angeles:20230409T110000
DTEND;TZID=America/Los_Angeles:20230409T160000
DTSTAMP:20260423T143931
CREATED:20230407T211254Z
LAST-MODIFIED:20230407T211254Z
UID:24191-1681038000-1681056000@vakaruvejai.com
SUMMARY:Velykinis piknikas\, San Franciskas
DESCRIPTION:Balandžio 9 d.\, sekmadienį\, kviečiame į Velykinį pikniką.\nAtsineškite skanaus maisto ir gėrimų bendram vaišių stalui.\nAtsivežkite daug gražių velykinių margučių:\n GRAŽIAUSIO MARGUČIO KONKURSUI (rekomenduojame pasirūpinkite ir pateikimu/apipavidalinimu);\n KIEČIAUSIO MARGUČIO PAIEŠKAI – savo kietuolį pasilikite sau\, kad netyčia kas nesuvalgytų nuo bendro stalo;\nMARGUČIŲ RIDENIMUI.\nSkambės lietuviška muzika\, dainos bei linksmi pokalbiai!\nAvykite patys bei pakvieskite savo draugus ir pažįstamus!\nPernai buvo labai smagu – tikimės šiais metais bus dar geriau.\nJei kas norėtumėte pasinaudoti parko griliais\, prašome atsivežti visus reikmenis.\n Pasiimkite ir vienkartinių indų.\nJei namuose turite nenaudojamų vienkartinių indų\, įrankių ar kitų piknikams tinkamų priemonių\, atvežkite mums – mes panaudosime per šį ir kitus piknikus. Atlaisvinkite vietą namuose!\n Gali ir nori prisidėti prie pasiruošimo ir sutvarkymo?\n Gali prisidėti prie linksmybių dainomis\, muzika ar pramogomis?\nRašyk mums info@sflithuanians.com\n\nFoothills Nature Preserve\, 11799 Page Mill Road\, Los Altos Hills\, CA 94022\n11-16 val.\nSekite ženklus iki ORCHARD GLEN PICNIC AREA ir ieškokite plevėsuojančios trispalvės.\nRenginys nemokamas\, bet įvažiavimas į parką $6 mašinai.\n APSIVILKITE spalvotai\, margai – juk spalvų niekada nebus per daug! Pikniko vieta po medžiais\, tai pasiimkite šiltesnių drabužių\, jei diena bus vėsesnė.\n Šią dieną parke šunys draudžiami.\nBūtinai dar paskaitykite renginio aprašymą prieš pat Velykas\, nes galimi papildymai ir pakeitimai.
URL:https://vakaruvejai.com/renginys/velykinis-piknikas-san-franciskas/
LOCATION:Foothills Nature Preserve\, 11799 Page Mill Road\, Los Altos Hills\, CA\, 94022
CATEGORIES:Lietuviški renginiai,San Franciskas
ATTACH;FMTTYPE=image/jpeg:https://vakaruvejai.com/wp-content/uploads/2023/04/336536919_144529195211552_7957476254651434222_n.jpeg
END:VEVENT
BEGIN:VEVENT
DTSTART;TZID=America/Los_Angeles:20230326T120000
DTEND;TZID=America/Los_Angeles:20230326T160000
DTSTAMP:20260423T143931
CREATED:20230309T155453Z
LAST-MODIFIED:20230310T042644Z
UID:23875-1679832000-1679846400@vakaruvejai.com
SUMMARY:Lithuanian Spring Picnic\, Arizona
DESCRIPTION:EN \nLithuanians of Arizona\, friends and family! \nWe are very pleased to announce the Lithuanian Spring Picnic! The picnic is scheduled for Sunday\, March 26th at the Arrowhead Park Lions Pavilion in Chandler. \nThe refreshments will open at 12pm; we’re planning to serve hot food around 1pm. Please bring a dessert to share with others. \nWe will be playing Lithuanian music. There’s a spacious playground right next to the ramada\, and\, in addition to that\, there will be a bounce house! \nWe look forward to seeing you! \nADDRESS: \nArrowhead Park\n1475 W Erie St.\nChandler\, AZ 85224 \nLT \nArizonos lietuviai\, giminaičiai ir draugai! \nSkelbiame Arizonos lietuvių pikniką! Šiais metais renkamės Kovo 26 dieną\, sekmadienį\, Arrowhead parko Lions Pavillijone\, Chandleryje\, 12-tą valandą. \nGalėsit atsigaivinti gėrimais nuo 12-tos valandos\, o pietūs bus apie 13val. Kaip ir kiekvienais metais\, vaišinsimės lietuvišku maistu. Jei galite\, atsineškite desertą pasidalinimui. \nSkambės lietuviška muzika. Vaikai galės žaisti šalia ramados esančioje žaidimų aikštelėje ir mes užsakysime batutą. \nLaukiame visų atvykstant! \nADRESAS: \nArrowhead Park\n1475 W Erie St.\nChandler\, AZ 85224
URL:https://vakaruvejai.com/renginys/23875/
LOCATION:Arrowhead Park\, 1475 W Erie St.\, Chandler\, AZ\, 85224
CATEGORIES:Arizona,Lietuviški renginiai
ATTACH;FMTTYPE=image/jpeg:https://vakaruvejai.com/wp-content/uploads/2023/03/0CB1833B-EACD-4046-9AEC-60A62587BC0D.jpeg
END:VEVENT
BEGIN:VEVENT
DTSTART;TZID=America/Los_Angeles:20220723T140000
DTEND;TZID=America/Los_Angeles:20220723T170000
DTSTAMP:20260423T143931
CREATED:20220603T164734Z
LAST-MODIFIED:20220603T164734Z
UID:21588-1658584800-1658595600@vakaruvejai.com
SUMMARY:Lietuvos Dukterų kasmetinis mėlynių piknikas - sugrįžo! \, WA
DESCRIPTION:Lietuvos Dukterys maloniai kviečia visus lietuvius į kasmetinį mėlynių pikniką! Niekada ne per anksti pradėti norėti gero oro. \nDėl papildomos informacijos rašykite email: lietuvos.dukteru.draugija.seattle@gmail.com
URL:https://vakaruvejai.com/renginys/lietuvos-dukteru-kasmetinis-melyniu-piknikas-sugrizo-wa/
LOCATION:Blueberry Acres\, 32 McRae Rd\, Arlington\, WA\, 98223
CATEGORIES:Portlandas,Seattle
ATTACH;FMTTYPE=image/jpeg:https://vakaruvejai.com/wp-content/uploads/2022/06/Blueberry-Cobbler-Picnic-5.jpg
END:VEVENT
BEGIN:VEVENT
DTSTART;TZID=America/Los_Angeles:20220605T110000
DTEND;TZID=America/Los_Angeles:20220605T160000
DTSTAMP:20260423T143931
CREATED:20220520T195528Z
LAST-MODIFIED:20220524T145315Z
UID:21525-1654426800-1654444800@vakaruvejai.com
SUMMARY:Bay Area Baltic Picnic\, San Mateo\, CA
DESCRIPTION:Save the date for the Baltic Picnic on June 5 in San Mateo! Look for more event details soon. \nTickets available now – https://san-francisco-estonian-society.square.site/ – we encourage you to buy online in advance. \nChildren 16 and under are free!
URL:https://vakaruvejai.com/renginys/bay-area-baltic-picnic-san-mateo-ca/
LOCATION:Coyote Point Recreation Area\, 1701 Coyote Point Drive\, San Mateo\, CA\, 94401
CATEGORIES:San Franciskas
ATTACH;FMTTYPE=image/jpeg:https://vakaruvejai.com/wp-content/uploads/2022/05/BC2B0759-6E49-4316-86B7-0921BD4386E3.jpeg
END:VEVENT
BEGIN:VEVENT
DTSTART;TZID=America/Los_Angeles:20220604T110000
DTEND;TZID=America/Los_Angeles:20220604T130000
DTSTAMP:20260423T143931
CREATED:20220603T163259Z
LAST-MODIFIED:20220603T163823Z
UID:21582-1654340400-1654347600@vakaruvejai.com
SUMMARY:"Lino" lituanistinės mokyklos metų pabaigos piknikas\, WA
DESCRIPTION:„Lino” lituanistinė mokykla kviečia visus bendruomenės narius į mokyklos išleistuvių šventę. Programoje bus žaidimai\, šokiai ir apdovanojimai. Maistas suneštinis. https://www.mokyklalinas.com/.
URL:https://vakaruvejai.com/renginys/linas-lithuanian-school-year-end-picnic-wa/
LOCATION:633 Waverly Park Way\, Kirkland 98033
CATEGORIES:Seattle
ATTACH;FMTTYPE=image/jpeg:https://vakaruvejai.com/wp-content/uploads/2022/06/piknikas-gamta-maistas-87502043.jpg
END:VEVENT
BEGIN:VEVENT
DTSTART;TZID=America/Los_Angeles:20210911T130000
DTEND;TZID=America/Los_Angeles:20210911T170000
DTSTAMP:20260423T143931
CREATED:20210904T184729Z
LAST-MODIFIED:20210904T184729Z
UID:17617-1631365200-1631379600@vakaruvejai.com
SUMMARY:Rudens piknikas - Fall Picnic\, San Diego
DESCRIPTION:Nuoširdžiai kviečiame visus į kasmetinį San Diego lietuvių bendruomenės pikniką!\nStalas: suneštinis. Taip pat atsineškite sudedamų kėdžių ar patiesalų.\n\nSan Diego Lithuanian community would like to invite everyone to our annual picnic.\nFood: pot luck style. We also encourage you to bring lawn chairs or blankets.\n\nVieta/Location: LOWER San Dieguito County Park (Del Mar).\n\nRašykite\, jei turite klausimų/Please message us with any questions!\n\nNekantraujame visus pamatyti\, nes tikrai prailgo/Cannot wait to see you – it’s been too long!
URL:https://vakaruvejai.com/renginys/rudens-piknikas-fall-picnic-san-diego/
LOCATION:San Dieguito County Park\, 1628 Lomas Santa Fe Dr.\, Del Mar\, CA\, 92014
CATEGORIES:Lietuviški renginiai,San Diego
ATTACH;FMTTYPE=image/jpeg:https://vakaruvejai.com/wp-content/uploads/2021/09/241502241_10159667806153259_6288432617894552143_n.jpg
END:VEVENT
BEGIN:VEVENT
DTSTART;VALUE=DATE:20200405
DTEND;VALUE=DATE:20200406
DTSTAMP:20260423T143931
CREATED:20200308T232521Z
LAST-MODIFIED:20200319T032812Z
UID:11790-1586044800-1586131199@vakaruvejai.com
SUMMARY:!Atšaukta! Palaikome Lietuvą Eurovizijoje 2020 su grupės The Roop šokiu "On Fire"
DESCRIPTION:
URL:https://vakaruvejai.com/renginys/palaikome-lietuva-eurovizijoje-2020-su-grupes-the-roop-sokiu-on-fire/
CATEGORIES:Lietuviški renginiai,Los Andželas
ATTACH;FMTTYPE=image/jpeg:https://vakaruvejai.com/wp-content/uploads/2020/03/89225382_10158108726489494_4058050307177840640_o.jpg
END:VEVENT
END:VCALENDAR