BEGIN:VCALENDAR
VERSION:2.0
PRODID:-//Vakarų Vėjai - ECPv6.15.3//NONSGML v1.0//EN
CALSCALE:GREGORIAN
METHOD:PUBLISH
X-ORIGINAL-URL:https://vakaruvejai.com
X-WR-CALDESC:Vakarų Vėjai renginiai
REFRESH-INTERVAL;VALUE=DURATION:PT1H
X-Robots-Tag:noindex
X-PUBLISHED-TTL:PT1H
BEGIN:VTIMEZONE
TZID:America/Los_Angeles
BEGIN:DAYLIGHT
TZOFFSETFROM:-0800
TZOFFSETTO:-0700
TZNAME:PDT
DTSTART:20200308T100000
END:DAYLIGHT
BEGIN:STANDARD
TZOFFSETFROM:-0700
TZOFFSETTO:-0800
TZNAME:PST
DTSTART:20201101T090000
END:STANDARD
BEGIN:DAYLIGHT
TZOFFSETFROM:-0800
TZOFFSETTO:-0700
TZNAME:PDT
DTSTART:20210314T100000
END:DAYLIGHT
BEGIN:STANDARD
TZOFFSETFROM:-0700
TZOFFSETTO:-0800
TZNAME:PST
DTSTART:20211107T090000
END:STANDARD
BEGIN:DAYLIGHT
TZOFFSETFROM:-0800
TZOFFSETTO:-0700
TZNAME:PDT
DTSTART:20220313T100000
END:DAYLIGHT
BEGIN:STANDARD
TZOFFSETFROM:-0700
TZOFFSETTO:-0800
TZNAME:PST
DTSTART:20221106T090000
END:STANDARD
BEGIN:DAYLIGHT
TZOFFSETFROM:-0800
TZOFFSETTO:-0700
TZNAME:PDT
DTSTART:20230312T100000
END:DAYLIGHT
BEGIN:STANDARD
TZOFFSETFROM:-0700
TZOFFSETTO:-0800
TZNAME:PST
DTSTART:20231105T090000
END:STANDARD
BEGIN:DAYLIGHT
TZOFFSETFROM:-0800
TZOFFSETTO:-0700
TZNAME:PDT
DTSTART:20240310T100000
END:DAYLIGHT
BEGIN:STANDARD
TZOFFSETFROM:-0700
TZOFFSETTO:-0800
TZNAME:PST
DTSTART:20241103T090000
END:STANDARD
BEGIN:DAYLIGHT
TZOFFSETFROM:-0800
TZOFFSETTO:-0700
TZNAME:PDT
DTSTART:20250309T100000
END:DAYLIGHT
BEGIN:STANDARD
TZOFFSETFROM:-0700
TZOFFSETTO:-0800
TZNAME:PST
DTSTART:20251102T090000
END:STANDARD
END:VTIMEZONE
BEGIN:VEVENT
DTSTART;TZID=America/Los_Angeles:20250315T113000
DTEND;TZID=America/Los_Angeles:20250315T130000
DTSTAMP:20260423T150020
CREATED:20250315T024817Z
LAST-MODIFIED:20250315T025421Z
UID:28591-1742038200-1742043600@vakaruvejai.com
SUMMARY:Kovo 11-osios ir Knygnešių dienos šventė\, San Franciskas
DESCRIPTION:Norime pakviesti visus į Kovo-11-os šventę RYTOJ\, KOVO 15d (ŠEŠTADIENĮ)\, San Francisko Lituanistinėje Mokykloje. \nVyks Lituanistinės mokyklos mokinių skaitoma poezija\, dainos ir šokiai. Laisvės ir knygnešių temos viktorina.\nVaišės bus suneštinės. \nKADA: Šeštadienį\, kovo 15 d. – 11:30 val.\nKUR: San Francisko Lituanistinės Mokyklos „Genys” Salėje/Castro Valley United Methodist Church 19806 Wisteria Street Castro Valley\, CA 94546\nDaugiau apie renginį: https://www.facebook.com/events/623409710502659/
URL:https://vakaruvejai.com/renginys/kovo-11-osios-ir-knygnesiu-dienos-svente-san-franciskas/
LOCATION:19806 Wisteria Street\, Castro Valley\, CA\, United States\, California 94546
CATEGORIES:San Franciskas
ATTACH;FMTTYPE=image/jpeg:https://vakaruvejai.com/wp-content/uploads/2025/03/479505427_1169719568193684_8344540452100613878_n.jpeg
END:VEVENT
BEGIN:VEVENT
DTSTART;TZID=America/Los_Angeles:20231104T170000
DTEND;TZID=America/Los_Angeles:20231104T190000
DTSTAMP:20260423T150020
CREATED:20231020T073052Z
LAST-MODIFIED:20231020T073052Z
UID:25371-1699117200-1699124400@vakaruvejai.com
SUMMARY:Poetės Birutės Grašytės-Black knygos pristatymas ir poezijos vakaras\, San Diegas
DESCRIPTION:LT\n\nKviečiame visus į talentingosios San Diego lietuvių bendruomenės narės\, mokytojos ir poetės Birutės Grašytės-Black knygos “Sumokėjau alyvmedžio lapais” pristatymą ir poezijos vakarą.\nLietuvoje knygos rankraštis laimėjo Rašytojų sąjungos Pirmosios knygos konkursą\, o knyga apdovanota Zigmo Gaidamavičiaus-Gėlės ir Jaunojo jotvingio premijomis bei nominuota Metų knygos rinkimuose.\nVakaro metu susitiksite su autore\, paklausysite poezijos\, turėsite galimybę įsigyti naująją jos knygą\, o norint ir pasidalinti savo kūryba.\nTaip pat turėsite progą pasidairyti po autorės\, mados žurnalistės ir iliustratorės Lauros Latour mados iliustracijų parodą.\nVakaro pagrindinė kalba – lietuvių\, tačiau keletas autorės eilėraščių yra išversti į anglų kalbą ir ji juos mielai paskaitys.\nRenginys nemokamas. Gėrimai ir vaišės už simbolinę auką.\n\nEN\n\nJoin us for an enchanting evening as we celebrate the launch of a captivating new poetry book by the talented author Birute Grasyte-Black.\nMain event language will be Lithuanian but some of the poems are translated in English. Author will be happy to share them!
URL:https://vakaruvejai.com/renginys/poetes-birutes-grasytes-black-knygos-pristatymas-ir-poezijos-vakaras-san-diegas/
LOCATION:1197 Whispering Water Dr\, San Marcos\, CA 92078
CATEGORIES:Lietuviški renginiai,San Diego
ATTACH;FMTTYPE=image/jpeg:https://vakaruvejai.com/wp-content/uploads/2023/10/385827992_10218099749243708_2106902939541970231_n.jpeg
END:VEVENT
BEGIN:VEVENT
DTSTART;VALUE=DATE:20230624
DTEND;VALUE=DATE:20230626
DTSTAMP:20260423T150020
CREATED:20230616T142608Z
LAST-MODIFIED:20230616T190509Z
UID:24737-1687564800-1687737599@vakaruvejai.com
SUMMARY:Opening Night: Poetry in Music\, Portlandas
DESCRIPTION:Poetry and music\, two of the most evocative art forms\, are often intertwined to create an interdisciplinary experience called art song. German\, English\, and Persian poetry are the inspirations for songs by Johannes Brahms and a world premiere by CMNW Protégé composer Kian Ravaei. Both composers added obligato string instruments to add color to the traditional voice and piano in art songs. The program is capped by one of Brahms’s grandest and most glorious works of all\, his second Piano Quartet. Mezzo-soprano Fleur Barron returns to CMNW after her dazzling performances last summer\, poetic pianist Ieva Jokūbavičiūtė makes her CMNW debut\, and brilliant string players Benjamin Beilman\, Hsin-Yun Huang\, and Peter Stumpf celebrate the opening of the 2023 festival. \nFleur Barron appears by arrangement with IMG Artists\, 7 West 54th Street\, New York\, NY 10019. (212) 994-3500 www.imgartists.com \nReed College\, Kaul Auditorium\nSaturday\, 6/24 • 8:00 pm \nPSU\, Lincoln Performance Hall\nSunday\, 6/25 • 4:00 pm PT \nBuy Subscription \nBuy Single Tickets \nProgram:\n\nMOZART Duo for Violin and Viola No. 2 in B-flat Major\, K. 424\nKIAN RAVAEI “Gulistan” for Voice\, Piano & Cello (2023)\nBRAHMS Two Songs for Voice\, Viola and Piano\, Op. 91\nBRAHMS Piano Quartet No. 2 in A Major\, Op. 26\n\nMore info
URL:https://vakaruvejai.com/renginys/opening-night-poetry-in-music-portland/
LOCATION:Reed College\, Kaul Auditorium\, 3017 SE Woodstock Blvd\, Portland\, OR\, 97202
CATEGORIES:Portlandas
ATTACH;FMTTYPE=image/jpeg:https://vakaruvejai.com/wp-content/uploads/2023/06/IMG_0378-scaled.jpg
END:VEVENT
BEGIN:VEVENT
DTSTART;VALUE=DATE:20200314
DTEND;VALUE=DATE:20200315
DTSTAMP:20260423T150020
CREATED:20200218T070805Z
LAST-MODIFIED:20200313T222639Z
UID:11451-1584144000-1584230399@vakaruvejai.com
SUMMARY:Renginys atšaukiamas - Poetiniai pašnekesiai/koncertas\, Portland\, OR
DESCRIPTION:Portlando Lietuvių Bendruomenė atšaukia renginį dėl koronaviruso grėsmės.
URL:https://vakaruvejai.com/renginys/poetiniai-pasnekesiai-koncertas-portland-or/
CATEGORIES:Lietuviški renginiai,Portlandas
ATTACH;FMTTYPE=image/jpeg:https://vakaruvejai.com/wp-content/uploads/2020/02/596E3D5A-4CAD-4127-8CFC-6C0C61BC86DB.jpeg
END:VEVENT
BEGIN:VEVENT
DTSTART;VALUE=DATE:20200313
DTEND;VALUE=DATE:20200314
DTSTAMP:20260423T150020
CREATED:20200214T214535Z
LAST-MODIFIED:20200313T073429Z
UID:11403-1584057600-1584143999@vakaruvejai.com
SUMMARY:Atšauktas Poezijos ir Muzikos Vakaras\, Seattle
DESCRIPTION:Seattle Lietuvių Bendruomenė atšaukią muzikos ir poezijos vakarą dėl koronoviruso grėsmės. \n 
URL:https://vakaruvejai.com/renginys/poezijos-ir-muzikos-vakaras-evening-of-music-and-poetry-seattle/
CATEGORIES:Lietuviški renginiai,Seattle
ATTACH;FMTTYPE=image/jpeg:https://vakaruvejai.com/wp-content/uploads/2020/02/596E3D5A-4CAD-4127-8CFC-6C0C61BC86DB.jpeg
END:VEVENT
END:VCALENDAR