BEGIN:VCALENDAR
VERSION:2.0
PRODID:-//Vakarų Vėjai - ECPv6.15.3//NONSGML v1.0//EN
CALSCALE:GREGORIAN
METHOD:PUBLISH
X-WR-CALNAME:Vakarų Vėjai
X-ORIGINAL-URL:https://vakaruvejai.com
X-WR-CALDESC:Vakarų Vėjai renginiai
REFRESH-INTERVAL;VALUE=DURATION:PT1H
X-Robots-Tag:noindex
X-PUBLISHED-TTL:PT1H
BEGIN:VTIMEZONE
TZID:America/Los_Angeles
BEGIN:DAYLIGHT
TZOFFSETFROM:-0800
TZOFFSETTO:-0700
TZNAME:PDT
DTSTART:20220313T100000
END:DAYLIGHT
BEGIN:STANDARD
TZOFFSETFROM:-0700
TZOFFSETTO:-0800
TZNAME:PST
DTSTART:20221106T090000
END:STANDARD
END:VTIMEZONE
BEGIN:VEVENT
DTSTART;VALUE=DATE:20220422
DTEND;VALUE=DATE:20220425
DTSTAMP:20260423T145843
CREATED:20220326T022626Z
LAST-MODIFIED:20220415T235350Z
UID:20761-1650585600-1650844799@vakaruvejai.com
SUMMARY:JAV lietuvių poezijos pavasaris 2022\, Los Andželas
DESCRIPTION:KVIETIMAS \n„suburti išeivijoje gyvenančius lietuvių ir JAV lietuvių poetus iš skirtingų JAV valstijų – kultūrine veikla prisidėti prie JAV ir Pasaulio lietuvių poetų tautinio tapatumo išsaugojimo JAV išeivijoje\, sudaryti ir išleisti kasmetinį PoPaJAVlt poezijos rinkinį\, pristatyti poeziją ir poetus jau tradicija tapusiame Poezijos Pavasario JAV renginyje\, pasidalinti sukauptais tekstais ir patirtimi ne tik tarpusavyje\, bet ir su visa JAV lietuvių bendruomene ir tapti JAV išeivijos kultūrine ir literatūrine dalimi.” \nJAV lietuvių poetų Poezijos Pavasario 2022: MŪZOS SODE \n—— BILIETAI —— \nOrganizatoriai \nJAV lietuvių Poezijos pavasaris vyks balandžio 22-23-24 dienomis\, Los Angeles\, CA\, šv. Kazimiero parapijoje\, didžiojoje salėje\, 2718 St George St.\, Los Angeles\, CA\, USA. \nPasiruošimo vakaras vyks 2022 balandžio 22 d. penktadienį Bernardo Brazdžionio išeivijos menininkų kiemelyje 8 val. vakare pristatant keramiko Alvydo Pakarklio parodą „22 NE: poetai.“ Alvydas Pakarklis yra molio meistras iš Čikagos\, meno darbais džiuginantis ne vienus namus ir generalinis JAV lietuvių poezijos pavasario apdovanojimų mecenatas. \n22 dienos vakare planuojami naktiniai skaitymai eilėraščių\, kurie bus rašomi tą rytą Santa Monikos pjere\, prie nr.22 gelbėtojų bokštelio. Susiburs JAV lietuvių poetai iš skirtingų valstijų ir svečiai iš Lietuvos – Lietuvos rašytojų sąjungos nariai ir kiti poetai kurie JAV ar Los Angeles. CA svečiuosis pirmą kartą savo gyvenimuose. Išrinksime labiausiai įsimintiną ir juo pasidalinsime su šeštadienį\, balandžio 23 dieną susirinkusiais klausytojais ir stebėtojais. \n2022 balandžio 23 d.\, šeštadienį\, šv. Kazimiero parapijos salėje vyks pagrindinisJAV lietuvi; poezijos pavasario renginys ir susitikimas su autoriais. JAV lietuvių poezijos pavasario atidarymas planuojamas 6 val. vakare B. Bernardo išeivijos menininkų kiemelyje skambant poezijai ir muzikai. Skaitymus ir meninę programą tęsime didžiojoje salėje. Vakaro uždarymas planuojamas Čikagos teatro sambūrio ŽALTVYKSLĖ spektakliu “po dangumi žvaigždėtu”\, skirtu poetui Pauliui Širviui. (vaid. Linas Umbrasas\, Liepa Januškaitė. rež\, Ilona Čiapaitė). \nBalandžio 24 d. sekmadienį POPAJAVLT22 uždarymą pradėsime šventomis mišiomis jas atnašaujant kun. Tomui Karanauskui. Giedos sopranas Agnė Giedraitytė ir svečiai. Po šv. mišių 12 val. – susitikimas su Lietuvos Rašytojų sąjungos ir Lietuvių rašytojų draugijos JAV poetais ir vadovais. Vaišinsimės vynu ir kava. \n13 val. kviečiame visus į iškilmingą Vyganto ir Agnės G ŠIMTMEČIO TAKAIS koncertą\, kurio metu skambės kūriniai pagal B. Brazdžionio\, J. Jakšto\, P. Širvio\, Just. Marcinkevičiaus\, V. Pačinskaitės\, R. Skučaitės\, V. Dinstmano\, S. Avižienytės\, V. Bako\, A. Jonyno\, V. Mačernio ir kitų eiles. Akomponuos Tomas Varnagiris\, talkins Augis Dicevičius. Po gražaus susitikimo planuojama palydėti saulę ir skristi atgal – kas į Čikagą\, kas į namus. \nVisų labai lauksime!
URL:https://vakaruvejai.com/renginys/jav-lietuviu-poezijos-pavasaris-2022/
CATEGORIES:Lietuviški renginiai
ATTACH;FMTTYPE=image/jpeg:https://vakaruvejai.com/wp-content/uploads/2022/03/274715729_343718287752928_4919642921611169641_n.jpg
END:VEVENT
END:VCALENDAR