BEGIN:VCALENDAR
VERSION:2.0
PRODID:-//Vakarų Vėjai - ECPv6.15.3//NONSGML v1.0//EN
CALSCALE:GREGORIAN
METHOD:PUBLISH
X-ORIGINAL-URL:https://vakaruvejai.com
X-WR-CALDESC:Vakarų Vėjai renginiai
REFRESH-INTERVAL;VALUE=DURATION:PT1H
X-Robots-Tag:noindex
X-PUBLISHED-TTL:PT1H
BEGIN:VTIMEZONE
TZID:America/Los_Angeles
BEGIN:DAYLIGHT
TZOFFSETFROM:-0800
TZOFFSETTO:-0700
TZNAME:PDT
DTSTART:20200308T100000
END:DAYLIGHT
BEGIN:STANDARD
TZOFFSETFROM:-0700
TZOFFSETTO:-0800
TZNAME:PST
DTSTART:20201101T090000
END:STANDARD
END:VTIMEZONE
BEGIN:VEVENT
DTSTART;VALUE=DATE:20200228
DTEND;VALUE=DATE:20200302
DTSTAMP:20260423T173701
CREATED:20200124T001645Z
LAST-MODIFIED:20200124T005822Z
UID:11133-1582848000-1583107199@vakaruvejai.com
SUMMARY:Konsulinė misija\, Portland
DESCRIPTION:Lietuvos Respublikos generalinis konsulatas Los Andžele 2020 m. vasario 28 dieną (penktadienį)  ir kovo 1 dieną (sekmadienį) organizuoja konsulinę misiją į Portlandą\, Oregono valstiją\, kurios metu konsulinis pareigūnas priims Lietuvos Respublikos piliečius ir lietuvių kilmės asmenis. \n\nKonsulinis aptarnavimas vyks adresu 3744 NW 19th Cir\, Camas\, WA 98607\, būtina išankstinė registracija. \nKonsulinės misijos metu bus priimami prašymai ir dokumentai dėl Lietuvos Respublikos pasų ir asmens tapatybės kortelių keitimo ir išdavimo\, užsienyje sudarytų civilinės būklės aktų (santuokos\, ištuokos\, vaikų gimimo) įtraukimo į apskaitą Lietuvoje\, išvykimo iš Lietuvos Respublikos deklaravimo\, bus išduodamos pažymos\, patvirtinančios\, kad asmuo yra gyvas ir yra tam tikroje vietoje (pažymos „Sodrai”)\,  taip pat bus priimami prašymai dėl Lietuvos Respublikos pilietybės. \nPrašome iki vasario 14 dienos užsiregistruoti el. paštu kons.losandzelas@urm.lt ir atsiųsti užpildytą registracijos anketą. Gavę Jūsų prašymą\, informuosime apie paskirtą priėmimo laiką ir reikalingų dokumentų sąrašą. \nAtkreipiame dėmesį\, kad detali informacija apie teikiamas konsulines paslaugas\, reikalingus dokumentus\, konsulinius mokesčius skelbiama Lietuvos Respublikos generalinio konsulato Los Andžele svetainėje bei tel. (424)465-9901. \n\nREGISTRACIJOS KONSULINEI MISIJAI ANKETA\nInformacija apie Lietuvos Respublikos pasų ir asmens tapatybės kortelių keitimą ir išdavimą\nInformacija civilinės metrikacijos klausimais\nInformacija apie Lietuvos Respublikos pilietybę
URL:https://vakaruvejai.com/renginys/konsuline-misija-portland/
LOCATION:3744 NW 19th Cir\, 3744 NW 19th Cir\, Camas\, Camas\, WA\, 98607-5008\, United States
CATEGORIES:Portlandas
ATTACH;FMTTYPE=image/jpeg:https://vakaruvejai.com/wp-content/uploads/2020/01/konsuline-misija-i-Oregona.jpg
END:VEVENT
END:VCALENDAR