BEGIN:VCALENDAR
VERSION:2.0
PRODID:-//Vakarų Vėjai - ECPv6.15.3//NONSGML v1.0//EN
CALSCALE:GREGORIAN
METHOD:PUBLISH
X-ORIGINAL-URL:https://vakaruvejai.com
X-WR-CALDESC:Vakarų Vėjai renginiai
REFRESH-INTERVAL;VALUE=DURATION:PT1H
X-Robots-Tag:noindex
X-PUBLISHED-TTL:PT1H
BEGIN:VTIMEZONE
TZID:America/Los_Angeles
BEGIN:DAYLIGHT
TZOFFSETFROM:-0800
TZOFFSETTO:-0700
TZNAME:PDT
DTSTART:20230312T100000
END:DAYLIGHT
BEGIN:STANDARD
TZOFFSETFROM:-0700
TZOFFSETTO:-0800
TZNAME:PST
DTSTART:20231105T090000
END:STANDARD
BEGIN:DAYLIGHT
TZOFFSETFROM:-0800
TZOFFSETTO:-0700
TZNAME:PDT
DTSTART:20240310T100000
END:DAYLIGHT
BEGIN:STANDARD
TZOFFSETFROM:-0700
TZOFFSETTO:-0800
TZNAME:PST
DTSTART:20241103T090000
END:STANDARD
END:VTIMEZONE
BEGIN:VEVENT
DTSTART;TZID=America/Los_Angeles:20240428T150000
DTEND;TZID=America/Los_Angeles:20240428T170000
DTSTAMP:20260423T161829
CREATED:20240420T041519Z
LAST-MODIFIED:20240420T041519Z
UID:26570-1714316400-1714323600@vakaruvejai.com
SUMMARY:"Persona non grata" movie screening\, Mesa\, AZ
DESCRIPTION:LT\n\nSveiki Arizonos lietuviai! Kviečiame į “Persona Non Grata” filmą sekmadienį\, balandžio 28d\, 15:00 valandą! Labai unikalus filmas apie Chiune Sugiharą ir jo įtaką Lietuvai Antrojo pasaulinio karo metu.\n\nRenginio kaina: $30 žmogui. Į kainą įeina filmo bilietai\, maistas ir nemokami gaivieji gėrimai.\n\nDaugiau informacijos skrajutėje. Iki!\n\nEN\n\nHello Lithuanians of Arizona! You’re invited to the “Persona Non Grata” movie screening on Sunday\, April 28\, 3pm!\n\nThis movie is about Chiune Sugihara and his impact on Lithuania during the second World War.\n\nPrice per person: $30. Included in this price are movie tickets\, all-you-can-eat buffet and soft drinks.\n\nMore information in the flyer.
URL:https://vakaruvejai.com/renginys/persona-non-grata-movie-screening-mesa-az/
LOCATION:12 West Brewing – Downtown Mesa\, 12 W Main Street.\, Mesa\, AZ\, 85201
CATEGORIES:Arizona,Lietuviški renginiai
ATTACH;FMTTYPE=image/jpeg:https://vakaruvejai.com/wp-content/uploads/2024/04/436801456_827742196049497_7875375945249322773_n.jpeg
END:VEVENT
BEGIN:VEVENT
DTSTART;TZID=America/Los_Angeles:20230128T193000
DTEND;TZID=America/Los_Angeles:20230128T213000
DTSTAMP:20260423T161829
CREATED:20230114T031717Z
LAST-MODIFIED:20230114T031717Z
UID:23465-1674934200-1674941400@vakaruvejai.com
SUMMARY:Katažinos Zvonkuvienės koncertas\, Los Andželas
DESCRIPTION:
URL:https://vakaruvejai.com/renginys/katazinos-zvonkuvienes-koncertas-los-andzelas/
LOCATION:Šv. Kazimiero parapijos salėje\, 2714 St. George St.\, Los Angeles\, CA\, 90027
CATEGORIES:Lietuviški renginiai,Los Andželas
ATTACH;FMTTYPE=image/png:https://vakaruvejai.com/wp-content/uploads/2023/01/Katazinos-Plakatas-2.png
ORGANIZER;CN="%C5%A1v. Kazimiero parapija":MAILTO:st.casimir@gmail.com
END:VEVENT
END:VCALENDAR