BEGIN:VCALENDAR
VERSION:2.0
PRODID:-//Vakarų Vėjai - ECPv6.15.3//NONSGML v1.0//EN
CALSCALE:GREGORIAN
METHOD:PUBLISH
X-WR-CALNAME:Vakarų Vėjai
X-ORIGINAL-URL:https://vakaruvejai.com
X-WR-CALDESC:Vakarų Vėjai renginiai
REFRESH-INTERVAL;VALUE=DURATION:PT1H
X-Robots-Tag:noindex
X-PUBLISHED-TTL:PT1H
BEGIN:VTIMEZONE
TZID:America/Los_Angeles
BEGIN:DAYLIGHT
TZOFFSETFROM:-0800
TZOFFSETTO:-0700
TZNAME:PDT
DTSTART:20260308T100000
END:DAYLIGHT
BEGIN:STANDARD
TZOFFSETFROM:-0700
TZOFFSETTO:-0800
TZNAME:PST
DTSTART:20261101T090000
END:STANDARD
END:VTIMEZONE
BEGIN:VEVENT
DTSTART;TZID=America/Los_Angeles:20260315T150000
DTEND;TZID=America/Los_Angeles:20260315T180000
DTSTAMP:20260423T143756
CREATED:20260226T042517Z
LAST-MODIFIED:20260226T042517Z
UID:30613-1773586800-1773597600@vakaruvejai.com
SUMMARY:Dokumentinio filmo "Prezidentas" peržiūra\, San Franciskas
DESCRIPTION:San Francisko lietuvių bendruomenė maloniai kviečia Jus į išskirtinį renginį – dokumentinio filmo „Prezidentas“ (2024) peržiūrą.\nTai jautrus ir įkvepiantis pasakojimas apie Lietuvos prezidentą Valdą Adamkų – žmogų\, kurio gyvenimas\, vertybės ir tarnystė Lietuvai paliko neišdildomą pėdsaką mūsų valstybės istorijoje.Filme – autentiški archyviniai kadrai\, artimųjų ir bendražygių prisiminimai\, asmeninės istorijos ir iki šiol nematytos detalės iš prezidento gyvenimo.\nRENGINIO INFORMACIJA: Filmas lietuvių kalba su angliškais subtitraisFilmo trukmė: 1 val. 55 min.• Data: 2026 m. kovo 15 d. (sekmadienis)• Renkamės: 15:00 val. – prieš filmo rodymą vyks naujos San Francisko bendruomenės valdybos rinkimai• Filmo pradžia: 16:00 val.• Vieta: Oakwood Athletic Club\, 4000 Mount Diablo Blvd\, Lafayette\, CA 94549\nBilietai $15 (parduodami prie durų)• Nariams\, sumokėjusiems metinį solidarumo įnašą bei vaikams iki 18 m.: nemokamai ($30 solidarumo įnašą sumokėti čia: https://sf-lithuanian-american-community.square.site/)\nBūkime kartu – pagerbkime žmogų\, kurio gyvenimas įkvėpė visą Lietuvą.
URL:https://vakaruvejai.com/renginys/dokumentinio-filmo-prezidentas-perziura-san-franciskas/
LOCATION:Oakwood Athletic Club\, 4000 Mount Diablo Blvd\, Lafayette\, 94549
CATEGORIES:Lietuviški renginiai,San Franciskas
ATTACH;FMTTYPE=image/jpeg:https://vakaruvejai.com/wp-content/uploads/2026/02/633789368_904512932225507_5378186864448054222_n-scaled-e1772079793224.jpg
END:VEVENT
BEGIN:VEVENT
DTSTART;TZID=America/Los_Angeles:20260111T130000
DTEND;TZID=America/Los_Angeles:20260111T150000
DTSTAMP:20260423T143756
CREATED:20251206T014538Z
LAST-MODIFIED:20260103T035008Z
UID:30099-1768136400-1768143600@vakaruvejai.com
SUMMARY:Dokumentinis filmas "Prezidentas"\, Los Andželas
DESCRIPTION:Los Andželo Lietuvių bendruomenė pristato dokumentinį filmą „Prezidentas”\, apie Valdą Adamkų. Filmas bus rodomas šv. Kazimiero parapijos viršutinėje salėje\, 2026 m. sausio 11 d.\, 13:00 pp. BIlietai $10 vaikams iki 13 m. ir pensininkams 62 m. +; suaugusiems $15.Galima isigyti bilietus prie durų ar per Eventbrite. \nhttps://www.eventbrite.com/e/dokumentinio-filmo-rodymas-prezidentas-documentary-film-screening-tickets-1977032785281?aff=oddtdtcreator \nApie filmą: Tai jautrus\, autentiškas ir įkvepiantis kūrinys\, atskleidžiantis žmogaus\, kurio gyvenimas neatsiejamas nuo nepriklausomos Lietuvos kūrimo\, kelią.Filme pasakojama ne tik apie Prezidentą\, bet visų pirma – apie žmogų\, kurio vertybės\, humaniškumas ir vidinė laikysena tapo pavyzdžiu daugeliui. Žiūrovai išvys  archyvinius kadrus\, asmeninius prisiminimus bei artimųjų ir bendradarbių pasakojimus. Filme gausu asmeninių išgyvenimų ir nuoširdžių pasakojimų\, kurie leidžia pažinti Adamkų kaip šiltą\, atvirą ir dvasingą žmogų\, ištikimą savo idealams tiek privačiame gyvenime\, tiek valstybės tarnyboje. \nFilmas „Prezidentas“ Čikagoje buvo sutiktas itin šiltai. Žiūrovai plojo atsistoję\, o daugelis pasidalijo nuoširdžiais įspūdžiais ir emocijomis. Jis paliko gilų įspūdį tiek vyresniems\, tiek jaunajai kartai\, primindamas\, kad tik per žmogiškumą ir vertybes gimsta tikra lyderystė. Tai kūrinys\, paliekantis stiprų emocinį atgarsį ir kviečiantis susimąstyti apie atsakomybę\, dorą ir meilę Lietuvai. Filmo trukmė 1 val. 55 min. \nDekojame JAV Lietuvių bendruomenės Kultūros tarybą ir šv. Kazimiero parapiją už šio renginio paramą.
URL:https://vakaruvejai.com/renginys/dokumentinis-filmas-prezidentas-los-andzelas/
LOCATION:Šv. Kazimiero parapijos salėje\, 2714 St. George St.\, Los Angeles\, CA\, 90027
CATEGORIES:Lietuviški renginiai,Los Andželas
ATTACH;FMTTYPE=image/png:https://vakaruvejai.com/wp-content/uploads/2025/12/Screenshot-2026-01-02-at-7.39.57-PM-scaled.png
END:VEVENT
END:VCALENDAR