BEGIN:VCALENDAR
VERSION:2.0
PRODID:-//Vakarų Vėjai - ECPv6.15.3//NONSGML v1.0//EN
CALSCALE:GREGORIAN
METHOD:PUBLISH
X-WR-CALNAME:Vakarų Vėjai
X-ORIGINAL-URL:https://vakaruvejai.com
X-WR-CALDESC:Vakarų Vėjai renginiai
REFRESH-INTERVAL;VALUE=DURATION:PT1H
X-Robots-Tag:noindex
X-PUBLISHED-TTL:PT1H
BEGIN:VTIMEZONE
TZID:America/Los_Angeles
BEGIN:DAYLIGHT
TZOFFSETFROM:-0800
TZOFFSETTO:-0700
TZNAME:PDT
DTSTART:20260308T100000
END:DAYLIGHT
BEGIN:STANDARD
TZOFFSETFROM:-0700
TZOFFSETTO:-0800
TZNAME:PST
DTSTART:20261101T090000
END:STANDARD
END:VTIMEZONE
BEGIN:VEVENT
DTSTART;TZID=America/Los_Angeles:20260311T180000
DTEND;TZID=America/Los_Angeles:20260311T200000
DTSTAMP:20260423T161254
CREATED:20260304T202133Z
LAST-MODIFIED:20260304T202133Z
UID:30682-1773252000-1773259200@vakaruvejai.com
SUMMARY:Mikalojaus Konstantino Čiurlionio reprodukcijų paroda ir renginiai Santa Barbaroje
DESCRIPTION:Minint garsiausio Lietuvos menininko Mikalojaus Konstantino Čiurlionio 150-ąsias gimimo metines\, Santa Barbaros koledžas\, Lietuvos Respublikos generalinis konsulatas Los Andžele ir Garbės generalinis konsulatas Centrinei Kalifornijai kviečia į parodą\, kurioje eksponuojamos M. K. Čiurlionio kūrinių reprodukcijos\, Vilniaus dailės akademijos pirmakursių kartu su profesore Jolanta Talaikyte sukurta paroda „Čiurlionio mylimosios“ bei Santa Barbaros koledžo studentų M. K. Čiurlionio įkvėpti kūriniai. \nLaikas: kovo 2 – 20 d. \nVieta: WCC Lounge\, 2nd Floor\, Santa Barbara City College (SBCC)\, West Campus (971 Cliff Dr)\, Santa Barbara \n  \nVirtualios realybės patirtis „Angelų takais“ \nPatirkite Oniroco Studios prodiusuojamą 30 minučių virtualios realybės kelionę „Angelų takais“\, kurioje pristatomi M. K. Čiurlionio paveikslai\, derinant vizualinius vaizdus su jo muzika bei šiuolaikinių kompozitorių interpretacijomis. \nLaikas: Tik kovo 11 d. 11:00–18:00 val. \nVieta: WCC Lounge\, 2 aukštas\, SBCC\, West Campus (971 Cliff Dr)\, Santa Barbara \nRekomenduojama išankstinė registracija: [Registracijos nuoroda]\n  \nKovo 11 d. kviečiame į renginį\, skirtą pristatyti M. K. Čiurlionio kūrybą ir kartu paminėti 1990 m. kovo 11-ąją – Lietuvos nepriklausomybės atkūrimo dieną. \nPrograma:  \n18:00 – Priėmimas (lauke)\,  Garvin Theatre terasa \n19:00 – Paskaita ir muzikinis pasirodymas\, BC Forum auditorija \nPaskaita: prof. Edmond Saliklis (Cal Poly\, San Luis Obispo) \nFortepijono rečitalis: Eglė Janulevičiūtė \nStudentų pasirodymai: Mia McAbian (violončelė) ir dr. Adea Badivuku (fortepijonas) \nPrašome registruotis: [Registracijos nuoroda]
URL:https://vakaruvejai.com/renginys/mikalojaus-konstantino-ciurlionio-reprodukciju-paroda-ir-renginiai-santa-barbaroje/
LOCATION:Santa Barbara City College\, West Campus\, 971 Cliff dr.\, Santa Barbara\, CA\, 93109
CATEGORIES:Lietuviški renginiai
ATTACH;FMTTYPE=image/png:https://vakaruvejai.com/wp-content/uploads/2026/03/IMG_7024.png
END:VEVENT
END:VCALENDAR