BEGIN:VCALENDAR
VERSION:2.0
PRODID:-//Vakarų Vėjai - ECPv6.15.3//NONSGML v1.0//EN
CALSCALE:GREGORIAN
METHOD:PUBLISH
X-WR-CALNAME:Vakarų Vėjai
X-ORIGINAL-URL:https://vakaruvejai.com
X-WR-CALDESC:Vakarų Vėjai renginiai
REFRESH-INTERVAL;VALUE=DURATION:PT1H
X-Robots-Tag:noindex
X-PUBLISHED-TTL:PT1H
BEGIN:VTIMEZONE
TZID:America/Los_Angeles
BEGIN:DAYLIGHT
TZOFFSETFROM:-0800
TZOFFSETTO:-0700
TZNAME:PDT
DTSTART:20210314T100000
END:DAYLIGHT
BEGIN:STANDARD
TZOFFSETFROM:-0700
TZOFFSETTO:-0800
TZNAME:PST
DTSTART:20211107T090000
END:STANDARD
BEGIN:DAYLIGHT
TZOFFSETFROM:-0800
TZOFFSETTO:-0700
TZNAME:PDT
DTSTART:20220313T100000
END:DAYLIGHT
BEGIN:STANDARD
TZOFFSETFROM:-0700
TZOFFSETTO:-0800
TZNAME:PST
DTSTART:20221106T090000
END:STANDARD
BEGIN:DAYLIGHT
TZOFFSETFROM:-0800
TZOFFSETTO:-0700
TZNAME:PDT
DTSTART:20230312T100000
END:DAYLIGHT
BEGIN:STANDARD
TZOFFSETFROM:-0700
TZOFFSETTO:-0800
TZNAME:PST
DTSTART:20231105T090000
END:STANDARD
BEGIN:DAYLIGHT
TZOFFSETFROM:-0800
TZOFFSETTO:-0700
TZNAME:PDT
DTSTART:20240310T100000
END:DAYLIGHT
BEGIN:STANDARD
TZOFFSETFROM:-0700
TZOFFSETTO:-0800
TZNAME:PST
DTSTART:20241103T090000
END:STANDARD
BEGIN:DAYLIGHT
TZOFFSETFROM:-0800
TZOFFSETTO:-0700
TZNAME:PDT
DTSTART:20250309T100000
END:DAYLIGHT
BEGIN:STANDARD
TZOFFSETFROM:-0700
TZOFFSETTO:-0800
TZNAME:PST
DTSTART:20251102T090000
END:STANDARD
BEGIN:DAYLIGHT
TZOFFSETFROM:-0800
TZOFFSETTO:-0700
TZNAME:PDT
DTSTART:20260308T100000
END:DAYLIGHT
BEGIN:STANDARD
TZOFFSETFROM:-0700
TZOFFSETTO:-0800
TZNAME:PST
DTSTART:20261101T090000
END:STANDARD
END:VTIMEZONE
BEGIN:VEVENT
DTSTART;TZID=America/Los_Angeles:20260215T130000
DTEND;TZID=America/Los_Angeles:20260215T150000
DTSTAMP:20260423T095540
CREATED:20260214T033807Z
LAST-MODIFIED:20260214T033807Z
UID:30572-1771160400-1771167600@vakaruvejai.com
SUMMARY:Jaunimo projektas "Šaknys"\, Los Andželas
DESCRIPTION:Jeigu nori giliau pažinti savo šaknis\, istoriją ir lietuvišką tapatybę – šis kvietimas skirtas TAU! \nJaunimo projektas „Šaknys“ – tai galimybė gyvai prisiliesti prie savo kilmės\, sutikti bendraminčių ir parsivežti ryšius\, kurie išlieka ilgam. \nDalyvauk Vasario 16-osios minėjime (Vasario 15\, 13:00 parapijoj)  ir iš pirmų lūpų išgirsk apie projektą iš vadovo Viliaus Žalpio. Jis papasakos\, kaip atrodo ši prasminga kelionė\, kam ji skirta ir ką ji iš tikrųjų duoda jaunam žmogui šiandien. \nYpatingai kviečiame 18-35 metų jaunimą\, kuriems svarbi lietuviška tapatybė\, bendruomenė ir noras patirti kažką prasmingiau nei turistinę išvyką. \nDaugiau informacijos apie projektą: https://www.javljs.org/saknys \nPrisijunk! Galbūt tai bus pradžia kelionės\, kuri pakeis TAVO santykį su Lietuva.
URL:https://vakaruvejai.com/renginys/jaunimo-projektas-saknys-los-andzelas/
LOCATION:Šv. Kazimiero parapija\, 2716 St. George St.\, Los Angeles\, CA\, 90027
CATEGORIES:Lietuviški renginiai,Los Andželas
ATTACH;FMTTYPE=image/jpeg:https://vakaruvejai.com/wp-content/uploads/2026/02/Saknys.jpg
END:VEVENT
BEGIN:VEVENT
DTSTART;TZID=America/Los_Angeles:20211002T120000
DTEND;TZID=America/Los_Angeles:20211002T140000
DTSTAMP:20260423T095540
CREATED:20211002T181420Z
LAST-MODIFIED:20211002T181420Z
UID:18050-1633176000-1633183200@vakaruvejai.com
SUMMARY:Susipažinkime! "Tikslas - Amerika" kūrėjai Los Andželo "Lietuvių dienose"\, Los Angeles
DESCRIPTION:Susitikimas su „Tikslas – Amerika” ir „Gabalėliai Lietuvos” projektų kūrėjais!\nTik per  „Lietuvių dienas” šeštadienį\, spalio 2 d. 15-17 val.\nhttp://www.tikslasamerika.lt žemėlapyje jau yra pažymėta virš 650 lietuviškų vietų JAV ir Kanadoje. Visas jas – lietuvių bažnyčias\, bendruomenes\, kapines\, vietas lietuviškais vardais ir t.t. – „Tikslas – Amerika” ekspedicijų metu aplankė projekto autoriai Augustinas ir Aistė\, padarė per 30000 nuotraukų ir susitiko su 900 lietuvišku paveldu besirūpinančiais Amerikos lietuviais.\nSusitikimas įvyks pačioje ekspedicijos į JAV Vakarų pakrantę pradžioje. Jo metu:\n užduokite „Tikslas – Amerika” kūrėjams savo klausimus apie lietuvišką paveldą JAV\, jo dabartinę būklę ir kt.\n išgirskite įdomiausių ir netikėčiausių istorijų iš Augustino ir Aistės kelionių po lietuviškas vietas ne tik JAV\, bet ir visame pasaulyje\n pasidalinkite informacija apie kitas Jums žinomas lietuviškas vietas Los Andžele ir kitur\, kurios bus įtrauktos į enciklopediją „Gabalėliai Lietuvos” ir „Tikslas – Amerika” žemėlapį.
URL:https://vakaruvejai.com/renginys/susipazinkime-tikslas-amerika-kurejai-los-andzelo-lietuviu-dienose-los-angeles/
LOCATION:Šv. Kazimiero parapija Los Andžele\, 2718 St George St\, Los Angeles\, CA\, 90027\, United States
CATEGORIES:Lietuviški renginiai,Los Andželas
ATTACH;FMTTYPE=image/jpeg:https://vakaruvejai.com/wp-content/uploads/2021/10/243587269_2050738181730795_6015257548708194413_n.jpg
END:VEVENT
END:VCALENDAR