BEGIN:VCALENDAR
VERSION:2.0
PRODID:-//Vakarų Vėjai - ECPv6.15.3//NONSGML v1.0//EN
CALSCALE:GREGORIAN
METHOD:PUBLISH
X-ORIGINAL-URL:https://vakaruvejai.com
X-WR-CALDESC:Vakarų Vėjai renginiai
REFRESH-INTERVAL;VALUE=DURATION:PT1H
X-Robots-Tag:noindex
X-PUBLISHED-TTL:PT1H
BEGIN:VTIMEZONE
TZID:America/Los_Angeles
BEGIN:DAYLIGHT
TZOFFSETFROM:-0800
TZOFFSETTO:-0700
TZNAME:PDT
DTSTART:20260308T100000
END:DAYLIGHT
BEGIN:STANDARD
TZOFFSETFROM:-0700
TZOFFSETTO:-0800
TZNAME:PST
DTSTART:20261101T090000
END:STANDARD
END:VTIMEZONE
BEGIN:VEVENT
DTSTART;VALUE=DATE:20260601
DTEND;VALUE=DATE:20260602
DTSTAMP:20260423T094239
CREATED:20260327T053543Z
LAST-MODIFIED:20260327T053543Z
UID:30796-1780272000-1780358399@vakaruvejai.com
SUMMARY:Laimėk kelionę ir prisijunk prie jaunimo projekto "Šaknys"\, Pensilvanija
DESCRIPTION:Laimėk kelionę ir prisijunk prie jaunimo projekto „Šaknys” Pensilvanijoje \n„Šaknys” yra projektas sutvarkyti ir pažymėti lietuvių kapines ir kapus! Los Andželo lietuvių bendruomenė rems 1-2 laimėtojus\, kurie prisijungs prie „Šaknų” komandos Pensilvanijoje. \nKaip dalyvauti? \nParašyk trumną prisistatymą apie save ir kodėl nori vykti. Dalyvių amžius 18-35 metų amžiaus. \nParaiškas teikti iki balandžio 15d. \nLaimėtojai bus paskelbti balandžio 30d. \nSavo prisistatymą siųsk el. paštu: tara@lalithianians.org \nDaugiau apie projekt: https://www.javljs.org/%C5%A1aknys   arba https://javlb.lt/en/projektas-saknys/ \nData ir vieta TBD.
URL:https://vakaruvejai.com/renginys/laimek-kelione-ir-prisijunk-prie-jaunimo-projekto-saknys-pensilvanija/
LOCATION:Pennsylvania
CATEGORIES:Lietuviški renginiai
ATTACH;FMTTYPE=image/jpeg:https://vakaruvejai.com/wp-content/uploads/2026/03/Saknys-LT.jpg
ORGANIZER;CN="'%C5%A0aknys'":MAILTO:tara@lalithuanians.org
END:VEVENT
END:VCALENDAR