BEGIN:VCALENDAR
VERSION:2.0
PRODID:-//Vakarų Vėjai - ECPv6.15.3//NONSGML v1.0//EN
CALSCALE:GREGORIAN
METHOD:PUBLISH
X-ORIGINAL-URL:https://vakaruvejai.com
X-WR-CALDESC:Vakarų Vėjai renginiai
REFRESH-INTERVAL;VALUE=DURATION:PT1H
X-Robots-Tag:noindex
X-PUBLISHED-TTL:PT1H
BEGIN:VTIMEZONE
TZID:America/Los_Angeles
BEGIN:DAYLIGHT
TZOFFSETFROM:-0800
TZOFFSETTO:-0700
TZNAME:PDT
DTSTART:20200308T100000
END:DAYLIGHT
BEGIN:STANDARD
TZOFFSETFROM:-0700
TZOFFSETTO:-0800
TZNAME:PST
DTSTART:20201101T090000
END:STANDARD
BEGIN:DAYLIGHT
TZOFFSETFROM:-0800
TZOFFSETTO:-0700
TZNAME:PDT
DTSTART:20210314T100000
END:DAYLIGHT
BEGIN:STANDARD
TZOFFSETFROM:-0700
TZOFFSETTO:-0800
TZNAME:PST
DTSTART:20211107T090000
END:STANDARD
BEGIN:DAYLIGHT
TZOFFSETFROM:-0800
TZOFFSETTO:-0700
TZNAME:PDT
DTSTART:20220313T100000
END:DAYLIGHT
BEGIN:STANDARD
TZOFFSETFROM:-0700
TZOFFSETTO:-0800
TZNAME:PST
DTSTART:20221106T090000
END:STANDARD
BEGIN:DAYLIGHT
TZOFFSETFROM:-0800
TZOFFSETTO:-0700
TZNAME:PDT
DTSTART:20230312T100000
END:DAYLIGHT
BEGIN:STANDARD
TZOFFSETFROM:-0700
TZOFFSETTO:-0800
TZNAME:PST
DTSTART:20231105T090000
END:STANDARD
BEGIN:DAYLIGHT
TZOFFSETFROM:-0800
TZOFFSETTO:-0700
TZNAME:PDT
DTSTART:20240310T100000
END:DAYLIGHT
BEGIN:STANDARD
TZOFFSETFROM:-0700
TZOFFSETTO:-0800
TZNAME:PST
DTSTART:20241103T090000
END:STANDARD
BEGIN:DAYLIGHT
TZOFFSETFROM:-0800
TZOFFSETTO:-0700
TZNAME:PDT
DTSTART:20250309T100000
END:DAYLIGHT
BEGIN:STANDARD
TZOFFSETFROM:-0700
TZOFFSETTO:-0800
TZNAME:PST
DTSTART:20251102T090000
END:STANDARD
BEGIN:DAYLIGHT
TZOFFSETFROM:-0800
TZOFFSETTO:-0700
TZNAME:PDT
DTSTART:20260308T100000
END:DAYLIGHT
BEGIN:STANDARD
TZOFFSETFROM:-0700
TZOFFSETTO:-0800
TZNAME:PST
DTSTART:20261101T090000
END:STANDARD
END:VTIMEZONE
BEGIN:VEVENT
DTSTART;TZID=America/Los_Angeles:20260131T140000
DTEND;TZID=America/Los_Angeles:20260131T200000
DTSTAMP:20260423T160444
CREATED:20251107T062440Z
LAST-MODIFIED:20251107T062440Z
UID:29919-1769868000-1769889600@vakaruvejai.com
SUMMARY:"Rambyno" šešiasdešimtmečio jubiliejus\, Los Andželas
DESCRIPTION:LT \n\n2026 metais Lietuvos Skautų Sąjunga – Ramiojo Vandenyno rajonas švęs Rambyno stovyklos 60 metų jubiliejų. Šia proga organizuojamas šventinis renginys\, kuris vyks 2026 m. sausio 31 d.\, šeštadienį\, nuo 14:00 iki 20:00 val. Šv. Kazimiero parapijos kieme ir viršutinėje salėje.\n\nPridedame renginio skrajutę ir laišką rėmėjams. Įėjimas nemokamas\, tačiau kviečiame paaukoti Rambyno stovyklos išlaikymui ir tobulinimui. Jūsų parama tiesiogiai prisidės prie stovyklos priežiūros\, padės finansuoti nuolatinius projektus ir užtikrins\, kad būsimos skautų kartos galėtų džiaugtis Rambyno stovykla dar daugelį metų.\n\nDėkojame už nuolatinę paramą L.S.S. skautams! Skautiškas ačiū!\n\nRambyno 60 organizacinis komitetas\nir Nida Variakojienė\, L.S.S. Ramio\nnida@msn.com / 714-425-7372\n\nEN\n\n\nThis year\, the Lithuanian Scouts Association – Pacific Region is proud to celebrate the 60-year Jubilee of Camp Rambynas. We are organizing a celebratory event on Saturday\, January 31\, 2026\, from 2:00 pm to 8:00 pm at the St. Casimir Parish courtyard and upstairs hall.\n\nAttached you will find the event flyer and a letter to our sponsors. Admission is free\, but we are asking for donations to support Camp Rambynas. Your support will directly contribute to the continued upkeep and improvement of the camp\, helping fund ongoing projects and ensuring future generations of scouts can enjoy Camp Rambynas for years to come.\nThank you for your continued support of the Lithuanian Scouts Association!\n\nYours in scouting\,\nRambynas 60 Organizing Committee\nand Nida Variakojis\, L.S.A. Pacific Region Director\nnida@msn.com / 714-425-7372
URL:https://vakaruvejai.com/renginys/rambyno-sesiasdesimtmecio-jubiliejus-los-andzelas/
LOCATION:Šv. Kazimiero parapijos salėje\, 2714 St. George St.\, Los Angeles\, CA\, 90027
CATEGORIES:Lietuviški renginiai
ATTACH;FMTTYPE=image/jpeg:https://vakaruvejai.com/wp-content/uploads/2025/11/IMG_5182-scaled.jpg
END:VEVENT
BEGIN:VEVENT
DTSTART;TZID=America/Los_Angeles:20230226T120000
DTEND;TZID=America/Los_Angeles:20230226T150000
DTSTAMP:20260423T160444
CREATED:20230210T153612Z
LAST-MODIFIED:20230210T153848Z
UID:23709-1677412800-1677423600@vakaruvejai.com
SUMMARY:Ramiojo Vandenyno Rajono Skautų Kaziuko Mugė\, Los Andželas
DESCRIPTION:Visi maloniai kviečiami į Ramiojo Vandenyno skautų „Kaziuko Mugę”. \nKur? Šv. Kazimiero parapijos salėje (2714 St. George St.\, Los Angeles\, CA 90027) \nKada? Vasario 26 dieną 12 val. po pietų \nŠventę pradėsime Šv. Mišiomis\, kurios vyks Šv. Kazimiero bažnyčioje 11 val ryte. Po mišių visi maloniai kviečiami  į parapijos salę. Čia galėsite paskanauti lietuviškų patiekalų\, nusipirkti skautų pagamintų rankdarbių\, bus žaidžiami žaidimai. \nSkautai dalyvauja su uniformomis!
URL:https://vakaruvejai.com/renginys/ramiojo-vandenyno-rajono-skautu-kaziuko-muge-los-andzelas-2/
LOCATION:Šv. Kazimiero parapijos salėje\, 2714 St. George St.\, Los Angeles\, CA\, 90027
CATEGORIES:Lietuviški renginiai,Los Andželas
ATTACH;FMTTYPE=application/pdf:https://vakaruvejai.com/wp-content/uploads/2023/02/Kaziuko-Muge-2023.pdf
END:VEVENT
BEGIN:VEVENT
DTSTART;TZID=America/Los_Angeles:20230108T130000
DTEND;TZID=America/Los_Angeles:20230108T150000
DTSTAMP:20260423T160444
CREATED:20230106T053252Z
LAST-MODIFIED:20230106T053452Z
UID:23356-1673182800-1673190000@vakaruvejai.com
SUMMARY:Ramiojo Vandenyno Rajono 2023 Metinė Skautų Sueiga\, Los Andželas
DESCRIPTION:Skautai renkasi: \n10:30 am – Šv. Kazimiero parapijos kieme; \n11:00 am – Šv. Mišios. \nPo mišių pietūs viršutinėje parapijos salėje. \nSueiga vyks parapijos viršutinėje salėje po pietų. \nDaugiau informacijos rasite prikabintame skelbime. \n 
URL:https://vakaruvejai.com/renginys/ramiojo-vandenyno-rajono-2023-metine-skautu-sueiga-los-andzelas/
LOCATION:Šv. Kazimiero parapijos salėje\, 2714 St. George St.\, Los Angeles\, CA\, 90027
CATEGORIES:Lietuviški renginiai,Los Andželas
ATTACH;FMTTYPE=image/png:https://vakaruvejai.com/wp-content/uploads/2023/01/323776224_828402848456567_2235648957315199831_n.png
END:VEVENT
BEGIN:VEVENT
DTSTART;TZID=America/Los_Angeles:20220313T110000
DTEND;TZID=America/Los_Angeles:20220313T150000
DTSTAMP:20260423T160444
CREATED:20220131T210545Z
LAST-MODIFIED:20220131T210545Z
UID:19864-1647169200-1647183600@vakaruvejai.com
SUMMARY:Ramiojo Vandenyno Rajono skautų Kaziuko Mugė\, Los Andželas
DESCRIPTION:Ramiojo Vandenyno Rajono tradicinė skautų Kaziuko Mugė vyks sekmadienį\, kovo 13 d. \nIki pasimatymo! \nVis budėkime!
URL:https://vakaruvejai.com/renginys/ramiojo-vandenyno-rajono-skautu-kaziuko-muge-los-andzelas/
LOCATION:Šv. Kazimiero parapija Los Andžele\, 2718 St George St\, Los Angeles\, CA\, 90027\, United States
CATEGORIES:Lietuviški renginiai,Los Andželas
ATTACH;FMTTYPE=image/jpeg:https://vakaruvejai.com/wp-content/uploads/2022/01/2E40C89C-0673-4D24-B3FA-DCA4F3CD8385.jpeg
END:VEVENT
BEGIN:VEVENT
DTSTART;TZID=America/Los_Angeles:20210110T130000
DTEND;TZID=America/Los_Angeles:20210110T140000
DTSTAMP:20260423T160444
CREATED:20210106T180628Z
LAST-MODIFIED:20210106T180628Z
UID:14493-1610283600-1610287200@vakaruvejai.com
SUMMARY:Ramiojo Vandenyno Rajono 2021 metinė skautų sueiga
DESCRIPTION:
URL:https://vakaruvejai.com/renginys/ramiojo-vandenyno-rajono-2021-metine-skautu-sueiga/
LOCATION:Virtualus renginys
CATEGORIES:Virtualus renginys
ATTACH;FMTTYPE=image/jpeg:https://vakaruvejai.com/wp-content/uploads/2021/01/4A754EC2-C0A1-4CF3-96C4-F3FF253583DD.jpeg
END:VEVENT
BEGIN:VEVENT
DTSTART;VALUE=DATE:20200719
DTEND;VALUE=DATE:20200726
DTSTAMP:20260423T160444
CREATED:20200603T180954Z
LAST-MODIFIED:20200604T215319Z
UID:12752-1595116800-1595721599@vakaruvejai.com
SUMMARY:UŽSIKRĖSK SKAUTAVIMU! Virtuali Rambyno stovykla 2020
DESCRIPTION:Sveikinu skautus!\nGaila\, kad šią vasarą negalėsime pabendrauti kartu Rambyne\, mūsų mylimoj stovykloj. Liūdna\, bet šiais metais tikrai nebus įmanoma.  Bet\, kaip skautai\, būdami pasirengę\, mes sugalvojome linksmus ir įdomius būdus\, kaip kartu patirti mūsų meilę skautavimui ir Rambynui. Raginu visus dalyvauti mūsų virtualioje stovykloje. Tikiuosi\, kad jums patiks. Užsikrėskite Skautavimu! \nBrolis Gintas Šlapkauskas \nStovyklos Viršininkas \n\n\n\nLabas\, sesės ir broliai!\nTikiu kad jūs visi\, jūsų šeimos ir draugai sveiki ir saugūs. \nLabai gaila\, kad negalime stovyklauti kartu Rambyne šią vasarą. Mes norime sutvirtinti mūsų ryšį su jumis\, todėl grupelė mūsų prisidėjo prie šio projekto ir sugalvojo nepaprastai įdomią Virtualią Stovykla! Sesė Rasa Hendrickson sukūrė šių metų stovyklos ženklą. Ačiū už visų kūrybingumą ir pastangas. \nKaip visi žinote\, Rambyno septinis rezervuaras visiškai nebeveiksmingas\, reikia nupirkti naują. Taip pat turime daug įvairių taisymų\, reikalingų virtuvėje. Jūsų mažas registracijos mokestis padės su šiom išlaidom. \nUžsiregistruokite! Pasidalinkime nuotraukom! Bus taip gera pamatyti jus visus. \nIki pasimatymo!! \nSesė Sigutė Miller \nRamiojo Vandenyno Rajono Vadė \n 
URL:https://vakaruvejai.com/renginys/uzsikresk-skautavimu-virtuali-rambyno-stovykla-2020/
LOCATION:CA
CATEGORIES:Los Andželas,Virtualus renginys
ATTACH;FMTTYPE=application/pdf:https://vakaruvejai.com/wp-content/uploads/2020/06/2020-Stovyklos-Registracija.pdf
END:VEVENT
END:VCALENDAR