BEGIN:VCALENDAR
VERSION:2.0
PRODID:-//Vakarų Vėjai - ECPv6.15.3//NONSGML v1.0//EN
CALSCALE:GREGORIAN
METHOD:PUBLISH
X-ORIGINAL-URL:https://vakaruvejai.com
X-WR-CALDESC:Vakarų Vėjai renginiai
REFRESH-INTERVAL;VALUE=DURATION:PT1H
X-Robots-Tag:noindex
X-PUBLISHED-TTL:PT1H
BEGIN:VTIMEZONE
TZID:America/Los_Angeles
BEGIN:DAYLIGHT
TZOFFSETFROM:-0800
TZOFFSETTO:-0700
TZNAME:PDT
DTSTART:20220313T100000
END:DAYLIGHT
BEGIN:STANDARD
TZOFFSETFROM:-0700
TZOFFSETTO:-0800
TZNAME:PST
DTSTART:20221106T090000
END:STANDARD
BEGIN:DAYLIGHT
TZOFFSETFROM:-0800
TZOFFSETTO:-0700
TZNAME:PDT
DTSTART:20230312T100000
END:DAYLIGHT
BEGIN:STANDARD
TZOFFSETFROM:-0700
TZOFFSETTO:-0800
TZNAME:PST
DTSTART:20231105T090000
END:STANDARD
BEGIN:DAYLIGHT
TZOFFSETFROM:-0800
TZOFFSETTO:-0700
TZNAME:PDT
DTSTART:20240310T100000
END:DAYLIGHT
BEGIN:STANDARD
TZOFFSETFROM:-0700
TZOFFSETTO:-0800
TZNAME:PST
DTSTART:20241103T090000
END:STANDARD
END:VTIMEZONE
BEGIN:VEVENT
DTSTART;VALUE=DATE:20241206
DTEND;VALUE=DATE:20241208
DTSTAMP:20260423T131339
CREATED:20241114T190254Z
LAST-MODIFIED:20241114T190311Z
UID:27900-1733443200-1733615999@vakaruvejai.com
SUMMARY:Religinis kongresas - "Su Kristumi. Kelionė į tikėjimo laisvę"\, Los Andželas
DESCRIPTION:Gruodžio mėn. 6-7 dienomis Šv. Kazimiero parapija rengia religinį kongresą\, kurio metu pasidalinsime savo tikėjimo kelionės patirtimi. Svečių sulauksime ne tik iš Los Andželo ir Santos Barbaros\, bet ir iš Lietuvos. Šio kongreso pranešėjai: Vilniaus archivyskupas metropolitas Gintaras Grušas\, archivyskupas Lionginas Virbalas\, vyskupas augziliaras Matthew Eshoff\, OFM ir vyskupas augziliaras Slawomir Szkredka. \nVisus maloniai kviečiame dalyvauti. \nIšsamiau apie kongresą: https://vakaruvejai.com/2024/07/26/religinis-kongresas-su-kristumi-kelioneje-i-tikejimo-laisve/
URL:https://vakaruvejai.com/renginys/religinis-kongresas-su-kristumi-kelione-i-tikejimo-laisve/
LOCATION:Šv. Kazimiero parapija\, 2716 St. George St.\, Los Angeles\, CA\, 90027
CATEGORIES:Lietuviški renginiai,Los Andželas
ATTACH;FMTTYPE=image/png:https://vakaruvejai.com/wp-content/uploads/2024/11/Screen-Shot-2024-07-26-at-12.44.03-PM-796x1024-1.png
ORGANIZER;CN="%C5%A1v. Kazimiero parapija":MAILTO:st.casimir@gmail.com
END:VEVENT
BEGIN:VEVENT
DTSTART;VALUE=DATE:20231215
DTEND;VALUE=DATE:20240102
DTSTAMP:20260423T131339
CREATED:20231216T061618Z
LAST-MODIFIED:20231216T062125Z
UID:25721-1702598400-1704153599@vakaruvejai.com
SUMMARY:Šventinis Los Andželo Šv. Kazimiero parapijos kalendorius
DESCRIPTION:
URL:https://vakaruvejai.com/renginys/sventinis-los-andzelo-sv-kazimiero-parapijos-kalendorius/
LOCATION:Šv. Kazimiero parapija\, 2716 St. George St.\, Los Angeles\, CA\, 90027
CATEGORIES:Lietuviški renginiai,Los Andželas
ATTACH;FMTTYPE=image/jpeg:https://vakaruvejai.com/wp-content/uploads/2023/12/IMG_4438-scaled.jpg
ORGANIZER;CN="%C5%A1v. Kazimiero parapija":MAILTO:st.casimir@gmail.com
END:VEVENT
BEGIN:VEVENT
DTSTART;TZID=America/Los_Angeles:20231028T140000
DTEND;TZID=America/Los_Angeles:20231028T170000
DTSTAMP:20260423T131339
CREATED:20230923T005512Z
LAST-MODIFIED:20230923T005512Z
UID:25198-1698501600-1698512400@vakaruvejai.com
SUMMARY:"Vėlinės" All Saints and All Souls Commemoration & Potluck\, Roslyn\, WA
DESCRIPTION:„Vėlinės”\,  All Saints and All Souls Commemoration & Potluck\nDetails to follow soon.  The museum will be open at 1pm for those who’d like to come earlier.  Of course\, the event will be followed with lots of fun socializing.
URL:https://vakaruvejai.com/renginys/velines-all-saints-and-all-souls-commemoration-potluck-roslyn-wa/
LOCATION:Lithuanian Cemetery Roslyn WA\, Memorial Ave\, Roslyn\, WA\, 98922
CATEGORIES:Lietuviški renginiai,Seattle
ATTACH;FMTTYPE=image/jpeg:https://vakaruvejai.com/wp-content/uploads/2023/09/WashingtonRoslyn20211023_125022.jpeg
ORGANIZER;CN="Seattle Lithuanian Community/Seattle Lietuvi%C5%B3 Bendruomen%C4%97":MAILTO:seattlelb.president@gmail.com
END:VEVENT
BEGIN:VEVENT
DTSTART;TZID=America/Los_Angeles:20230820T123000
DTEND;TZID=America/Los_Angeles:20230820T143000
DTSTAMP:20260423T131339
CREATED:20230812T011438Z
LAST-MODIFIED:20230812T011717Z
UID:25103-1692534600-1692541800@vakaruvejai.com
SUMMARY:"Žolinės" Šv. Kazimiero parapijoje\, Los Andželas
DESCRIPTION:Rugpjūčio 20 dieną (sekmadienį) po Šv. Mišių\, papietavus\, maloniai visus kviečiame klebonijos kiemelyje švęsti „Žolines” su dainomis\, šokiais\, žaidimais.\nPasivaišinsime saldumynais ir gaiviais gėrimais.
URL:https://vakaruvejai.com/renginys/zolines-sv-kazimiero-parapijoje-los-andzelas/
LOCATION:Šv. Kazimiero parapija\, 2716 St. George St.\, Los Angeles\, CA\, 90027
CATEGORIES:Lietuviški renginiai,Los Andželas
ATTACH;FMTTYPE=image/jpeg:https://vakaruvejai.com/wp-content/uploads/2023/08/unnamed.jpeg
ORGANIZER;CN="%C5%A1v. Kazimiero parapija":MAILTO:st.casimir@gmail.com
END:VEVENT
BEGIN:VEVENT
DTSTART;TZID=America/Los_Angeles:20230610T173000
DTEND;TZID=America/Los_Angeles:20230610T190000
DTSTAMP:20260423T131339
CREATED:20230602T143030Z
LAST-MODIFIED:20230602T143047Z
UID:24574-1686418200-1686423600@vakaruvejai.com
SUMMARY:Multicultural Corpus Christi Mass and Procession\, Seattle
DESCRIPTION:Archbishop Paul D. Etienne invites all our communities to join the celebration of the\nMulticultural Corpus Christi Mass and Procession \n\nAll are encouraged to wear traditional dress/attire.\nDuring procession\, you may carry an image/statue/icon of Jesus and or a banner but please DO NOT carry a national flag.\nIf you plan to participate Please RSVP by Thursday\, June 1 to Carl.Chilo@seattlearch.org\n\nOur Multicultural Communities\nIf you are aware of a community not included in this list\, please have a representative from that community contact Carl.Chilo@seattlearch.org as soon as possible. \n\nAfrican American\nBurmese Community\nChamorro Community\nChinese Community\nFilipino Community\nHispanic\nHungarian Community\nIndian Community\nIndonesian Community\nIrish Community\nItalian Community\nJapanese Community\nKenyon (Swahili) Community\nKorean Community\nLaotian Community\nLebanese Community\nLithuanian\nNative American Community\nNigerian Community\nPolish Community\nSamoan Community\nSpecial needs Community\nTongan Community\nVietnamese Community\n\nSponsored by Archdiocese of Seattle Multicultural Ministries
URL:https://vakaruvejai.com/renginys/multicultural-corpus-christi-mass-and-procession-sietlas/
LOCATION:St. James Cathedral\, 804 9th Avenue\, Seattle\, WA\, 98104
CATEGORIES:Seattle
ATTACH;FMTTYPE=image/png:https://vakaruvejai.com/wp-content/uploads/2023/06/CorpusChristi-2023_E1-min.png
END:VEVENT
BEGIN:VEVENT
DTSTART;TZID=America/Los_Angeles:20221029T090000
DTEND;TZID=America/Los_Angeles:20221029T100000
DTSTAMP:20260423T131339
CREATED:20221025T031056Z
LAST-MODIFIED:20221025T031056Z
UID:22832-1667034000-1667037600@vakaruvejai.com
SUMMARY:Šv. Kazimiero lituanistinė mokykla švenčia Vėlines\, Los Andželas
DESCRIPTION:
URL:https://vakaruvejai.com/renginys/sv-kazimiero-lituanistine-mokykla-svencia-velines-los-andzelas/
LOCATION:Forest Lawn Cemetery\, 1712 S Glendale Ave.\, Glendale\, CA\, 91205
CATEGORIES:Los Andželas
ATTACH;FMTTYPE=image/jpeg:https://vakaruvejai.com/wp-content/uploads/2022/10/41280F9B-1D63-4E09-A3FC-AA9FC2025719.jpeg
END:VEVENT
BEGIN:VEVENT
DTSTART;TZID=America/Los_Angeles:20220626T100000
DTEND;TZID=America/Los_Angeles:20220626T130000
DTSTAMP:20260423T131339
CREATED:20220617T234010Z
LAST-MODIFIED:20220617T234010Z
UID:21878-1656237600-1656248400@vakaruvejai.com
SUMMARY:Atnaujintos Šv. Kazimiero bažnyčios pašventinimo iškilmės\, Los Andželas
DESCRIPTION:Maloniai visus kviečiame atvykti į atnaujintos Šv. Kazimiero bažnyčios pašventinimą ir mišias šių metų birželio 26 dieną 10 val. (sekmadienį). \nMišias aukos Vilniaus arkivyskupas metropolitas Gintaras Grušas. Taip pat bus atidengiamas palaimintojo Teofilio Matulionio paveikslas. \nPo to salėje vyks pabendravimas ir vaišės.  \n  \nKlebonas Tomas Karanauskas \nParapijos taryba
URL:https://vakaruvejai.com/renginys/atnaujintos-sv-kazimiero-baznycios-pasventinimo-iskilmes-los-andzelas/
LOCATION:Šv. Kazimiero parapija Los Andžele\, 2718 St George St\, Los Angeles\, CA\, 90027\, United States
CATEGORIES:Los Andželas
ATTACH;FMTTYPE=image/jpeg:https://vakaruvejai.com/wp-content/uploads/2022/06/IMG_2658-scaled.jpg
ORGANIZER;CN="%C5%A1v. Kazimiero parapija":MAILTO:st.casimir@gmail.com
END:VEVENT
END:VCALENDAR