BEGIN:VCALENDAR
VERSION:2.0
PRODID:-//Vakarų Vėjai - ECPv6.15.3//NONSGML v1.0//EN
CALSCALE:GREGORIAN
METHOD:PUBLISH
X-WR-CALNAME:Vakarų Vėjai
X-ORIGINAL-URL:https://vakaruvejai.com
X-WR-CALDESC:Vakarų Vėjai renginiai
REFRESH-INTERVAL;VALUE=DURATION:PT1H
X-Robots-Tag:noindex
X-PUBLISHED-TTL:PT1H
BEGIN:VTIMEZONE
TZID:America/Los_Angeles
BEGIN:DAYLIGHT
TZOFFSETFROM:-0800
TZOFFSETTO:-0700
TZNAME:PDT
DTSTART:20250309T100000
END:DAYLIGHT
BEGIN:STANDARD
TZOFFSETFROM:-0700
TZOFFSETTO:-0800
TZNAME:PST
DTSTART:20251102T090000
END:STANDARD
END:VTIMEZONE
BEGIN:VEVENT
DTSTART;VALUE=DATE:20250412
DTEND;VALUE=DATE:20250414
DTSTAMP:20260423T161749
CREATED:20250329T034645Z
LAST-MODIFIED:20250329T034645Z
UID:28814-1744416000-1744588799@vakaruvejai.com
SUMMARY:Ritos Kybartienės fotografijos paroda "Iš kartos į kartą. Šaulys - tautos karys"\, Los Andželas
DESCRIPTION:Kviečiame apsilankyti Ritos Kybartienės fotografijos parodoje „Iš kartos į kartą. Šaulys – tautos karys”\, kuri bus eksponuojama šv. Kazimiero parapijos viršutinėje salėje 2025m. balandžio 12-tą dieną 12-14 val. ir balandžio 13 dieną 12-14 val. Ši paroda puikiai atspindi Vlado Putvinskio-Pūtvio\, Lietuvos Šaulių Sąjungos įkūrėjo\, žodžius: „Nėra tokios jėgos pasaulyje\, kuri galėtų pavergti tautą\, tvirtai pasiryžusią ginti savo nepriklausomybę”. \nOrganizatoriai: Lietuvos Šaulių Sąjunga Išeivijoje \nRėmėjai: \n\nLietuvos Šaulių Sąjunga\nVytauto Didžiojo šaulių 2-oji rinktinė\nKauno technologijų mokymo centras\n\nGlobėjai:  \n\nLietuvos Respublikos Generalinis Konsulatas Čikagoje\nČiurlionio galerija ir Jaunimo centras Čikagoje
URL:https://vakaruvejai.com/renginys/ritos-kybartienes-fotografijos-paroda-is-kartos-i-karta-saulys-tautos-karys-los-andzelas/
LOCATION:Šv. Kazimiero parapija\, 2716 St. George St.\, Los Angeles\, CA\, 90027
CATEGORIES:Lietuviški renginiai,Los Andželas
ATTACH;FMTTYPE=image/png:https://vakaruvejai.com/wp-content/uploads/2025/03/rk-paroda-resized4.png
END:VEVENT
END:VCALENDAR