BEGIN:VCALENDAR
VERSION:2.0
PRODID:-//Vakarų Vėjai - ECPv6.15.3//NONSGML v1.0//EN
CALSCALE:GREGORIAN
METHOD:PUBLISH
X-WR-CALNAME:Vakarų Vėjai
X-ORIGINAL-URL:https://vakaruvejai.com
X-WR-CALDESC:Vakarų Vėjai renginiai
REFRESH-INTERVAL;VALUE=DURATION:PT1H
X-Robots-Tag:noindex
X-PUBLISHED-TTL:PT1H
BEGIN:VTIMEZONE
TZID:America/Los_Angeles
BEGIN:DAYLIGHT
TZOFFSETFROM:-0800
TZOFFSETTO:-0700
TZNAME:PDT
DTSTART:20230312T100000
END:DAYLIGHT
BEGIN:STANDARD
TZOFFSETFROM:-0700
TZOFFSETTO:-0800
TZNAME:PST
DTSTART:20231105T090000
END:STANDARD
END:VTIMEZONE
BEGIN:VEVENT
DTSTART;VALUE=DATE:20230530
DTEND;VALUE=DATE:20230708
DTSTAMP:20260423T174754
CREATED:20230603T001303Z
LAST-MODIFIED:20230616T190552Z
UID:24661-1685404800-1688774399@vakaruvejai.com
SUMMARY:Ronald H. Silverman Fine Arts Gallery presenting “I Often Forget” by Jonas Kulikauskas\, Los Andželas
DESCRIPTION:Jonas Kulikauskas is an interdisciplinary artist inspired by his Lithuanian heritage\, family\, and faith. One outcome of his Fulbright journey to Lithuania in 2021 is the present exhibit I Often Forget— a photographic exploration of the fragile layers of time in everyday spaces. In a time of rising anti-Semitism\, he\, using a World War II-era lens on an 8×10″ camera\, captured the circadian life of what was once the Vilnius Ghetto. His installations illuminate histories\, conflicts\, resistance\, survival\, confusion\, and trauma relating to the Holocaust\, ethnic nationalism\, and cultural desecration. The exhibition\, I Often Forget by Jonas Kulikauskas\, compels us to question and reflect on the human condition.\nI Often Forget is partially funded by the Fulbright Program and the Puffin Foundation. Contributors include Dr. Jon Seligman (Archeologist)\, Dr. Saulius Sužiedelis (Historian)\, the Vilna Gaon Museum of Jewish History\, and the Ronald H. Silverman Fine Arts Gallery\, Cal State LA. Exhibition Dates: May 30 – July 7\, 2023Reception: Sunday\, June 4\, 2023\, 1 – 5 PM\n\nLocation: California State University\, Los Angeles\, 5151 State University Drive\, LA CA 90032Contact: art-gallery@calstatela.edu\, (323) 343-4040 The Gallery looks forward to your presence at the Ronald H. Silverman Fine Arts Gallery.Mika M. Cho\, Director of Ronald H. Silverman Fine Arts Gallery @ Cal State LA. \nGallery  HoursMonday – Friday 12:00 PM – 5:00 PMClosed Saturday – Sunday\, major holidays\,and during installation and de-installation of exhibitions.
URL:https://vakaruvejai.com/renginys/ronald-h-silverman-fine-arts-gallery-presenting-i-often-forget-by-jonas-kulikauskas-los-angeles/
LOCATION:California State University
CATEGORIES:Los Andželas
ATTACH;FMTTYPE=image/jpeg:https://vakaruvejai.com/wp-content/uploads/2023/06/2CE3D877-E4CC-4D8C-9897-D6CD9F8E1AF9-scaled.jpeg
END:VEVENT
END:VCALENDAR