BEGIN:VCALENDAR
VERSION:2.0
PRODID:-//Vakarų Vėjai - ECPv6.15.3//NONSGML v1.0//EN
CALSCALE:GREGORIAN
METHOD:PUBLISH
X-WR-CALNAME:Vakarų Vėjai
X-ORIGINAL-URL:https://vakaruvejai.com
X-WR-CALDESC:Vakarų Vėjai renginiai
REFRESH-INTERVAL;VALUE=DURATION:PT1H
X-Robots-Tag:noindex
X-PUBLISHED-TTL:PT1H
BEGIN:VTIMEZONE
TZID:America/Los_Angeles
BEGIN:DAYLIGHT
TZOFFSETFROM:-0800
TZOFFSETTO:-0700
TZNAME:PDT
DTSTART:20220313T100000
END:DAYLIGHT
BEGIN:STANDARD
TZOFFSETFROM:-0700
TZOFFSETTO:-0800
TZNAME:PST
DTSTART:20221106T090000
END:STANDARD
BEGIN:DAYLIGHT
TZOFFSETFROM:-0800
TZOFFSETTO:-0700
TZNAME:PDT
DTSTART:20230312T100000
END:DAYLIGHT
BEGIN:STANDARD
TZOFFSETFROM:-0700
TZOFFSETTO:-0800
TZNAME:PST
DTSTART:20231105T090000
END:STANDARD
BEGIN:DAYLIGHT
TZOFFSETFROM:-0800
TZOFFSETTO:-0700
TZNAME:PDT
DTSTART:20240310T100000
END:DAYLIGHT
BEGIN:STANDARD
TZOFFSETFROM:-0700
TZOFFSETTO:-0800
TZNAME:PST
DTSTART:20241103T090000
END:STANDARD
BEGIN:DAYLIGHT
TZOFFSETFROM:-0800
TZOFFSETTO:-0700
TZNAME:PDT
DTSTART:20250309T100000
END:DAYLIGHT
BEGIN:STANDARD
TZOFFSETFROM:-0700
TZOFFSETTO:-0800
TZNAME:PST
DTSTART:20251102T090000
END:STANDARD
END:VTIMEZONE
BEGIN:VEVENT
DTSTART;TZID=America/Los_Angeles:20251025T180000
DTEND;TZID=America/Los_Angeles:20251025T220000
DTSTAMP:20260423T143812
CREATED:20250830T073907Z
LAST-MODIFIED:20250830T073907Z
UID:29653-1761415200-1761429600@vakaruvejai.com
SUMMARY:Rudens balius ir "Auksinio grybo" apdovanojimai\, San Diegas
DESCRIPTION:LT \nKviečiame Jus į iškilmingą San Diego lietuvių bendruomenės rudens balių\, kurio metu vyks apdovanojimai\, skambės muzika ir netrūks šventinės nuotaikos!\nKADA: 2025 m. spalio 25 d.KUR: Rancho Bernardo – San Diego Oasis17170 Bernardo Center Dr\, San Diego\, CA 92128\nVakaro programa:• 18:00 – 19:00 – Kokteilių valanda\, pažintys ir bendravimas.• Nuo 19:00 – Vakarienė ir šventinė programa. Renginio metu bus teikiami „Auksinio grybo“ apdovanojimai.\nVakaro vedėjas – Rolandas Dabrukas (LT & EN).Šventinę atmosferą kurs DJ muzika.Veiks baras.\nApranga: vakarinė\, puošni.\nBilietai: Kaina – 130 USD (įskaičiuota vakarienė ir programa).120 USD prisidėjusiems solidrumo įnašu\nVietą prašome rezervuoti iki rugsėjo 23 d.:• Zelle: sandiegolietuviai@gmail.com• Čekiu ar grynaisiais – kreiptis į ausra@vabalas.com.\n Jei iki nurodytos datos neparduosime minimalaus bilietų skaičiaus\, renginys bus atšauktas\, o sumokėta suma grąžinama.\nKvietimo foto – Dainiaus Macikėn\n\nEN\n\nJoin us for the San Diego Lithuanian Community Autumn Ball\, featuring the “Golden Mushroom” Awards\, live music\, and a festive evening of fun and celebration!\nWHEN: October 25\, 2025WHERE: Rancho Bernardo – San Diego Oasis17170 Bernardo Center Dr\, San Diego\, CA 92128\nEvening Schedule:• 6:00 – 7:00 PM – Cocktail hour• 7:00 PM onward – Dinner and program\, including presentation of the “Golden Mushroom” Awards\nHost: Rolandas Dabrukas (LT & EN)Music: DJBar: Open\nDress Code: Elegant evening attire\nTickets:Price – $130 (includes dinner and program)• $120 for those who contributed a solidarity donation\nReserve your spot by September 23:• Zelle: sandiegolietuviai@gmail.com• Check or cash: contact ausra@vabalas.com\n Please note: If we do not sell the minimum number of tickets by the deadline\, the event will be canceled and payments will be refunded.
URL:https://vakaruvejai.com/renginys/rudens-balius-ir-auksinio-grybo-apdovanojimai-san-diegas/
LOCATION:Rancho Bernardo – San Diego Oasis\, 17170 Bernardo Center Dr\, San Diego\, CA\, 92128
CATEGORIES:Lietuviški renginiai,San Diego
ATTACH;FMTTYPE=image/jpeg:https://vakaruvejai.com/wp-content/uploads/2025/08/536288508_10222256245433515_211609510012858893_n.jpeg
END:VEVENT
BEGIN:VEVENT
DTSTART;TZID=America/Los_Angeles:20250927T173000
DTEND;TZID=America/Los_Angeles:20250927T220000
DTSTAMP:20260423T143812
CREATED:20250704T154717Z
LAST-MODIFIED:20250830T050159Z
UID:29386-1758994200-1759010400@vakaruvejai.com
SUMMARY:Rudens Balius: "Karalių pasaka"\, San Franciskas
DESCRIPTION:Kai ruduo tyliai nusileidžia ant miesto stogų\, ateina laikas pasakai. Ne bet kokiai\, o Karalių pasakai\, gimusiai iš mistinės muzikos natų ir sapniškų paveikslų potėpių. \nKviečiame Jus į ypatingą vakarą\, kai San Franciske gyvai seksime M.K. Čiurlionio pasaką. Salė virs mistine erdve\, kurioje atgims žvaigždžių sonatos\, miškų karalienės\, dangaus valdovai ir rūko pilys\, o tavęs lauks Čiurlionio pasaulis\, kur muzika skambės lyg paveikslai\, o spalvos pasakos legendas. \nŠĮ VAKARĄ JŪSŲ LAUKS:\n Gyva Muzika – magiška\, gili\, iš širdies gelmių. M.K. Čiurlionio ir kitus kūrinius atliks pianistas Rudolfas Budginas.\n Paveikslų Galerija\, kuri kvies keliauti per laiką\, sapnus ir karalystes.\n Vakaro Kostiumų Konkursas – rinksime ir apdovanosime įspūdingiausius ir įdomiausius vakaro kostiumus.\n Gyvasis ir Tylusis Aukcionas bei Loterija.\n Karališka 3 patiekalų Vakarienė: įkvėpta Čiurlionio kūrybos.\n Šokiai. \nRUGSĖJO 27 d.\, penktadienis\, 17:30 val.\nThe Elks Lodge\, 450 Post St\, San Francisco\, CA 94102 \nBILIETAI:\nStandartinis bilietas: $160\nSu naryste: $150 (SFLB individuali arba šeimos narystė)\nNuo rugsėjo 22 d. bilietai brangs.\nBilietus įsigykite čia. \nAPRANGA:\nPrisiminkite\, kaip vaikystėje žaidėte karalius ir karalienes\, princus ir princeses\, juokdarius\, elfus ir fėjas. Tai puiki proga tapti tuo\, kuo svajojote\, nors ir vienam vakarui. Apsivilkite kostiumą\, įkvėptą karalių istorijų\, herojų pasakų ar Čiurlionio vaizduotės.\nArba tiesiog ateikite pasipuošę šventine\, iškilminga apranga. \nNAKVYNĖ:\nKensington Park Hotel\n450 Post Street\, San Francisco\, CA 94102\nUžsisakykite kambarį su specialia nuolaida mums čia.\nArba:\nNaudokite kodą Lith25 www.kensingtonparkhotel.com. Click on Book Now.  Select Sept 27 on the calendar. Hit the dropdown for Special Codes or Rates.  Go to Promo dropdown to see Group Code.  Enter the code and apply. \nSVARBI INFORMACIJA:\nGėrimai neįskaičiuoti į bilieto kainą. Bus galima įsigyti bare. \nTapk Pasakos Dalimi!\nTik šį vakarą – tik čia – tik Tu gali atverti Karalių Pasakos duris.\nSudalyvauk Rudens Baliuje\, apie kurį sklandys legendos! \nRENGINIO REMĖJAI:\nLietuvių Fondas\nJAV LB Kultūros Taryba\nCalifornia Lithuanian Credit Union\nSan Francisko lietuvių bendruomenė \nDAUGIAU INFORMACIJOS:\nhttps://sflithuanians.com\nwww.facebook.com/SFLithuanians
URL:https://vakaruvejai.com/renginys/rudens-balius-karaliu-pasaka-san-franciskas/
LOCATION:The Elks Lodge\, 450 Post Street\, San Francisco\, CA\, 94102
CATEGORIES:Lietuviški renginiai,San Franciskas
ATTACH;FMTTYPE=image/jpeg:https://vakaruvejai.com/wp-content/uploads/2025/07/514500809_720182693991866_2787775861498834210_n.jpeg
END:VEVENT
BEGIN:VEVENT
DTSTART;TZID=America/Los_Angeles:20241012T163000
DTEND;TZID=America/Los_Angeles:20241012T230000
DTSTAMP:20260423T143812
CREATED:20240824T072118Z
LAST-MODIFIED:20240824T072118Z
UID:27438-1728750600-1728774000@vakaruvejai.com
SUMMARY:Didžiausia metų šventė - Rudens balius! San Franciskas
DESCRIPTION:Kaip ir kiekvienais metais\, norime jus pakvieti į unikalų vakarą\, kur apsijungs linksmybės\, žaismingumas\, skoniai\, patirtys\, netikėtumai\, šypsenos\, pažintys\, pokalbiai\, puiki muzika ir šokiai.\n BALIAUS PROGRAMA \n Rudens Baliaus metu prisiminsime savo šaknis ir etnografinius Lietuvos regionus: Aukštaitiją\, Žemaitiją\, Dzūkiją\, Suvalkiją ir Mažąją Lietuvą. Renginio svečius pakviesime smagiai viktorinai.\n Vakaro metu mums koncertuos nuostabių balsų grupė el Fuego. Tikrai taip – el Fuego! Atskrenda pas mus net iš Lietuvos.\n Taip pat jūsų lauks gardi 3-jų patiekalų vakarienė\, nuotaikingas aukcionas ir patys smagiausi šokiai su DJ Žygis iš Čikagos.\n DATA Spalio 12 d.\, 4:30 – 11 PM\n LOKACIJA Embassy Suites by Hilton101 MC Innis Parkway\, San Rafael\, CA\, 94903http://www.hilton.com/…/cali…/san-rafael/embassy-suites/\n VAKARO APRANGA Puošni su lašeliu Lietuvos\n BILIETAI \n$155 ir $145 (su naryste)Su pirmaisiais 10 bilietų padovanosime po vieną loterijos bilietą. Taigi\, paskubėkite pirkti savo bilietus!\nNuo rugsėjo 22 d. – $165 ir $155 (su naryste)\nGalima stalo rezervacija už papildomą mokestį.\nJei perkate keliems asmenims\, į pirkinių krepšelį dėkite po 1 bilietą ir po to bendrai viską apmokėsite.https://sf-lithuanian-american-community.square.site/\n\nNAUJIENA!  Įsigykite loterijos bilietus iš anksto. Kuo daugiau bilietų pirksite\, tuo sėkmė didesnė jus lydės.\n Padovanokite dalį ar visą bilietą “Genio” mokyklos mokytojoms\, kurios taip puikiai ir nuoširdžiai ugdo mūsų vaikų lietuviškumą.\n___________________________________________________________________ AUKCIONAS \nTikime\, kad mūsų bendruomenėje yra daug narių\, kurie ką nors kuria\, organizuoja ar siūlo. Būsime dėkingi\, jei padovanosite aukcionui savo gaminių\, kūrinių ar paslaugų sertifikatų.\nTaip pat prašome jūsų\, jei yra galimybė\, kreiptis į savo darbdavius ar draugus dėl jų produkcijos ar paslaugų pateikimo aukcionui.\n Dėl konkrečių pateikimo sąlygų\, galima bus tartis individualiai.\n  Visais klausimais su mumis galite susisiekti: info@sflithuanians.com.\nLaukiame jūsų visų nuostabiame renginyje!
URL:https://vakaruvejai.com/renginys/didziausia-metu-svente-rudens-balius-san-franciskas/
LOCATION:Embassy Suites by Hilton San Rafael Marin County\, 101 MC Innis Parkway\, San Rafael\, CA\, 94903
CATEGORIES:Lietuviški renginiai,San Franciskas
ATTACH;FMTTYPE=image/jpeg:https://vakaruvejai.com/wp-content/uploads/2024/08/456107539_496403483036456_1070701187164915528_n.jpeg
END:VEVENT
BEGIN:VEVENT
DTSTART;TZID=America/Los_Angeles:20231118T170000
DTEND;TZID=America/Los_Angeles:20231118T233000
DTSTAMP:20260423T143812
CREATED:20231020T043927Z
LAST-MODIFIED:20231104T022148Z
UID:25321-1700326800-1700350200@vakaruvejai.com
SUMMARY:San Francisko Rudens Balius
DESCRIPTION:VESTUVĖS\nŠiemet kviečiame į Rudens Balių\, kur kiekvienas bendruomenės narys taps renginio dalimi. Renginio tematika bus lietuviškos tradicinės vestuvės (1970-90 m.): tai ir rudens šventė\, ir dviejų giminių susijungimas\, ir viena linksmiausių lietuviškų švenčių. Čia bus ir jaunieji su palyda\, ir svečių stalo užsėdimas\, ir svočia su piršliu\, muzikantai\, dainininkai ir šokėjai. O kur dar tradicinės lietuviškos užstalės dainos ir kitos linksmybės. Tikimės tokiu renginio formatu suvienyti ir apjungti mūsų nuostabią lietuvių bendruomenę.\nKIEKVIENAS TAPS NE TIK SVEČIU\, BET IR DALYVIU\nRenginio metu kiekvienas jūsų patapsite vestuvių dalyviu ar ypatingu svečiu. Labai rekomenduojame iš anksto numatyti savo personažą ir pagal galimybes jam pasiruošti. Sveteliai nesugalvoję sau personažo taip pat liks nepamiršti ir vakaro metu bus įtraukti į linksmybių sūkurį. Vis tik manome\, kad geriau pasiruošti personažui iš anksto\, nei gauti vaidmenį vietoje .\n Užsiregistruokite kokį vaidmenį norėsite vaidinti vestuvėse spausdami šią nuorodą.\nhttp://www.signupgenius.com/…/10C084DA4A92DA0FECF8…\nJei sąraše nerandate kuo norite būti\, tai galite susigalvoti personažus\, kuriuos mes įtrauksime į scenarijų. Pvz. tai gali būti pusbrolis iš Gruzijos mėgstantis sakyti tostus\, vietinis gydytojas su įdomia istorija iš darbo praktikos\, tetulė Nelė Paltinienė\, atvykusi su daina pasveikinti jaunųjų.\nNeribokite personažų pasirinkimo dėl galimo jūsų amžiaus! Mes juk viską žaisime.\nTik būtinai praneškite mums apie pasirinktą personažą\, kad žinoti kokių svetelių laukti. Taip pat rekomenduojame kitiems neatskleisti savo personažo – tegu visiems būna staigmena renginyje .\nJei turite klausimų dėl personažų\, skambinkite Vilmai 831-521-0078.\nVIETA\, LAIKAS\nLapkričio 18 d. 5 – 11:30 pm\n„Broadway Grill”\, 1400 Broadway\, Burlingame\, CA\, 94010\nKĄ ATSINEŠTI?\nVisų dalyvių lauks bendras lietuviškomis gėrybėmis nukrautas stalas.\nO kokios vestuvės be saldainių švarko kišenėje\, krepšelyje iškeptų naminių saldumynų\, vyno butelaičio švarko skverne ir linksmų dovanų jauniesiems.\nViso vakaro metu veiks baras\, kur galėsite užsisakyti gėrymų\, tačiau galima atsinešti savo vyno.\nBilietai\nZelle $100 – info@sflithuanians.com\nQR kodas – $105 (rasite komentare po renginiu)\nJei mokate už kelis asmenis\, komentaruose nurodykite jų vardus ir pavardes. Būtinai nurodykite tel. nr. ir el. paštą\, kad esant poreikiui galėtume susisiekti.\nLapkričio 7 d. bilietai brangs!\n\nUž finansinę paramą\, organizuojant renginį\, dėkojame:\n Lietuvių fondui\,\n JAV Lietuvių bendruomenei\,\n Astai ir Džiugui Dzikarams bei „Broadway Grill”\nNORITE PRISIDĖTI PRIE RENGINIO RĖMIMO TIEK FINANSIŠKAI\, TIEK MATEREALIAI\, susisiekite su mumis info@sflithuanians.com. Turime daug įdėjų\, kas gali patikti jauniesiems.\n 
URL:https://vakaruvejai.com/renginys/san-francisko-rudens-balius-2/
LOCATION:Broadway Grill Restoranas\, 1400 Broadway\, Burlingame\, CA\, 94010
CATEGORIES:Lietuviški renginiai,San Franciskas
ATTACH;FMTTYPE=image/jpeg:https://vakaruvejai.com/wp-content/uploads/2023/10/397887251_10232032164451080_8034636199290587214_n.jpeg
END:VEVENT
BEGIN:VEVENT
DTSTART;TZID=America/Los_Angeles:20221022T180000
DTEND;TZID=America/Los_Angeles:20221022T220000
DTSTAMP:20260423T143812
CREATED:20220912T214603Z
LAST-MODIFIED:20220912T222541Z
UID:22510-1666461600-1666476000@vakaruvejai.com
SUMMARY:Rudens Balius 2022\, San Diegas
DESCRIPTION:LT \nMielieji\, \nSan Diego lietuvių bendruomenė kviečia Jus smagiai praleisti vakarą su senais draugais\, susipažinti su naujais\, pašokti ir pasilinksminti RUDENS BALIUJE 2022!\nVakaro aprangos kodas – “Juoda/Balta” 🖤🤍\nKviečiame pasipuošti nors mažyte detale! \nBaliuje jus linksmins daugeliui iš LA Lietuvių Dienų ir kitų lietuviškų renginių žinomas muzikantas ir dainininkas Romualdas Zableckas (Kolorado Romas). \nPrograma:\n18.00 Kokteiliai\n19.00 Vakarienė\n20.00 Muzika ir šokiai \nĮėjimas tik su rezervacijomis. Rezervacijos priimamos iki spalio 5 dienos. Bilieto kaina- $100 asmeniui. \nĮ bilieto kainą įeina: vakaro programa\, pasitikimo gėrimai\, užkandžiai\, vakarienė.\nMėgstamus gėrimus atsineškite savo arba galėsite įsigyti vietoje! \nBilietų rezervacija: e-mail KazlauskasRE@gmail.com arba ausra@vabalas.com arba asmenine žinute ir apmokėti per:\n– Eventbrite\n– Siūsti čekį (AŽ Aušrai ar Eglei del adreso) \nJei turite klausimų rašykite Aušrai: ausra@vabalas.com arba Eglei: KazlauskasRE@gmail.com arba PM Egle Kazlauskas/Ausra Vabaliene.\nPakvieskite į balių visus savo draugus lietuvius ir ne tik!\nIki pasimatymo 🖤 Rudens Baliuje 2022! \nEN \nDear Friends\,\nLithuanian Community of San Diego cordially invites you to spend an evening with old friends\, meet new people\, dance and have fun at the Fall Ball 2022.\nDress code “Black/White” 🖤🤍 \nEntertainment will be provided by Lithuanian singer and a musician Romualdas Zableckas (Kolorado Romas). You might have seen him previously at LA Lithuanian Days or some other Lithuanian event. \nProgram:\n6 pm- cocktails\n7 pm- dinner\n8 pm – dance and fun \nYou must have an advance reservation in order to attend. Reservations are taken until October 5\, 2022. Ticket cost is $100 per person (Appetizers\, complimentary drinks\, dinner included).\nReservation process: email kazlauskasre@gmail.com or ausra@vabalas.com or PM either. \nYou may bring your favorite bottle to share or purchase stronger cocktails at the restaurant. \nPrivate Message with any questions. \nPay via eventbrite link \nCHECKS are also accepted. (PM Aušra or Eglė for address) \nhttps://www.eventbrite.com/e/fall-ball-2022-tickets-417498939567
URL:https://vakaruvejai.com/renginys/rudens-balius-2022-san-diegas/
LOCATION:Elijah’s Restauranant\, Delicatessen and Catering\, 7061 Clairemont Mesa Blvd\, San Diego\, CA\, 92111
CATEGORIES:Lietuviški renginiai,San Diego
ATTACH;FMTTYPE=image/jpeg:https://vakaruvejai.com/wp-content/uploads/2022/09/892E04AF-FF66-40FC-8402-479B55586828.jpeg
END:VEVENT
BEGIN:VEVENT
DTSTART;TZID=America/Los_Angeles:20221015T180000
DTEND;TZID=America/Los_Angeles:20221016T000000
DTSTAMP:20260423T143812
CREATED:20220630T074700Z
LAST-MODIFIED:20220923T191147Z
UID:22041-1665856800-1665878400@vakaruvejai.com
SUMMARY:San Francisko Rudens Balius - 70 Metų Gimtadienis
DESCRIPTION:LT\nVALIO – GIMTADIENIS!\nLaukiamiausia metų šventė!!!\nŠis gimtadienis mūsų San Francisko lietuvių bendruomenei yra ne šiaip eilinis gimtadienis\, o dešimtmečio jubiliejus. Mes gyvuojame jau net 70 metų!\n  \nTa proga kviečiame jus visus smagiam\, gražiam\, nuotaikingam ir elgantiškam pasibuvimui visiems kartu.\n  \nVakaro metu pasidžiaugsime mūsų nuostabia bendruomene\, mėgausimės gardžia 3 patiekalų vakariene\, dalyvausime nuotaikingame aukcione\, šoksim trypsim su muzikantu ir dainininku Augiu Dickevičiumi iš Čikagos. Renginį ves žavingoji Justė Brazdzionis iš LA. Jūsų lauks ir daugiau smagių gimtadienio staigmenų.\n  \nIŠKILMINGA ŠVENTĖ VYKS:\nSpalio 15 d. 17 val.\nHyatt Centric Mountain View\n409 San Antonio Rd\, Mountain View\, CA 94040\nhttps://www.hyatt.com/…/hyatt-centric-mountain-view/sjcct\nDidelė aikštelė mašinų parkavimui.\nDėl apgyvendinimo dar deriname\, tad pranešime informaciją vėliau.\n  \nBILIETAI:\nKaina $120 – į kainą įskaičiuota 3 patiekalų vakarienė.\nPerkant nurodykite sukuo norėsite sedėti. Kiek pavyks – suderinsime. Prie stalo bus po 8 asmenis.\nTaip pat bus Singles stalas\, tad nurodykite\, jei norėsite prie jo sėsti.\nApmokėjimas:\nZelle\, naudojant info@sflithuanians.com.\nMokant PayPal – $123 su mokesčiais.\nNuo rugsėjo 27 d. kaina bus $150 ir nebebus galimybės pasirinkti patiekalų.\nBilietus pirkti čia:\nhttps://form.jotform.com/222505281726150\n  \nVAKARO APRANGA – šventinė ir iškilminga\nNuotaikai pagyvinti galite pasirinkti 1952-ųjų metų stilių.\n  \nAtvykite švęsti šio jubiliejaus\, nes šis gimtadienis yra kiekvieno mūsų.\nTik mūsų kiekvieno dėka ši bendruomenė gyvuoja tiek daug metų.\nRENGINIO APRAŠYMAS DAR BUS PILDOMAS\, TAD SEKITE INFORMACIJĄ\n___________________________________________________________________\nGIMTADIENIO DOVANOS IR AUKCIONAS\n DOVANOS  DOVANOS  DOVANOS \nO koks gi gimtadienis be jų?\n Priimame visas dovanas tiek daiktais\, tiek paslaugomis .\n Priklausomai nuo to kiek dovanų gausime\, dalį jų skirsime aukcionui\, o dalį – dovanoms.\nTaip pat prašome jūsų\, jei yra galimybė\, kreiptis į savo darbdavius dėl jų produkcijos ar paslaugų pateikimo aukcionui. Dėl konkrečių pateikimo sąlygų\, galima bus tartis atskirai kiekvienu atveju. Pagal poreikį taip pat galėsime pateikti prašymo raštą nuo bendruomenės.\n Būsime dėkingi ir už bet kokių idėjų pasidalinimą dėl galimų dovanų gavimo.\n Visais klausimais su mumis galite susisiekti info@sflithuanians.com arba 831-521-0078 (Vilma).\nAtsižvelgiant į tai\, kad per paskutinius metus viskas labai pabrango ir stengiantis padaryti renginio kainą „prieinamą” daugumai bendruomenės narių\, buvo nuspręsta dalį lėšų renginiui surinkti per aukcioną.\n\nEN\n\nFALL BALL 2022\n\n\nSaturday\, October 15\, 2022\n5:00 PM 11:30 PM\nHYATT CENTRIC MOUNTAIN VIEW (map)\n\n\n\n\n\n\n\nHURRAY! IT’S OUR BIRTHDAY!\nThe most anticipated event of the year is almost upon us! And this year it’s not just any Fall Ball: The Lithuanian American Community is celebrating its 70th Anniversary! Happy Birthday to us! \nWe invite all of our members and friends to come together and celebrate with us! It’s going to be an elegant affair: A cocktail hour\, followed by a formal three-course dinner\, live auction\, live music and dancing\, and some surprises thrown in between! \n\nWHEN :\nSaturday\, October 15th from 5pm until 11:30pm \nWHERE:\nHyatt Centric Mountain View / Cloud Ballroom\n409 San Antonio Rd\, Mountain View\, CA 94040\nhttps://www.hyatt.com/…/hyatt-centric-mountain-view/sjcct\nWe’ll have discounted rooms available for anyone who’d like to spend the night at the hotel. Details to come! \nTICKETS:\nTickets are $120 per person. Eight people per round table. Going with friends? Follow the link below and let us know if you’d like to sit with a few or even reserve an entire table! \nBuy your tickets here: https://form.jotform.com/222505281726150\nThe formal sit-down dinner will consist of an appetizer\, entree\, and dessert. Guests can choose one of the following: \nPan Seared Sustainable Salmon: Farm Fresh Seasonal Vegetables\, Fennel Slaw with Preserved Lemon\, Creamy Polenta\, Citrus Beurre Blanc \nSlow Braised Beef Short Rib: Chive Mashed Potatoes\, Grilled Asparagus\, Roasted Tomatoes\, Pinot Noir Demi-Glace \nFor those with special dietary needs\, there’s also a Vegetarian and Gluten-free option. \nMake sure to get your tickets now because\, as of September 27th\, the price will go up to $150 per person and there will be no more opportunity to select an entree; it’ll be chef’s choice. \n\nATTIRE/DRESS CODE – Formal/BlackTie\nDress to Impress! How often do we get a chance to get all dolled up anymore? We suggest something reminiscent of the 1950s\, but any elegant attire is fine. Typically\, women wear long gowns or cocktail dresses; men come in suits or blazers with slacks. Since this is a formal event\, we respectfully ask no jeans or sneakers. \nThanks to all our members! It’s because of you that we’ve lasted for 70 years. Here’s to 70 more! \nCHECK BACK HERE REGULARLY. WE’LL POST MORE DETAILS AS THEY BECOME AVAILABLE. \n\nBIRTHDAY GIFTS AND AUCTION: \nWe accept all types of donations\, whether they be financial or material. \nDepending on the types of donations we receive\, some will end up in the live auction\, while others will be handed out as prizes. \nWhy not inquire at your place of work for some items for the auction? If you have any questions about what would be appropriate\, please contact us at the number below. \nWe’re grateful for any and all assistance!
URL:https://vakaruvejai.com/renginys/san-francisko-rudens-balius/
LOCATION:Hyatt Centric Mountain View\, 409 San Antonio Rd\, Mountain View\, CA\, 94040
CATEGORIES:Lietuviški renginiai,San Franciskas
ATTACH;FMTTYPE=image/png:https://vakaruvejai.com/wp-content/uploads/2022/06/Screen-Shot-2022-09-23-at-12.11.22-PM.png
END:VEVENT
END:VCALENDAR