BEGIN:VCALENDAR
VERSION:2.0
PRODID:-//Vakarų Vėjai - ECPv6.15.3//NONSGML v1.0//EN
CALSCALE:GREGORIAN
METHOD:PUBLISH
X-WR-CALNAME:Vakarų Vėjai
X-ORIGINAL-URL:https://vakaruvejai.com
X-WR-CALDESC:Vakarų Vėjai renginiai
REFRESH-INTERVAL;VALUE=DURATION:PT1H
X-Robots-Tag:noindex
X-PUBLISHED-TTL:PT1H
BEGIN:VTIMEZONE
TZID:America/Los_Angeles
BEGIN:DAYLIGHT
TZOFFSETFROM:-0800
TZOFFSETTO:-0700
TZNAME:PDT
DTSTART:20250309T100000
END:DAYLIGHT
BEGIN:STANDARD
TZOFFSETFROM:-0700
TZOFFSETTO:-0800
TZNAME:PST
DTSTART:20251102T090000
END:STANDARD
END:VTIMEZONE
BEGIN:VEVENT
DTSTART;TZID=America/Los_Angeles:20250928T100000
DTEND;TZID=America/Los_Angeles:20250928T160000
DTSTAMP:20260423T125922
CREATED:20250927T060710Z
LAST-MODIFIED:20250927T060710Z
UID:29766-1759053600-1759075200@vakaruvejai.com
SUMMARY:Eikime į žygį\, Sietlas WA
DESCRIPTION:LT\n\nSveiki bičiuliai\,\nMaumedžių sezonas jau čia! Tai geriausias metas pasigrožėti rudens spalvomis ir paskutine metų šiluma. Planuojamas Heather-Maple žiedinis maršrutas į šiaurę nuo 20-ojo greitkelio. Smagus ir lengvas 7 mylių kelias\, o po jo pietūs/vakarienė Bellingham. Galiu padėti suorganizuoti „carpooling”. Prašome patvirtinti iš anksto ar galėsite dalyvauti.\niki greito!\n\nEN\n\nHey folks\,\nLarch season is upon us! It’s the best time to catch fall colors and the last warmth of the year. I am looking at doing Heather-Maple Pass Loop off HWY 20 in the north cascades. A nice easy 7 miler or so\, and we will likely grab lunch or dinner in Bellingham afterwards. I can help arrange carpooling. Please RSVP ahead if you can make it.\nI look forward to catching up with you all!
URL:https://vakaruvejai.com/renginys/eikime-i-zygi-sietlas-wa/
LOCATION:Maple Pass Loop Trail\, Stehekin\, WA
CATEGORIES:Lietuviški renginiai,Seattle
ATTACH;FMTTYPE=image/jpeg:https://vakaruvejai.com/wp-content/uploads/2025/09/550525951_24793984223530017_3231945966686868776_n.jpeg
ORGANIZER;CN="Seattle Lithuanian Community/Seattle Lietuvi%C5%B3 Bendruomen%C4%97":MAILTO:seattlelb.president@gmail.com
END:VEVENT
END:VCALENDAR