BEGIN:VCALENDAR
VERSION:2.0
PRODID:-//Vakarų Vėjai - ECPv6.15.3//NONSGML v1.0//EN
CALSCALE:GREGORIAN
METHOD:PUBLISH
X-WR-CALNAME:Vakarų Vėjai
X-ORIGINAL-URL:https://vakaruvejai.com
X-WR-CALDESC:Vakarų Vėjai renginiai
REFRESH-INTERVAL;VALUE=DURATION:PT1H
X-Robots-Tag:noindex
X-PUBLISHED-TTL:PT1H
BEGIN:VTIMEZONE
TZID:America/Los_Angeles
BEGIN:DAYLIGHT
TZOFFSETFROM:-0800
TZOFFSETTO:-0700
TZNAME:PDT
DTSTART:20200308T100000
END:DAYLIGHT
BEGIN:STANDARD
TZOFFSETFROM:-0700
TZOFFSETTO:-0800
TZNAME:PST
DTSTART:20201101T090000
END:STANDARD
END:VTIMEZONE
BEGIN:VEVENT
DTSTART;TZID=America/Los_Angeles:20200112T133000
DTEND;TZID=America/Los_Angeles:20200112T150000
DTSTAMP:20260423T193351
CREATED:20200104T010322Z
LAST-MODIFIED:20200104T010449Z
UID:10830-1578835800-1578841200@vakaruvejai.com
SUMMARY:Dokumentinio filmo “Kelionės namo” premjera\, San Diego
DESCRIPTION:Skandinavijos filmų festivalyje galėsite išvysti dokumentinį filmą „Kelionės namo” – nuotaikingą\, dar niekad kine nepasakotą istorija apie pirmąsias Amerikos lietuvių patirtis grįžus aplankyti okupuotą tėvynę. Ką jautė ir matė atvykstantys – šiandien jau sunkiai suvokiama bei keista. Karo metais priverstų palikti šalį filmo herojų atmintyje įstrigo romantiški ir net kiek naivūs tėvynės vaizdiniai. Atvykus jų laukė gerokai pasikeitusi realybė\, kontrastuojanti su nostalgišku\, legendomis apipintu Lietuvos įvaizdžiu. Ši grįžimo namo istorija atskleidžia praėjusios epochos dvasią\, dviejų civilizacijų sandūrą ir netikėtas spalvingų herojų patirtis.
URL:https://vakaruvejai.com/renginys/dokumentinio-filmo-keliones-namo-premjera-san-diego/
LOCATION:San Diego Oasis\, 17170 Bernardo Center Drive\, San Diego\, CA\, 92128
CATEGORIES:San Diego
ATTACH;FMTTYPE=image/jpeg:https://vakaruvejai.com/wp-content/uploads/2020/01/A3-kelione-namo-PRINT-pdf-212x300-1.jpg
END:VEVENT
END:VCALENDAR