BEGIN:VCALENDAR
VERSION:2.0
PRODID:-//Vakarų Vėjai - ECPv6.15.3//NONSGML v1.0//EN
CALSCALE:GREGORIAN
METHOD:PUBLISH
X-ORIGINAL-URL:https://vakaruvejai.com
X-WR-CALDESC:Vakarų Vėjai renginiai
REFRESH-INTERVAL;VALUE=DURATION:PT1H
X-Robots-Tag:noindex
X-PUBLISHED-TTL:PT1H
BEGIN:VTIMEZONE
TZID:America/Los_Angeles
BEGIN:DAYLIGHT
TZOFFSETFROM:-0800
TZOFFSETTO:-0700
TZNAME:PDT
DTSTART:20240310T100000
END:DAYLIGHT
BEGIN:STANDARD
TZOFFSETFROM:-0700
TZOFFSETTO:-0800
TZNAME:PST
DTSTART:20241103T090000
END:STANDARD
BEGIN:DAYLIGHT
TZOFFSETFROM:-0800
TZOFFSETTO:-0700
TZNAME:PDT
DTSTART:20250309T100000
END:DAYLIGHT
BEGIN:STANDARD
TZOFFSETFROM:-0700
TZOFFSETTO:-0800
TZNAME:PST
DTSTART:20251102T090000
END:STANDARD
BEGIN:DAYLIGHT
TZOFFSETFROM:-0800
TZOFFSETTO:-0700
TZNAME:PDT
DTSTART:20260308T100000
END:DAYLIGHT
BEGIN:STANDARD
TZOFFSETFROM:-0700
TZOFFSETTO:-0800
TZNAME:PST
DTSTART:20261101T090000
END:STANDARD
END:VTIMEZONE
BEGIN:VEVENT
DTSTART;TZID=America/Los_Angeles:20260217T104500
DTEND;TZID=America/Los_Angeles:20260217T114500
DTSTAMP:20260423T162901
CREATED:20260131T074802Z
LAST-MODIFIED:20260214T073652Z
UID:30477-1771325100-1771328700@vakaruvejai.com
SUMMARY:Lietuvos vėliavos pakėlimas San Francisko rotušėje\, San Franciskas
DESCRIPTION:Lietuvos valstybės atkūrimo dieną paminėkime iškeldami trispalvę.\nVasario 17-ąją visi rinkimės prie San Francisko City Hall\, kur kartu su miesto valdžios atstovais iškilmingai iškelsime Lietuvos vėliavą. \n📅 Vasario 17 d.\n⏰ Renkamės 10:45 AM\n🎖️ Ceremonijos pradžia 11:30 AM\n📍Vieta: San Francisco City Hall\, 1 Dr. Carlton B. Goodlett Pl\, San Francisco\, CA 94102 \nNorintiems dalyvauti vėliavos pakėlimo ceremonijoje Rotušės viduje rekomenduojama registruotis iki vasario 13 dienos. Prašome užpildyti registracijos formą:\nhttps://form.jotform.com/SFinfo/event-registration-current \nPo ceremonijos\, jei bus norinčių\, galėsime visi kartu nueiti dar pabendrauti į kavinę. \nAteikite su lietuviška atributika – trispalviais drabužiais\, vėliavomis ir vėliavėlėmis.\nBūtina registracija:\nhttps://form.jotform.com/SFinfo/event-registration-current\nIki pasimatymo!
URL:https://vakaruvejai.com/renginys/lietuvos-veliavos-pakelimas-san-fransisko-rotuseje-san-franciskas/
LOCATION:San Francisco CIty Hall\, 1 Dr. Carlton B. Goodlett Place\, San Francisco\, CA\, 94102
CATEGORIES:Lietuviški renginiai,San Franciskas
ATTACH;FMTTYPE=image/jpeg:https://vakaruvejai.com/wp-content/uploads/2026/01/633842035_901144822562318_4653375956112354785_n.jpg
END:VEVENT
BEGIN:VEVENT
DTSTART;TZID=America/Los_Angeles:20250218T200000
DTEND;TZID=America/Los_Angeles:20250218T210000
DTSTAMP:20260423T162901
CREATED:20250215T065153Z
LAST-MODIFIED:20250215T065153Z
UID:28422-1739908800-1739912400@vakaruvejai.com
SUMMARY:Lietuvos vėliavos spalvomis nušvis San Francisco City Hall\, San Franciskas
DESCRIPTION:Susirinkime dar kartą paminėti Lietuvos valstybės atkūrimo dieną prie San Francisko City Hall pastato\, kuris bus apšviestas Lietuvos vėliavos spalvomis!\nVasario 18-ąją 8PM visi rinkimės prie San Francisko City Hall\, kur visi pasidžiaugsime lietuviška dvasia ir pasidarysime daug puikių nuotraukų!Kada: Vasario 18 d. @ 8.00 PM Kur: San Francisco City Hall\, 1 Dr Carlton B Goodlett Pl\, San Francisco 94102\n Ateikite su lietuviška atributika – trispalviais drabužiais\, vėliavomis ir vėliavėlėmis.\nP.s. Jeigu negalite 8pm\, ateikite nusifotografuoti kada galite\, SF City Hall bus apšviestas LT spalvomis visą vakarą.
URL:https://vakaruvejai.com/renginys/lietuvos-veliavos-spalvomis-nusvis-san-francisco-city-hall-san-franciskas/
LOCATION:San Francisco CIty Hall\, 1 Dr. Carlton B. Goodlett Place\, San Francisco\, CA\, 94102
CATEGORIES:Lietuviški renginiai,San Franciskas
ATTACH;FMTTYPE=image/jpeg:https://vakaruvejai.com/wp-content/uploads/2025/02/480084435_619382357405234_2358277656293338983_n.jpeg
END:VEVENT
BEGIN:VEVENT
DTSTART;TZID=America/Los_Angeles:20250214T104500
DTEND;TZID=America/Los_Angeles:20250214T130000
DTSTAMP:20260423T162901
CREATED:20250201T080844Z
LAST-MODIFIED:20250201T080844Z
UID:28376-1739529900-1739538000@vakaruvejai.com
SUMMARY:Lietuvos vėliavos pakėlimas San Francisko City Hall minint Lietuvos Nepriklausomybės dieną\, San Franciskas
DESCRIPTION:Lietuvos valstybės atkūrimo dieną paminėkime iškeldami trispalvę. Vasario 14-ąją visi rinkimės prie San Francisko City Hall\, kur kartu su miesto valdžios atstovais iškilmingai iškelsime Lietuvos vėliavą.\nVasario 14 d. Renkamės 10.45 AM Ceremonijos pradžia 11:30 AMSan Francisco City Hall\, 1 Dr Carlton B Goodlett Pl\, San Francisco 94102\nPo ceremonijos\, jei bus norinčių\, galėsime visi kartu nueiti dar pabendrauti į kavinę.\nAteikite su lietuviška atributika – trispalviais drabužiais\, vėliavomis ir vėliavėlėmis.\nBūtina registracija:https://form.jotform.com/230260498984163\nInformacija bus papildyta.
URL:https://vakaruvejai.com/renginys/lietuvos-veliavos-pakelimas-san-francisko-city-hall-minint-lietuvos-nepriklausomybes-diena-san-franciskas/
LOCATION:San Francisco CIty Hall\, 1 Dr. Carlton B. Goodlett Place\, San Francisco\, CA\, 94102
CATEGORIES:Los Andželas,San Franciskas
ATTACH;FMTTYPE=image/jpeg:https://vakaruvejai.com/wp-content/uploads/2025/02/475418483_609150291761774_7509635880963100598_n.jpeg
END:VEVENT
BEGIN:VEVENT
DTSTART;TZID=America/Los_Angeles:20240216T113000
DTEND;TZID=America/Los_Angeles:20240216T123000
DTSTAMP:20260423T162901
CREATED:20240208T030326Z
LAST-MODIFIED:20240208T030355Z
UID:26013-1708083000-1708086600@vakaruvejai.com
SUMMARY:Vasario 16-oji - Lietuvos vėliavos pakėlimas San Francisko City Hall\, San Franciskas
DESCRIPTION:Vasario 16-tą dieną 11.30AM visi rinkimės prie San Francisko City Hall su lietuviška atributika\, kur kartu su miesto valdžios atstovais bus iškilmingai iškelta Lietuvos vėliava!\n\nDalyvius prašome užsiregistruoti: https://form.jotform.com/230260498984163\n\nIšsisaugokite datą ir laiką\, sekite tolesnę informaciją.
URL:https://vakaruvejai.com/renginys/vasario-16-oji-lietuvos-veliavos-pakelimas-san-francisko-city-hall-san-franciskas/
LOCATION:San Francisco CIty Hall\, 1 Dr. Carlton B. Goodlett Place\, San Francisco\, CA\, 94102
CATEGORIES:Lietuviški renginiai,San Franciskas
ATTACH;FMTTYPE=image/jpeg:https://vakaruvejai.com/wp-content/uploads/2024/02/425516620_381782721165200_9092029144498213074_n.jpeg
END:VEVENT
END:VCALENDAR