BEGIN:VCALENDAR
VERSION:2.0
PRODID:-//Vakarų Vėjai - ECPv6.15.3//NONSGML v1.0//EN
CALSCALE:GREGORIAN
METHOD:PUBLISH
X-ORIGINAL-URL:https://vakaruvejai.com
X-WR-CALDESC:Vakarų Vėjai renginiai
REFRESH-INTERVAL;VALUE=DURATION:PT1H
X-Robots-Tag:noindex
X-PUBLISHED-TTL:PT1H
BEGIN:VTIMEZONE
TZID:America/Los_Angeles
BEGIN:DAYLIGHT
TZOFFSETFROM:-0800
TZOFFSETTO:-0700
TZNAME:PDT
DTSTART:20200308T100000
END:DAYLIGHT
BEGIN:STANDARD
TZOFFSETFROM:-0700
TZOFFSETTO:-0800
TZNAME:PST
DTSTART:20201101T090000
END:STANDARD
BEGIN:DAYLIGHT
TZOFFSETFROM:-0800
TZOFFSETTO:-0700
TZNAME:PDT
DTSTART:20210314T100000
END:DAYLIGHT
BEGIN:STANDARD
TZOFFSETFROM:-0700
TZOFFSETTO:-0800
TZNAME:PST
DTSTART:20211107T090000
END:STANDARD
BEGIN:DAYLIGHT
TZOFFSETFROM:-0800
TZOFFSETTO:-0700
TZNAME:PDT
DTSTART:20220313T100000
END:DAYLIGHT
BEGIN:STANDARD
TZOFFSETFROM:-0700
TZOFFSETTO:-0800
TZNAME:PST
DTSTART:20221106T090000
END:STANDARD
END:VTIMEZONE
BEGIN:VEVENT
DTSTART;TZID=America/Los_Angeles:20221015T180000
DTEND;TZID=America/Los_Angeles:20221016T000000
DTSTAMP:20260423T204233
CREATED:20220630T074700Z
LAST-MODIFIED:20220923T191147Z
UID:22041-1665856800-1665878400@vakaruvejai.com
SUMMARY:San Francisko Rudens Balius - 70 Metų Gimtadienis
DESCRIPTION:LT\nVALIO – GIMTADIENIS!\nLaukiamiausia metų šventė!!!\nŠis gimtadienis mūsų San Francisko lietuvių bendruomenei yra ne šiaip eilinis gimtadienis\, o dešimtmečio jubiliejus. Mes gyvuojame jau net 70 metų!\n  \nTa proga kviečiame jus visus smagiam\, gražiam\, nuotaikingam ir elgantiškam pasibuvimui visiems kartu.\n  \nVakaro metu pasidžiaugsime mūsų nuostabia bendruomene\, mėgausimės gardžia 3 patiekalų vakariene\, dalyvausime nuotaikingame aukcione\, šoksim trypsim su muzikantu ir dainininku Augiu Dickevičiumi iš Čikagos. Renginį ves žavingoji Justė Brazdzionis iš LA. Jūsų lauks ir daugiau smagių gimtadienio staigmenų.\n  \nIŠKILMINGA ŠVENTĖ VYKS:\nSpalio 15 d. 17 val.\nHyatt Centric Mountain View\n409 San Antonio Rd\, Mountain View\, CA 94040\nhttps://www.hyatt.com/…/hyatt-centric-mountain-view/sjcct\nDidelė aikštelė mašinų parkavimui.\nDėl apgyvendinimo dar deriname\, tad pranešime informaciją vėliau.\n  \nBILIETAI:\nKaina $120 – į kainą įskaičiuota 3 patiekalų vakarienė.\nPerkant nurodykite sukuo norėsite sedėti. Kiek pavyks – suderinsime. Prie stalo bus po 8 asmenis.\nTaip pat bus Singles stalas\, tad nurodykite\, jei norėsite prie jo sėsti.\nApmokėjimas:\nZelle\, naudojant info@sflithuanians.com.\nMokant PayPal – $123 su mokesčiais.\nNuo rugsėjo 27 d. kaina bus $150 ir nebebus galimybės pasirinkti patiekalų.\nBilietus pirkti čia:\nhttps://form.jotform.com/222505281726150\n  \nVAKARO APRANGA – šventinė ir iškilminga\nNuotaikai pagyvinti galite pasirinkti 1952-ųjų metų stilių.\n  \nAtvykite švęsti šio jubiliejaus\, nes šis gimtadienis yra kiekvieno mūsų.\nTik mūsų kiekvieno dėka ši bendruomenė gyvuoja tiek daug metų.\nRENGINIO APRAŠYMAS DAR BUS PILDOMAS\, TAD SEKITE INFORMACIJĄ\n___________________________________________________________________\nGIMTADIENIO DOVANOS IR AUKCIONAS\n DOVANOS  DOVANOS  DOVANOS \nO koks gi gimtadienis be jų?\n Priimame visas dovanas tiek daiktais\, tiek paslaugomis .\n Priklausomai nuo to kiek dovanų gausime\, dalį jų skirsime aukcionui\, o dalį – dovanoms.\nTaip pat prašome jūsų\, jei yra galimybė\, kreiptis į savo darbdavius dėl jų produkcijos ar paslaugų pateikimo aukcionui. Dėl konkrečių pateikimo sąlygų\, galima bus tartis atskirai kiekvienu atveju. Pagal poreikį taip pat galėsime pateikti prašymo raštą nuo bendruomenės.\n Būsime dėkingi ir už bet kokių idėjų pasidalinimą dėl galimų dovanų gavimo.\n Visais klausimais su mumis galite susisiekti info@sflithuanians.com arba 831-521-0078 (Vilma).\nAtsižvelgiant į tai\, kad per paskutinius metus viskas labai pabrango ir stengiantis padaryti renginio kainą „prieinamą” daugumai bendruomenės narių\, buvo nuspręsta dalį lėšų renginiui surinkti per aukcioną.\n\nEN\n\nFALL BALL 2022\n\n\nSaturday\, October 15\, 2022\n5:00 PM 11:30 PM\nHYATT CENTRIC MOUNTAIN VIEW (map)\n\n\n\n\n\n\n\nHURRAY! IT’S OUR BIRTHDAY!\nThe most anticipated event of the year is almost upon us! And this year it’s not just any Fall Ball: The Lithuanian American Community is celebrating its 70th Anniversary! Happy Birthday to us! \nWe invite all of our members and friends to come together and celebrate with us! It’s going to be an elegant affair: A cocktail hour\, followed by a formal three-course dinner\, live auction\, live music and dancing\, and some surprises thrown in between! \n\nWHEN :\nSaturday\, October 15th from 5pm until 11:30pm \nWHERE:\nHyatt Centric Mountain View / Cloud Ballroom\n409 San Antonio Rd\, Mountain View\, CA 94040\nhttps://www.hyatt.com/…/hyatt-centric-mountain-view/sjcct\nWe’ll have discounted rooms available for anyone who’d like to spend the night at the hotel. Details to come! \nTICKETS:\nTickets are $120 per person. Eight people per round table. Going with friends? Follow the link below and let us know if you’d like to sit with a few or even reserve an entire table! \nBuy your tickets here: https://form.jotform.com/222505281726150\nThe formal sit-down dinner will consist of an appetizer\, entree\, and dessert. Guests can choose one of the following: \nPan Seared Sustainable Salmon: Farm Fresh Seasonal Vegetables\, Fennel Slaw with Preserved Lemon\, Creamy Polenta\, Citrus Beurre Blanc \nSlow Braised Beef Short Rib: Chive Mashed Potatoes\, Grilled Asparagus\, Roasted Tomatoes\, Pinot Noir Demi-Glace \nFor those with special dietary needs\, there’s also a Vegetarian and Gluten-free option. \nMake sure to get your tickets now because\, as of September 27th\, the price will go up to $150 per person and there will be no more opportunity to select an entree; it’ll be chef’s choice. \n\nATTIRE/DRESS CODE – Formal/BlackTie\nDress to Impress! How often do we get a chance to get all dolled up anymore? We suggest something reminiscent of the 1950s\, but any elegant attire is fine. Typically\, women wear long gowns or cocktail dresses; men come in suits or blazers with slacks. Since this is a formal event\, we respectfully ask no jeans or sneakers. \nThanks to all our members! It’s because of you that we’ve lasted for 70 years. Here’s to 70 more! \nCHECK BACK HERE REGULARLY. WE’LL POST MORE DETAILS AS THEY BECOME AVAILABLE. \n\nBIRTHDAY GIFTS AND AUCTION: \nWe accept all types of donations\, whether they be financial or material. \nDepending on the types of donations we receive\, some will end up in the live auction\, while others will be handed out as prizes. \nWhy not inquire at your place of work for some items for the auction? If you have any questions about what would be appropriate\, please contact us at the number below. \nWe’re grateful for any and all assistance!
URL:https://vakaruvejai.com/renginys/san-francisko-rudens-balius/
LOCATION:Hyatt Centric Mountain View\, 409 San Antonio Rd\, Mountain View\, CA\, 94040
CATEGORIES:Lietuviški renginiai,San Franciskas
ATTACH;FMTTYPE=image/png:https://vakaruvejai.com/wp-content/uploads/2022/06/Screen-Shot-2022-09-23-at-12.11.22-PM.png
END:VEVENT
BEGIN:VEVENT
DTSTART;TZID=America/Los_Angeles:20200115T180000
DTEND;TZID=America/Los_Angeles:20200115T210000
DTSTAMP:20260423T204233
CREATED:20200114T032705Z
LAST-MODIFIED:20200114T033433Z
UID:10951-1579111200-1579122000@vakaruvejai.com
SUMMARY:Susitikimas su "Investuok Lietuvoje" komanda/Happy Hour with "Invest Lithuania"\, San Francisco
DESCRIPTION:LT: Nekantraujame pranešti apie susitikimą su „Investuok Lietuvoje” komandos nariais. Po darbų praleiskime kelias valandas jaukioje\, neformalioje aplinkoje ir pasidalinkime savo patirtimi\, diskutuodami apie verslo aplinką ir apskritai Lietuvos įvaizdį JAV. \nBe kita ko\, tai puiki galimybė susitikti su senais pažįstamais ir susirasti naujų. \nIki greito pasimatymo! \nEN: We’re excited to announce the upcoming informal meeting with the guests from the Invest Lithuania. Let’s spend few hours after work in a cozy\, informal environment\, and share our experience discussing about business environment and Lithuania’s image in US overall. \nIt’s a great opportunity to meet your old friends and make some new ones. \nHope to see you then!
URL:https://vakaruvejai.com/renginys/susitikimas-su-investuok-lietuvoje-komanda-happy-hour-with-invest-lithuania-san-francisco/
LOCATION:69 Bluxome St.\, San Francisco\, CA 94107\, 69 Bluxome St.\, San Francisco\, 94107\, Jungtinės Amerikos Valstijos
CATEGORIES:Lietuviški renginiai,San Franciskas
ATTACH;FMTTYPE=image/jpeg:https://vakaruvejai.com/wp-content/uploads/2020/01/Invest.jpg
END:VEVENT
END:VCALENDAR