BEGIN:VCALENDAR
VERSION:2.0
PRODID:-//Vakarų Vėjai - ECPv6.15.3//NONSGML v1.0//EN
CALSCALE:GREGORIAN
METHOD:PUBLISH
X-ORIGINAL-URL:https://vakaruvejai.com
X-WR-CALDESC:Vakarų Vėjai renginiai
REFRESH-INTERVAL;VALUE=DURATION:PT1H
X-Robots-Tag:noindex
X-PUBLISHED-TTL:PT1H
BEGIN:VTIMEZONE
TZID:America/Los_Angeles
BEGIN:DAYLIGHT
TZOFFSETFROM:-0800
TZOFFSETTO:-0700
TZNAME:PDT
DTSTART:20220313T100000
END:DAYLIGHT
BEGIN:STANDARD
TZOFFSETFROM:-0700
TZOFFSETTO:-0800
TZNAME:PST
DTSTART:20221106T090000
END:STANDARD
END:VTIMEZONE
BEGIN:VEVENT
DTSTART;TZID=America/Los_Angeles:20220201T010000
DTEND;TZID=America/Los_Angeles:20220201T020000
DTSTAMP:20260423T204120
CREATED:20220128T230239Z
LAST-MODIFIED:20220128T230239Z
UID:19811-1643677200-1643680800@vakaruvejai.com
SUMMARY:Užsienio lietuvių patirtys Lietuvos kariuomenėje\, Virtualus renginys
DESCRIPTION:„Užsienio lietuvių patirtys Lietuvos kariuomenėje” – šis Krašto apsaugos ministerijos\, Lietuvos kariuomenės atstovų susitikimas su šauktiniais\, atvykusiais tarnauti į LK iš užsienio\, inicijuojamas Seimo ir Pasaulio lietuvių bendruomenės komisijos pirmininkės (LR Seimo narė Dalia Asanavičiūtė) su tikslu dalinantis gerosiomis patirtimis bei skatinti jaunuolių pilietiškumą.\n\n \n\nNuotolinis renginys gyvai įvyks vasario 1 d. 1 val. nakties Los Andželo laiku. Jo įrašą galėsite Jums patogiu metu peržiūrėti „Atviras Seimas” Youtube platformoje https://www.youtube.com/c/AtvirasSeimas/videos\n\n \n\nKviečiame dalyvauti ir domėtis!
URL:https://vakaruvejai.com/renginys/uzsienio-lietuviu-patirtys-lietuvos-kariuomeneje-virtualus-renginys/
LOCATION:Virtualus renginys
CATEGORIES:Arizona,Hawaii,Lietuviški renginiai,Los Andželas,Nevada,Portlandas,San Diego,San Franciskas,Seattle,Virtualus renginys
ATTACH;FMTTYPE=image/jpeg:https://vakaruvejai.com/wp-content/uploads/2022/01/272922805_302931005210218_2309878731164247497_n.jpg
END:VEVENT
END:VCALENDAR