BEGIN:VCALENDAR
VERSION:2.0
PRODID:-//Vakarų Vėjai - ECPv6.15.3//NONSGML v1.0//EN
CALSCALE:GREGORIAN
METHOD:PUBLISH
X-WR-CALNAME:Vakarų Vėjai
X-ORIGINAL-URL:https://vakaruvejai.com
X-WR-CALDESC:Vakarų Vėjai renginiai
REFRESH-INTERVAL;VALUE=DURATION:PT1H
X-Robots-Tag:noindex
X-PUBLISHED-TTL:PT1H
BEGIN:VTIMEZONE
TZID:America/Los_Angeles
BEGIN:DAYLIGHT
TZOFFSETFROM:-0800
TZOFFSETTO:-0700
TZNAME:PDT
DTSTART:20200308T100000
END:DAYLIGHT
BEGIN:STANDARD
TZOFFSETFROM:-0700
TZOFFSETTO:-0800
TZNAME:PST
DTSTART:20201101T090000
END:STANDARD
BEGIN:DAYLIGHT
TZOFFSETFROM:-0800
TZOFFSETTO:-0700
TZNAME:PDT
DTSTART:20210314T100000
END:DAYLIGHT
BEGIN:STANDARD
TZOFFSETFROM:-0700
TZOFFSETTO:-0800
TZNAME:PST
DTSTART:20211107T090000
END:STANDARD
BEGIN:DAYLIGHT
TZOFFSETFROM:-0800
TZOFFSETTO:-0700
TZNAME:PDT
DTSTART:20220313T100000
END:DAYLIGHT
BEGIN:STANDARD
TZOFFSETFROM:-0700
TZOFFSETTO:-0800
TZNAME:PST
DTSTART:20221106T090000
END:STANDARD
BEGIN:DAYLIGHT
TZOFFSETFROM:-0800
TZOFFSETTO:-0700
TZNAME:PDT
DTSTART:20230312T100000
END:DAYLIGHT
BEGIN:STANDARD
TZOFFSETFROM:-0700
TZOFFSETTO:-0800
TZNAME:PST
DTSTART:20231105T090000
END:STANDARD
BEGIN:DAYLIGHT
TZOFFSETFROM:-0800
TZOFFSETTO:-0700
TZNAME:PDT
DTSTART:20240310T100000
END:DAYLIGHT
BEGIN:STANDARD
TZOFFSETFROM:-0700
TZOFFSETTO:-0800
TZNAME:PST
DTSTART:20241103T090000
END:STANDARD
BEGIN:DAYLIGHT
TZOFFSETFROM:-0800
TZOFFSETTO:-0700
TZNAME:PDT
DTSTART:20250309T100000
END:DAYLIGHT
BEGIN:STANDARD
TZOFFSETFROM:-0700
TZOFFSETTO:-0800
TZNAME:PST
DTSTART:20251102T090000
END:STANDARD
BEGIN:DAYLIGHT
TZOFFSETFROM:-0800
TZOFFSETTO:-0700
TZNAME:PDT
DTSTART:20260308T100000
END:DAYLIGHT
BEGIN:STANDARD
TZOFFSETFROM:-0700
TZOFFSETTO:-0800
TZNAME:PST
DTSTART:20261101T090000
END:STANDARD
END:VTIMEZONE
BEGIN:VEVENT
DTSTART;TZID=America/Los_Angeles:20260111T140000
DTEND;TZID=America/Los_Angeles:20260111T160000
DTSTAMP:20260423T143910
CREATED:20260102T060953Z
LAST-MODIFIED:20260102T061551Z
UID:30224-1768140000-1768147200@vakaruvejai.com
SUMMARY:Sausio 13-osios solidarumo žygis / January 13th solidarity walk\, Sietlas\, WA
DESCRIPTION:Kvie2iame visus prisijungti.
URL:https://vakaruvejai.com/renginys/sausio-13-osios-solidarumo-zygis-january-13th-solidarity-walk-sietlas-wa/
LOCATION:Green Lake\, Seattle\, WA
CATEGORIES:Lietuviški renginiai,Seattle
ATTACH;FMTTYPE=image/jpeg:https://vakaruvejai.com/wp-content/uploads/2026/01/amfrozeviciute-pag-10-sausio-13-minejimas.jpg
END:VEVENT
BEGIN:VEVENT
DTSTART;TZID=America/Los_Angeles:20260111T080000
DTEND;TZID=America/Los_Angeles:20260111T100000
DTSTAMP:20260423T143910
CREATED:20251220T034900Z
LAST-MODIFIED:20251220T034900Z
UID:30159-1768118400-1768125600@vakaruvejai.com
SUMMARY:Tarptautinis pagarbos bėgimas "Gyvybės ir mirties keliu"\, Santa Monika
DESCRIPTION:KVIETIMAS JUNGTIS Į TRADICINĮ PAGARBOS BĖGIMĄ\nSausio 13-osios – Laisvės gynėjų dienos – aukoms atminti \nKviečiame visus lietuvius ir Lietuvos draugus jungtis į tradicinį Pagarbos bėgimą\, skirtą pagerbti Sausio 13-osios aukas. \nŠiemet minime 35-ąsias 1991 metų sausio įvykių metines\, kai beginkliai žmonės stojo ginti Lietuvos laisvės\, demokratijos ir nepriklausomybės. Šis bėgimas – simbolinis atminties ir vienybės gestas\, jungiantis mus su Lietuva ir jos istorija. \nRenginys atviras visiems – bėgikams\, ėjikams\, šeimoms ir vaikams. \nData: 2026 m. sausio 11 d.\, sekmadienis\nRinkimasis: nuo 8:00 val.\nStartas: 8:30 val. \nSusitikimo vieta / Start & Finish:\nCrescent Bay Park parking lot\n2000 Ocean Ave\, Santa Monica\, CA 90405 \nBėgimas: 3 mylios / 5 km (iki Jonathan Club ir atgal)\nĖjimas: 1 mylia / 1\,6 km (iki Santa Monica Pier ir atgal) \nUžsiregistravusiems dalyviams\, pasiekusiems finišą\, bus įteikti atminimo medaliai. \nRegistracija: https://forms.gle/ePFwR4xGNpC1NbMY7 \n⚠️ Svarbi informacija\nDalyvavimas yra savanoriškas. Kiekvienas dalyvis prisiima asmeninę atsakomybę už savo sveikatą. Renginio organizatoriai neatsako už galimus sveikatos sutrikimus renginio metu. \nOrganizatorius / Organizer: ………….. \nBėkime už laisvę\, atmintį ir Lietuvą.\nNepamirškime. Prisiminkime. Pagerbkime. \nPapildoma informacija\nTą pačią dieną\, 13:00 val.\, vyks dokumentinio filmo apie Lietuvos Respublikos Prezidentą Valdą Adamkų peržiūra. \n\nINVITATION TO THE TRADITIONAL RUN OF RESPECT \nIn Memory of the Victims of January 13 – Defenders of Freedom Day \nWe invite Lithuanians and friends of Lithuania to join the Traditional Run of Respect\, held in memory of the victims of January 13\, 1991. \nThis year marks the 35th anniversary of the historic January events\, when unarmed civilians stood in defense of Lithuania’s freedom\, democracy\, and independence. The Run of Respect is a symbolic gesture of remembrance and unity\, connecting us with Lithuania and its history. \nThe event is open to everyone – runners\, walkers\, families\, and children. \nDate: Sanday\, January 11\, 2026\nMeet-up: from 8:00 AM \nRun/Walk Start: 8:30 AM \nMeeting point / Start & Finish:\nCrescent Bay Park parking lot\n2000 Ocean Ave\, Santa Monica\, CA 90405 \nRun: 3 miles / 5 km (to the Jonathan Club and back)\nWalk: 1 mile / 1.6 km (to the Santa Monica Pier and back) \nCommemorative medals will be awarded to registered participants who finish the course. \nRegistration : https://forms.gle/ePFwR4xGNpC1NbMY7 \n⚠️ Important notice\nParticipation in the event is voluntary. Each participant is responsible for assessing their own physical condition and should take part only if they are healthy and able to complete the chosen distance. Each participant assumes personal responsibility for their own health. The event organizers are not responsible for any health-related issues or incidents that may occur during the event. \nLet us run in remembrance\, respect\, and solidarity with Lithuania.\nWe remember. We honor. \nAdditional information\nOn the same day at 1:00 PM\, there will be a screening of a documentary film about the President of Lithuania\, Valdas Adamkus.
URL:https://vakaruvejai.com/renginys/tarptautinis-pagarbos-begimas-gyvybes-ir-mirties-keliu-santa-monika/
LOCATION:Crescent Bay Park parking lot\, 2000 Ocean Ave\, Santa Monica\, CA\, 90405
CATEGORIES:Lietuviški renginiai,Los Andželas
ATTACH;FMTTYPE=image/png:https://vakaruvejai.com/wp-content/uploads/2025/12/Sausio-13-Event.png
END:VEVENT
BEGIN:VEVENT
DTSTART;TZID=America/Los_Angeles:20240113T190000
DTEND;TZID=America/Los_Angeles:20240113T210000
DTSTAMP:20260423T143910
CREATED:20240104T180104Z
LAST-MODIFIED:20240104T180104Z
UID:25752-1705172400-1705179600@vakaruvejai.com
SUMMARY:JAV Lietuvių Bendruomenės Vakarų apygardos lyderystės seminaras\, Los Andželas
DESCRIPTION:
URL:https://vakaruvejai.com/renginys/jav-lietuviu-bendruomenes-vakaru-apygardos-lyderystes-seminaras-los-andzelas/
LOCATION:Lietuvių Tautiniai Namai\, 3359 Glendale Blvd.\, Lis Angeles\, CA\, 90039
CATEGORIES:Lietuviški renginiai,Los Andželas
ATTACH;FMTTYPE=image/jpeg:https://vakaruvejai.com/wp-content/uploads/2024/01/2F7A7296-17B5-428D-8A2C-2C19FF7B8747-scaled.jpeg
END:VEVENT
BEGIN:VEVENT
DTSTART;TZID=America/Los_Angeles:20240113T140000
DTEND;TZID=America/Los_Angeles:20240113T160000
DTSTAMP:20260423T143910
CREATED:20240113T065826Z
LAST-MODIFIED:20240113T065826Z
UID:25815-1705154400-1705161600@vakaruvejai.com
SUMMARY:Defenders of Freedom Commemorative Walk\, Sietlas\, WA
DESCRIPTION:Prisijunkite prie mūsų solidarumo pasivaikščiojimo aplink Sietlo Greenlake ežerą\, pagerbdami laisvės gynėjus\, žuvusius per sovietų agresijas Lietuvoje 1991 m. sausį. Atsineškite savo Lietuvos vėliavas ir dėvėkite patriotines spalvas. Susitikime „Aqua“ teatre pietrytiniame parko kampe. Apie tuos 1991 metų sausio mėnesio įvykius galite paskaityti ČIA: https://en.m.wikipedia.org/wiki/January_Events_(Lithuania)\n~~~~~~~~~~~~~~~~~~~~~~~~\nJoin us for a casual walk of solidarity around Seattle’s Green Lake as we honor freedom defenders who lost their lives during Soviet aggressions in Lithuania in January 1991. Bring your Lithuanian flags and wear patriotic colors. Dress for the weather. Meet at the Aqua Theater in the southeast corner of the park. Meet at the Aqua Theater in the southeast corner of the park. You can read about those January 1991 events: https://en.m.wikipedia.org/wiki/January_Events_(Lithuania)
URL:https://vakaruvejai.com/renginys/defenders-of-freedom-commemorative-walk-sietlas-wa/
LOCATION:Green Lake Aqua Theater\, 5900 W Green Lake Way N\, Seattle\, WA\, 98103
CATEGORIES:Lietuviški renginiai,Seattle
ATTACH;FMTTYPE=image/png:https://vakaruvejai.com/wp-content/uploads/2024/01/Screen-Shot-2024-01-12-at-10.50.27-PM.png
END:VEVENT
BEGIN:VEVENT
DTSTART;TZID=America/Los_Angeles:20230107T140000
DTEND;TZID=America/Los_Angeles:20230107T160000
DTSTAMP:20260423T143910
CREATED:20221230T141947Z
LAST-MODIFIED:20221230T141947Z
UID:23297-1673100000-1673107200@vakaruvejai.com
SUMMARY:Walk of solidarity to honor freedom defenders\, Seattle\, WA
DESCRIPTION:On Saturday\, 2023.01.07. at  2pm\, join us for a casual walk of solidarity around Seattle’s Green Lake as we honor freedom defenders who lost their lives during Soviet aggressions in Lithuania in January 1991. Bring your Lithuanian flags and wear patriotic colors. Dress for the weather.  Meet at the Aqua Theater in the southeast corner of the park. You can read about those January 1991 events here: https://en.m.wikipedia.org/wiki/January_Events_(Lithuania)
URL:https://vakaruvejai.com/renginys/walk-of-solidarity-to-honor-freedom-defenders-seattle-wa/
LOCATION:Green Lake Aqua Theater\, 5900 W Green Lake Way N\, Seattle\, WA\, 98103
CATEGORIES:Lietuviški renginiai,Seattle
ATTACH;FMTTYPE=image/png:https://vakaruvejai.com/wp-content/uploads/2022/12/Screen-Shot-2022-12-30-at-6.18.41-AM.png
END:VEVENT
BEGIN:VEVENT
DTSTART;TZID=America/Los_Angeles:20220109T130000
DTEND;TZID=America/Los_Angeles:20220109T150000
DTSTAMP:20260423T143910
CREATED:20211217T171545Z
LAST-MODIFIED:20211217T171545Z
UID:19094-1641733200-1641740400@vakaruvejai.com
SUMMARY:Green Lake Walk to Commemorate Lithuanian Freedom Defenders\, Seattle
DESCRIPTION:LT \nPrisijunkite prie mūsų organizuojamo solidarumo pasivaikščiojimo aplink Greenlake ežerą\, pagerbdami laisvės gynėjus\, žuvusius per sovietų agresijas Lietuvoje 1991 m. sausį. Atsineškite savo Lietuvos vėliavas ir dėvėkite patriotines spalvas.\nSusitikime „Aqua“ teatre pietrytiniame parko kampe.\nApie tuos 1991 metų sausio mėnesio įvykius galite paskaityti čia: https://en.m.wikipedia.org/wiki/January_Events_(Lietuva) \nEN \nJoin us for a casual walk of solidarity around Green Lake as we honor freedom defenders who lost their lives during Soviet aggressions in Lithuania in January 1991. Bring your Lithuanian flags and wear patriotic colors.\nMeet at the Aqua Theater in the southeast corner of the park.\nYou can read about those January 1991 events here: https://en.m.wikipedia.org/wiki/January_Events_(Lithuania)
URL:https://vakaruvejai.com/renginys/green-lake-walk-to-commemorate-lithuanian-freedom-defenders-seattle-2/
LOCATION:Green Lake Aqua Theater\, 5900 W Green Lake Way N\, Seattle\, WA\, 98103
CATEGORIES:Lietuviški renginiai,Seattle
ATTACH;FMTTYPE=image/jpeg:https://vakaruvejai.com/wp-content/uploads/2021/12/268846247_4825998820753929_482568795188886296_n.jpg
ORGANIZER;CN="Seattle Lithuanian Community/Seattle Lietuvi%C5%B3 Bendruomen%C4%97":MAILTO:seattlelb.president@gmail.com
END:VEVENT
BEGIN:VEVENT
DTSTART;TZID=America/Los_Angeles:20220109T120000
DTEND;TZID=America/Los_Angeles:20220109T150000
DTSTAMP:20260423T143910
CREATED:20211231T203324Z
LAST-MODIFIED:20220105T224731Z
UID:19344-1641729600-1641740400@vakaruvejai.com
SUMMARY:„Neužmirštuolių pieva“ Laisvės gynėjų atminimui vėl sužydės Santa Monikoje
DESCRIPTION://LT//\nSausio 13-ąją Lietuvoje ir visame pasaulyje minima Lietuvos Laisvės gynėjų diena. Šią svarbią dieną kviečiame paminėti kartu su Los Andželo ir kitų miestų lietuviais bei Lietuvos draugais ir kartu pasodinti “Neužmirštuolių pievą”. \n\nAteikite\, užrašykite Sausio 13-osios atsiminimą\, palinkėjimą Laisvės gynėjams ar Lietuvai\, įsiamžinkite “Neužmirštuolių pievoje” bei likite prie arbatos pabendrauti. \nKada? Sausio 9 d.\, sekmadienį\, nuo vidurdienio iki 3 val. popiet. \nKur? Tarp gelbėtojų bokštelių prieš Annenberg Community Beach House\, Santa Monikoje. \n  \n \n//EN//\nJanuary 13th is the Day of the Defenders of Freedom (Laisvės Gynėjų Diena) in Lithuania. To commemorate this special occasion you are invited to plant a Forget-Me-Not Meadow together with other fellow Lithuanians and Lithuania’s friends. \nJoin us to write down a wish for Lithuania\, take a photo in the Forget-Me-Not Meadow and stay for a cup of tea. \nWhen? January 9th\, Sunday\, from noon to 3 PM. \nWhere? By the ocean\, in front of Annenberg Community Beach House\, Santa Monica. \n  \n 
URL:https://vakaruvejai.com/renginys/neuzmirstuoliu-pieva-laisves-gyneju-atminimui-vel-suzydes-santa-monikoje/
LOCATION:Santa Monica Beach
CATEGORIES:Lietuviški renginiai,Los Andželas
ATTACH;FMTTYPE=image/jpeg:https://vakaruvejai.com/wp-content/uploads/2021/12/Neuzmirstuoliu-pieva-1-scaled.jpg
END:VEVENT
BEGIN:VEVENT
DTSTART;VALUE=DATE:20210110
DTEND;VALUE=DATE:20210111
DTSTAMP:20260423T143910
CREATED:20201231T034434Z
LAST-MODIFIED:20201231T034434Z
UID:14463-1610236800-1610323199@vakaruvejai.com
SUMMARY:30-osios Laisvės gynėjų atminimo metinės
DESCRIPTION:
URL:https://vakaruvejai.com/renginys/30-osios-laisves-gyneju-atminimo-metines/
LOCATION:Virtualus renginys
CATEGORIES:Arizona,Hawaii,Lietuviški renginiai,Los Andželas,Nevada,Portlandas,San Diego,San Franciskas,Seattle,Virtualus renginys
ATTACH;FMTTYPE=image/jpeg:https://vakaruvejai.com/wp-content/uploads/2020/12/133726945_4853278108080788_3107150106983120769_o.jpg
ORGANIZER;CN="JAV LB Kra%C5%A1to Valdyba":MAILTO:informacija@javlb.org
END:VEVENT
BEGIN:VEVENT
DTSTART;VALUE=DATE:20210109
DTEND;VALUE=DATE:20210111
DTSTAMP:20260423T143910
CREATED:20210110T071504Z
LAST-MODIFIED:20210110T071504Z
UID:14497-1610150400-1610323199@vakaruvejai.com
SUMMARY:Laisvės gynėjų dienos 30-mečio minėjimas\, Seattle\, WA
DESCRIPTION:LT \nDalyvaukite prisiminimų pokalbyj minint Laisvės Gynėjų Dienos 30-metį – šeštadienį\, sausio 9\, 2021\, 19 val. virtualiai per zoom.  Minėjime išgirsite mūsų bendruomenės narių prisiminimus ir pasakojimus apie 1991 metų sausio mėnesio įvykius Lietuvoje ir Amerikoje. \nŽemiau yra zoom nuoroda:\nhttps://spu.zoom.us/j/91085570229 \nO kitą dieną\, sekmadienį\, sausio 10 d. 13 val\, kaip ir kiekvienais metais žygiuosim aplink Green Lake (Žaliąjį ežerą). Daugiau informacijos apie tai rasite žemiau angliškai. \nŽiūrėkit Antano Puliko dokumentinį filmą  „Night Over Lithuania”  ČIA.\nPaskaitykite Rasos Tautvydaitės prisiminimus ČIA.\nŽilvinas Zakarevicius pasiūlė paskaityti apie Šv. Jokūbo ligoninę ČIA ir ČIA. \n\nEN \nJoin us this week-end to commemorate the 30th anniversary of the Day of Freedom Defenders on Saturday\, January 9th\, 2021 at 7pm.  During the evening\, witnesses and Freedom defenders from our community will share their memories of the January events of 1991. \nHere is the link to join: https://spu.zoom.us/j/91085570229 \nAnd the next day\, Sunday\, Jan. 10\, at 1pm\, as each year\, we will walk around Green Lake.\nWhen: Sunday\, January 10\, 2021\nWhere: Green Lake\, Seattle\, park in the lot at the South end of lake and follow signs to gathering place near restrooms and boat launch\nWhat time: 1PM\nWhat to wear: Masks (required)\, comfortable clothes for walking\, anticipate rain.\nBring: Small Lithuanian flags\, or any Lithuanian items to display \nLearn more about the events of January 13th\, 1991 by watching community member Antanas Pulikas’s documentary „Night Over Lithuania” HERE.\nRead Rasa Tautvydas’ first-hand account HERE.  (used with permission)\nZilvinas Zakarevicius suggests these articles about St. Jacob’s Hospital in Vilnius\, where the wounded were treated\, HERE and HERE.  Both of these articles are in Lithuanian\, and are extracted from publicly available sources at http://www.spauda.org/dirva/archive/n1992/1992-09-17-DIRVA.pdf and http://www.spauda.org/darbininkas/archive/1992/1992-10-09-DARBININKAS.pdf.
URL:https://vakaruvejai.com/renginys/laisves-gyneju-dienos-30-mecio-minejimas-seattle-wa/
LOCATION:Seattle
CATEGORIES:Seattle,Virtualus renginys
ATTACH;FMTTYPE=image/jpeg:https://vakaruvejai.com/wp-content/uploads/2021/01/7C6FFE13-2A0F-42E0-AA13-C145E7EE153B.jpeg
END:VEVENT
BEGIN:VEVENT
DTSTART;TZID=America/Los_Angeles:20200112T130000
DTEND;TZID=America/Los_Angeles:20200112T150000
DTSTAMP:20260423T143910
CREATED:20200107T073228Z
LAST-MODIFIED:20200107T074841Z
UID:10840-1578834000-1578841200@vakaruvejai.com
SUMMARY:Green Lake walk to commemorate Lithuanian freedom defenders\, Seattle
DESCRIPTION:Join us for a casual walk of solidarity around Green Lake as we honor freedom defenders who lost their lives during Soviet aggressions in Lithuania in January 1991.  Bring your Lithuanian flags and wear patriotic colors.  This is deliberately a low key event this year to enjoy one another’s company.
URL:https://vakaruvejai.com/renginys/green-lake-walk-to-commemorate-lithuanian-freedom-defenders-seattle/
LOCATION:Green Lake Aqua Theater\, Green Lake Park\, Seattle\, Washington\, 98103
CATEGORIES:Seattle
ATTACH;FMTTYPE=image/jpeg:https://vakaruvejai.com/wp-content/uploads/2020/01/Seattle.jpg
END:VEVENT
END:VCALENDAR