BEGIN:VCALENDAR
VERSION:2.0
PRODID:-//Vakarų Vėjai - ECPv6.15.3//NONSGML v1.0//EN
CALSCALE:GREGORIAN
METHOD:PUBLISH
X-ORIGINAL-URL:https://vakaruvejai.com
X-WR-CALDESC:Vakarų Vėjai renginiai
REFRESH-INTERVAL;VALUE=DURATION:PT1H
X-Robots-Tag:noindex
X-PUBLISHED-TTL:PT1H
BEGIN:VTIMEZONE
TZID:America/Los_Angeles
BEGIN:DAYLIGHT
TZOFFSETFROM:-0800
TZOFFSETTO:-0700
TZNAME:PDT
DTSTART:20240310T100000
END:DAYLIGHT
BEGIN:STANDARD
TZOFFSETFROM:-0700
TZOFFSETTO:-0800
TZNAME:PST
DTSTART:20241103T090000
END:STANDARD
END:VTIMEZONE
BEGIN:VEVENT
DTSTART;TZID=America/Los_Angeles:20240602T150000
DTEND;TZID=America/Los_Angeles:20240602T170000
DTSTAMP:20260423T162902
CREATED:20240601T042417Z
LAST-MODIFIED:20240601T084338Z
UID:26965-1717340400-1717347600@vakaruvejai.com
SUMMARY:"Northern Harmony: Choirs of the Baltic"\, Sietlas\, WA
DESCRIPTION:LT \nChoras „Vakarai“ kviečia į Baltijos šalių muzikos koncertą\, kurį atliks Sietlo lietuvių\, latvių ir estų bendruomenių chorai bei jų draugai. Ateikite paremti tuos\, kurie šią vasarą vyksta į LT 100-mečio Dainų šventę. \nEN \nVakarai choir invites you to a concert of Baltic music sung by choirs from Seattle Lithuanian\, Latvian\, and Estonian communities\, and their collaborating friends.  Let’s turn out to support those headed to LT’s 100th anniversary Dainų Šventė this summer.
URL:https://vakaruvejai.com/renginys/northern-harmony-choirs-of-the-baltic-seattle-wa/
LOCATION:Latvian Hall-Seattle\, 11710 - 3rd Ave NE\, Seattle\, WA\, 98125
CATEGORIES:Seattle
ATTACH;FMTTYPE=image/png:https://vakaruvejai.com/wp-content/uploads/2024/05/66675b13-d06e-6292-e6a9-d14fdafaa66f.png
ORGANIZER;CN="Seattle Lithuanian Community/Seattle Lietuvi%C5%B3 Bendruomen%C4%97":MAILTO:seattlelb.president@gmail.com
END:VEVENT
END:VCALENDAR