BEGIN:VCALENDAR
VERSION:2.0
PRODID:-//Vakarų Vėjai - ECPv6.15.3//NONSGML v1.0//EN
CALSCALE:GREGORIAN
METHOD:PUBLISH
X-WR-CALNAME:Vakarų Vėjai
X-ORIGINAL-URL:https://vakaruvejai.com
X-WR-CALDESC:Vakarų Vėjai renginiai
REFRESH-INTERVAL;VALUE=DURATION:PT1H
X-Robots-Tag:noindex
X-PUBLISHED-TTL:PT1H
BEGIN:VTIMEZONE
TZID:America/Los_Angeles
BEGIN:DAYLIGHT
TZOFFSETFROM:-0800
TZOFFSETTO:-0700
TZNAME:PDT
DTSTART:20230312T100000
END:DAYLIGHT
BEGIN:STANDARD
TZOFFSETFROM:-0700
TZOFFSETTO:-0800
TZNAME:PST
DTSTART:20231105T090000
END:STANDARD
BEGIN:DAYLIGHT
TZOFFSETFROM:-0800
TZOFFSETTO:-0700
TZNAME:PDT
DTSTART:20240310T100000
END:DAYLIGHT
BEGIN:STANDARD
TZOFFSETFROM:-0700
TZOFFSETTO:-0800
TZNAME:PST
DTSTART:20241103T090000
END:STANDARD
BEGIN:DAYLIGHT
TZOFFSETFROM:-0800
TZOFFSETTO:-0700
TZNAME:PDT
DTSTART:20250309T100000
END:DAYLIGHT
BEGIN:STANDARD
TZOFFSETFROM:-0700
TZOFFSETTO:-0800
TZNAME:PST
DTSTART:20251102T090000
END:STANDARD
END:VTIMEZONE
BEGIN:VEVENT
DTSTART;TZID=America/Los_Angeles:20250201T180000
DTEND;TZID=America/Los_Angeles:20250201T200000
DTSTAMP:20260423T145845
CREATED:20250201T053252Z
LAST-MODIFIED:20250201T053252Z
UID:28302-1738432800-1738440000@vakaruvejai.com
SUMMARY:Simona Smirnova: kanklių magija | Magic of kanklės @ Red Lion Tavern\, Los Andželas
DESCRIPTION:LT\n\nPirmą vasario savaitgalį kviečiame susiburti bei šeštadienio vakarą praleisti klausant užburiančios kanklių muzikos\, atliekamos gerai žinomos lietuvių kompozitorės\, kanklininkės ir vokalistės Simonos Smirnovos.\n\n: šeštadienis\, vasario 1 d. : durys atsidaro – 18:00 val.\, koncerto pradžia – 19:00 val.*: Raudonas liūtas (2366 Glendale Blvd\, Los Angeles\, CA 90039): bilieto kaina asmeniui – $20. Įėjimas vaikams iki 8 metų – nemokamas. Bilietus įsigyti galite Eventbrite. Vietų skaičius ribotas.\nNepraleiskite šio ypatingo vakaro ir pajuskite lietuviškos muzikos magiją\, kurią pristato viena iš kūrybingiausių ir aistringiausių lietuvių atlikėjų!\n*Visus norinčius pabendrauti prieš koncertą\, planuojančius vakarieniauti\, užsisakyti maisto ir/ar gėrimų kviečiame atvykti 18:00 val.\n\nApie atlikėją\nSimona\, gimusi ir užaugusi Lietuvoje\, jau 12 metų gyvena Niujorke. Šią muzikalią asmenybę drąsiai galima vadinti kanklių ambasadore pasaulyje. Simona keliauja ir pristato mūsų nacionalinį instrumentą džiazo klubuose\, bendruomenių renginiuose bei įvairiuose festivaliuose visame pasaulyje.\nSimona yra baigusi džiazo vokalo bakalaurą Lietuvos muzikos ir teatro akademijoje ir kompozicijos specialybę Berklee College of Music\, Bostone (Masačiusetso valstija).\nIšleidusi keturis savo kūrybos muzikos albumus bei kanklių natų knygą „Kanklės in New York”\, Simona prieš pusmetį išleido savo naujausią projektą: penkių spalvotų kanklių liniją\, platinančią kanklių grojimą tarptautinėje bendruomenėje.\n\nEN \n\nSpend the first weekend of February immersing yourself in the mesmerizing sounds of the kanklės (Lithuanian stringed instrument). On Saturday evening\, we invite you to enjoy a captivating performance by the renowned Lithuanian composer\, kanklės virtuoso\, and vocalist Simona Smirnova.\n\n: Saturday\, February 1: Doors open at 6:00 PM | Concert begins at 7:00 PM*: Red Lion Tavern (2366 Glendale Blvd\, Los Angeles\, CA 90039): General admission ticket – $20. Entrance for children under the age of 8 is free. Ticket availability is limited. Tickets are available for purchase on Eventbrite.\nJoin us for this special evening and witness the magic of Lithuanian music as presented by one of its most passionate and creative performers. Don’t miss it!\n* We warmly invite everyone who wishes to socialize before the concert\, enjoy dinner\, or order food and drinks to arrive at 6:00 PM.\n\nAbout the Artist\nBorn and raised in Lithuania\, Simona Smirnova has spent the past 12 years living in New York City. Known as an ambassador of the kanklės\, Simona travels the world introducing this traditional Lithuanian instrument to audiences in jazz clubs\, communities\, and festivals.\nSimona holds a bachelor’s degree in jazz vocals from the Lithuanian Academy of Music and Theatre and a degree in composition from Berklee College of Music in Boston\, Massachusetts.\nWith four self-released albums and a kanklės sheet music book titled Kanklės in New York\, Simona continues to innovate and expand the presence of this unique instrument. Most recently\, she launched a new project—a line of five colored kanklės—designed to make the instrument more accessible to an international community.
URL:https://vakaruvejai.com/renginys/simona-smirnova-kankliu-magija-magic-of-kankles-red-lion-tavern-los-andzelas/
LOCATION:Red Lion Tavern\, 2366 Glendale Blvd.\, Los Angeles\, CA\, 90039
CATEGORIES:Lietuviški renginiai,Los Andželas
ATTACH;FMTTYPE=image/jpeg:https://vakaruvejai.com/wp-content/uploads/2025/01/474059337_921894566817941_4636764272961550299_n.jpeg
END:VEVENT
BEGIN:VEVENT
DTSTART;TZID=America/Los_Angeles:20230311T160000
DTEND;TZID=America/Los_Angeles:20230311T190000
DTSTAMP:20260423T145845
CREATED:20230211T000318Z
LAST-MODIFIED:20230211T000318Z
UID:23740-1678550400-1678561200@vakaruvejai.com
SUMMARY:KANKLĖS - Simonos Smirnovos koncertas švenčiant Kovo 11-ąją\, San Franciskas
DESCRIPTION:KVIEČIAME visą San Francisko Lietuvių bendruomenę švęsti Lietuvos Nepriklausomybės atkūrimo dieną kartu su nuostabia kanklininke – kanklių ambasadore pasaulyje\, kompozitore ir vokaliste SIMONA SMIRNOVA.\nProgramoje ne tik išgirsime Simonos atliekamus kūrinius su kanklėmis šiuolaikiniu džiazo rakursu\, bet taip pat sužinosime kanklių istoriją bei turėsime galimybę įsigyti autorės išleistą modernių kūrinių koncertinėms kanklėms rinkinį „Kanklės in New York”.\nDėkojame JAV Lietuvių bendruomenei ir Lietuvių Fondui už galimybę pasikviesti Simoną į mūsų šventę.\nŠventė vyks:\nKADA? Kovo 11 d.\, šeštadienį\, nuo 4 pm.\nKUR? Broadway Grill restorane\, 1400 Broadway\, Burlingame\, CA.\nKAIP rezervuoti vietas? Skambinti į restoraną tel. (650) 393-5897 arba www.bwgrill.com
URL:https://vakaruvejai.com/renginys/kankles-simonos-smirnovos-koncertas-svenciant-kovo-11-aja-san-franciskas/
LOCATION:Broadway Grill Restoranas\, 1400 Broadway\, Burlingame\, CA\, 94010
CATEGORIES:Lietuviški renginiai,San Franciskas
ATTACH;FMTTYPE=image/jpeg:https://vakaruvejai.com/wp-content/uploads/2023/02/328099370_1211534203089968_650126609730759674_n.jpeg
END:VEVENT
END:VCALENDAR