BEGIN:VCALENDAR
VERSION:2.0
PRODID:-//Vakarų Vėjai - ECPv6.15.3//NONSGML v1.0//EN
CALSCALE:GREGORIAN
METHOD:PUBLISH
X-ORIGINAL-URL:https://vakaruvejai.com
X-WR-CALDESC:Vakarų Vėjai renginiai
REFRESH-INTERVAL;VALUE=DURATION:PT1H
X-Robots-Tag:noindex
X-PUBLISHED-TTL:PT1H
BEGIN:VTIMEZONE
TZID:America/Los_Angeles
BEGIN:DAYLIGHT
TZOFFSETFROM:-0800
TZOFFSETTO:-0700
TZNAME:PDT
DTSTART:20240310T100000
END:DAYLIGHT
BEGIN:STANDARD
TZOFFSETFROM:-0700
TZOFFSETTO:-0800
TZNAME:PST
DTSTART:20241103T090000
END:STANDARD
BEGIN:DAYLIGHT
TZOFFSETFROM:-0800
TZOFFSETTO:-0700
TZNAME:PDT
DTSTART:20250309T100000
END:DAYLIGHT
BEGIN:STANDARD
TZOFFSETFROM:-0700
TZOFFSETTO:-0800
TZNAME:PST
DTSTART:20251102T090000
END:STANDARD
BEGIN:DAYLIGHT
TZOFFSETFROM:-0800
TZOFFSETTO:-0700
TZNAME:PDT
DTSTART:20260308T100000
END:DAYLIGHT
BEGIN:STANDARD
TZOFFSETFROM:-0700
TZOFFSETTO:-0800
TZNAME:PST
DTSTART:20261101T090000
END:STANDARD
END:VTIMEZONE
BEGIN:VEVENT
DTSTART;TZID=America/Los_Angeles:20260322T090000
DTEND;TZID=America/Los_Angeles:20260322T103000
DTSTAMP:20260423T161913
CREATED:20260226T043043Z
LAST-MODIFIED:20260226T043043Z
UID:30616-1774170000-1774175400@vakaruvejai.com
SUMMARY:Lietuviškų knygų klubas: "Anglų kalbos žodynas" - Akvilina Cicėnaitė\, virtualus renginys
DESCRIPTION:Kviečiame į knygų klubo susitikimą\, skirtą „Anglų kalbos žodynas” romanui\, kuris kalba apie tapatybę ir bandymą susikurti savo žodyną pasaulyje\, kuriame nuolat kertame matomas ir nematomas sienas.\n„Tai meditatyvus\, poetiškas ir kartu labai atviras pasakojimas apie tai\, ką reiškia būti žmogumi – moterimi\, partnere\, drauge – gyvenant tarp skirtingų šalių\, kultūrų ir kalbų. Romanas refliktuoja migracijos patirtį\, vidinius skilimus\, prisitaikymą ir ilgesį\, bet kartu kviečia gyventi taip lyg sienų nebūtų”.\nSusitikimo metu kalbėsime apie:– kalbą kaip namus ir kaip atstumą;– neišverčiamus žodžius ir tai\, ką jie slepia;– asmeninę ir kolektyvinę patirtį gyvenant tarp „čia” ir „ten”;– kodėl\, kaip rašytoja Akvilina Cicėnaitė sakė\, „Vienam šalis gali tapti laisve ir išsigelbėjimu\, kitam – kalėjimu ar auksiniu narveliu”.\n(https://www.lrytas.lt/…/romano-anglu-kalbos-zodynas…)\nKnygos skaitymas nėra būtina sąlyga – kviečiame visus\, kuriems įdomus pokalbis\, bendrystė ir šiuolaikinė lietuvių literatūra.\nData: Kovo 22d.\, sekmadienis\, 9 am PST (Kalifonijos laiku)Formatas: virtualus ZOOM platformoje\nhttps://us06web.zoom.us/j/86764903757…\nMeeting ID: 867 6490 3757Passcode: 125703\nElektroninę knygą galite įsigyti šiuose knygynuose:\nhttps://www.pegasas.lt/anglu-kalbos-zodynas-e-knyga…/https://almalittera.lt/products/anglu-kalbos-zodynas\nPerklausyti knygą galite Audiotekoje: https://audioteka.com/lt/audiobook/anglu-kalbos-zodynas/
URL:https://vakaruvejai.com/renginys/lietuvisku-knygu-klubas-anglu-kalbos-zodynas-akvilina-cicenaite-virtualus-renginys/
LOCATION:Virtualus renginys
CATEGORIES:Lietuviški renginiai,San Franciskas,Virtualus renginys
ATTACH;FMTTYPE=image/jpeg:https://vakaruvejai.com/wp-content/uploads/2026/02/622374059_122292341096228608_3110057060463932353_n.jpg
ORGANIZER;CN="Lithuanian Sisters":MAILTO:info@lithuaniansisters.com
END:VEVENT
BEGIN:VEVENT
DTSTART;TZID=America/Los_Angeles:20240907T103000
DTEND;TZID=America/Los_Angeles:20240907T123000
DTSTAMP:20260423T161913
CREATED:20240810T034449Z
LAST-MODIFIED:20240810T034449Z
UID:27323-1725705000-1725712200@vakaruvejai.com
SUMMARY:Lietuviškų knygų klubo pristatymas\, Castro Valley
DESCRIPTION:PUIKI ŽINIA PASIILGUSIEMS LIETUVIŠKŲ KNYGŲ! \nKviečiame Jus atvykti į lietuviškų knygų klubo pristatymą! Tai puiki proga praturtinti savo skaitymo patirtį\, atrasti naujus lietuvių autorius\, puoselėti lietuvių kalbą ir kultūrą. \nProgramoje:\nKnygų klubo veiklos pristatymas\n Knygų pristatymas ir pasirinkimas\n Narių registracija ir pirmasis susirinkimas \nKodėl verta prisijungti?\n• Per knygų skaitymą išlaikysite stipresnį ryšį su savo kultūra\, kalba ir tradicijomis\n• Susipažinsite su naujais žmonėmis\, kurie taip pat mėgsta skaityti\n• Turėsite galimybę dalyvauti įdomiose diskusijose apie įvairias knygas\n• Praturtinsite savo skaitymo patirtį ir atrasite naujų autorių bei žanrų\n• Puoselėsite lietuvių kalbą ir kultūrą\n• Dalyvausite susitikimuose su lietuvių autoriais\n• Išbandysite savo jėgas kūrybinio rašymo dirbtuvėse bei kitose edukacinėse veiklose\nKaip prisijungti? \nNorinčius dalyvauti\, prašome užsiregistruoti iki rugsėjo 5 d. užpildant registracijos formą. \nRugsėjo 7 d.\n10:30 am – 12:30 pm\nCastro Valley bibilioteka\, 3600 Norbridge Ave\, Castro Valley\, CA 94546 \nKnygų klubo idėjos sumanytojos ir globėjos: LITHUANIAN SISTERS (www.lithuaniansisters.com) \nJei turite klausimų iki renginio\, prašome kreiptis el. paštu: info@lithuaniansisters.com\nIki susitikimo!
URL:https://vakaruvejai.com/renginys/lietuvisku-knygu-klubo-pristatymas-castro-valley/
LOCATION:Castro Valley biblioteka\, 3600 Norbridge Ave\, Castro Valley\, CA\, 94546
CATEGORIES:Lietuviški renginiai,San Franciskas
ATTACH;FMTTYPE=image/png:https://vakaruvejai.com/wp-content/uploads/2024/08/Screen-Shot-2024-08-09-at-8.40.36-PM.png
END:VEVENT
END:VCALENDAR