BEGIN:VCALENDAR
VERSION:2.0
PRODID:-//Vakarų Vėjai - ECPv6.15.3//NONSGML v1.0//EN
CALSCALE:GREGORIAN
METHOD:PUBLISH
X-WR-CALNAME:Vakarų Vėjai
X-ORIGINAL-URL:https://vakaruvejai.com
X-WR-CALDESC:Vakarų Vėjai renginiai
REFRESH-INTERVAL;VALUE=DURATION:PT1H
X-Robots-Tag:noindex
X-PUBLISHED-TTL:PT1H
BEGIN:VTIMEZONE
TZID:America/Los_Angeles
BEGIN:DAYLIGHT
TZOFFSETFROM:-0800
TZOFFSETTO:-0700
TZNAME:PDT
DTSTART:20200308T100000
END:DAYLIGHT
BEGIN:STANDARD
TZOFFSETFROM:-0700
TZOFFSETTO:-0800
TZNAME:PST
DTSTART:20201101T090000
END:STANDARD
END:VTIMEZONE
BEGIN:VEVENT
DTSTART;TZID=America/Los_Angeles:20201017T133000
DTEND;TZID=America/Los_Angeles:20201017T143000
DTSTAMP:20260423T145838
CREATED:20201009T052954Z
LAST-MODIFIED:20201009T053123Z
UID:13797-1602941400-1602945000@vakaruvejai.com
SUMMARY:Virtuali Rudeninė Skautų Sueiga
DESCRIPTION:Spalio 17d. 1:30pm skautai susirink virtualiai sueigai. Dėl išsamesnės informacijos ir Zoom prisijungimų kreipkitės į savo vadovus.\nIki pasimatymo!
URL:https://vakaruvejai.com/renginys/virtuali-rudenine-skautu-sueiga/
CATEGORIES:Virtualus renginys
ATTACH;FMTTYPE=image/jpeg:https://vakaruvejai.com/wp-content/uploads/2020/10/6CCDF199-D0A4-43FB-951E-532DE1B32DD1.jpeg
END:VEVENT
BEGIN:VEVENT
DTSTART;VALUE=DATE:20200719
DTEND;VALUE=DATE:20200726
DTSTAMP:20260423T145838
CREATED:20200603T180954Z
LAST-MODIFIED:20200604T215319Z
UID:12752-1595116800-1595721599@vakaruvejai.com
SUMMARY:UŽSIKRĖSK SKAUTAVIMU! Virtuali Rambyno stovykla 2020
DESCRIPTION:Sveikinu skautus!\nGaila\, kad šią vasarą negalėsime pabendrauti kartu Rambyne\, mūsų mylimoj stovykloj. Liūdna\, bet šiais metais tikrai nebus įmanoma.  Bet\, kaip skautai\, būdami pasirengę\, mes sugalvojome linksmus ir įdomius būdus\, kaip kartu patirti mūsų meilę skautavimui ir Rambynui. Raginu visus dalyvauti mūsų virtualioje stovykloje. Tikiuosi\, kad jums patiks. Užsikrėskite Skautavimu! \nBrolis Gintas Šlapkauskas \nStovyklos Viršininkas \n\n\n\nLabas\, sesės ir broliai!\nTikiu kad jūs visi\, jūsų šeimos ir draugai sveiki ir saugūs. \nLabai gaila\, kad negalime stovyklauti kartu Rambyne šią vasarą. Mes norime sutvirtinti mūsų ryšį su jumis\, todėl grupelė mūsų prisidėjo prie šio projekto ir sugalvojo nepaprastai įdomią Virtualią Stovykla! Sesė Rasa Hendrickson sukūrė šių metų stovyklos ženklą. Ačiū už visų kūrybingumą ir pastangas. \nKaip visi žinote\, Rambyno septinis rezervuaras visiškai nebeveiksmingas\, reikia nupirkti naują. Taip pat turime daug įvairių taisymų\, reikalingų virtuvėje. Jūsų mažas registracijos mokestis padės su šiom išlaidom. \nUžsiregistruokite! Pasidalinkime nuotraukom! Bus taip gera pamatyti jus visus. \nIki pasimatymo!! \nSesė Sigutė Miller \nRamiojo Vandenyno Rajono Vadė \n 
URL:https://vakaruvejai.com/renginys/uzsikresk-skautavimu-virtuali-rambyno-stovykla-2020/
CATEGORIES:Los Andželas,Virtualus renginys
ATTACH;FMTTYPE=application/pdf:https://vakaruvejai.com/wp-content/uploads/2020/06/2020-Stovyklos-Registracija.pdf
END:VEVENT
END:VCALENDAR