BEGIN:VCALENDAR
VERSION:2.0
PRODID:-//Vakarų Vėjai - ECPv6.15.3//NONSGML v1.0//EN
CALSCALE:GREGORIAN
METHOD:PUBLISH
X-ORIGINAL-URL:https://vakaruvejai.com
X-WR-CALDESC:Vakarų Vėjai renginiai
REFRESH-INTERVAL;VALUE=DURATION:PT1H
X-Robots-Tag:noindex
X-PUBLISHED-TTL:PT1H
BEGIN:VTIMEZONE
TZID:America/Los_Angeles
BEGIN:DAYLIGHT
TZOFFSETFROM:-0800
TZOFFSETTO:-0700
TZNAME:PDT
DTSTART:20210314T100000
END:DAYLIGHT
BEGIN:STANDARD
TZOFFSETFROM:-0700
TZOFFSETTO:-0800
TZNAME:PST
DTSTART:20211107T090000
END:STANDARD
END:VTIMEZONE
BEGIN:VEVENT
DTSTART;VALUE=DATE:20211216
DTEND;VALUE=DATE:20211218
DTSTAMP:20260423T185931
CREATED:20211119T062049Z
LAST-MODIFIED:20211119T062112Z
UID:18648-1639612800-1639785599@vakaruvejai.com
SUMMARY:Konsulinė misija į San Franciską
DESCRIPTION:2021 m. gruodžio 16-17 d. Lietuvos Respublikos generalinis konsulatas Los Andžele rengia išvažiuojamąją konsulinę misiją San Franciske\, Kalifornijos valstijoje. \nPriėmimas vyks adresu: 1940 Bonita Avenue\, Berkeley\, CA 94704. \nPriėmimo laikas: gruodžio 16 d. ir 17 d. 8:00 – 12:00 val. ir 13:00 – 15:30 val. \nKonsulinės misijos metu bus priimami Lietuvos Respublikos piliečių: \n\nprašymai dėl pasų išdavimo ir keitimo;\nprašymai dėl užsienyje registruotų civilinės būklės aktų (santuokos\, ištuokos\, gimimo) įtraukimo į apskaitą Lietuvoje;\nprašymai dėl išvykimo iš Lietuvos deklaravimo;\nišduodamos pažymos\, patvirtinančios\, kad asmuo yra gyvas ir yra tam tikroje vietovėje (pažymos „Sodrai“);\ntvirtinami įgaliojimai;\nteikiamos kitos konsulinės paslaugos.\n\nIšankstinė registracija yra būtina. Dėl konsulinių paslaugų misijos metu prašome užsiregistruoti iki gruodžio 12 d.\, atsiunčiant užklausą el. paštu kons.losandzelas@urm.lt. \nDaugiau informacijos rasite čia: https://vakaruvejai.com/2021/11/17/konsuline-misija-i-san-franciska/
URL:https://vakaruvejai.com/renginys/konsuline-misija-i-san-franciska/
LOCATION:1940 Bonita Avenue\, Berkeley\, CA 94704\, 1940 Bonita Avenue\, Berkeley\, CA\, 94704
CATEGORIES:San Franciskas
ATTACH;FMTTYPE=image/png:https://vakaruvejai.com/wp-content/uploads/2021/11/Screen-Shot-2021-11-18-at-10.18.57-PM.png
END:VEVENT
BEGIN:VEVENT
DTSTART;VALUE=DATE:20211209
DTEND;VALUE=DATE:20211211
DTSTAMP:20260423T185931
CREATED:20211119T061605Z
LAST-MODIFIED:20211119T061605Z
UID:18644-1639008000-1639180799@vakaruvejai.com
SUMMARY:Konsulinė misiją į Sietlą
DESCRIPTION:Gruodžio pradžioje konsulinės paslaugos bus teikiamos Sietle\, Vašingtono valstijoje \n2021 m. gruodžio 9-10 dienomis Lietuvos Respublikos generalinis konsulatas Los Andžele rengia išvažiuojamąją konsulinę misiją Sietlo mieste\, Vašingtono valstijoje\, adresu 5919 Wilson Ave. South Seattle\, WA 98118. Priėmimo laikas: gruodžio 9 d. ir 10 d. 9:00 – 13:00 ir 14:00 – 17:30 val. \nKonsulinės misijos metu bus priimami Lietuvos Respublikos piliečių:\n– prašymai dėl pasų išdavimo ir keitimo;\n– užsienyje registruotų civilinės būklės aktų (santuokos\, ištuokos\, gimimo) įtraukimo į apskaitą Lietuvoje;\n– prašymai dėl išvykimo iš Lietuvos deklaravimo;\n– išduodamos pažymos\, patvirtinančios\, kad asmuo yra gyvas ir yra tam tikroje vietovėje (pažymos „Sodrai“);\n– tvirtinami įgaliojimai ir teikiamos kitos konsulinės paslaugos. \nIšankstinė registracija yra būtina. Dėl konsulinių paslaugų misijos metu prašome užsiregistruoti iki gruodžio 5 d. el. paštu kons.losandzelas@urm.lt. \nDaugiau informacijos skaitykite čia: https://vakaruvejai.com/2021/11/05/konsuline-misija-i-sietla/
URL:https://vakaruvejai.com/renginys/konsuline-misija-i-sietla/
LOCATION:5919 Wilson Ave. South Seattle\, WA 98118\, 5919 Wilson Ave\, South Seattle\, WA\, 98118\, Jungtinės Amerikos Valstijos
CATEGORIES:Seattle
ATTACH;FMTTYPE=image/png:https://vakaruvejai.com/wp-content/uploads/2021/11/Screen-Shot-2021-11-18-at-10.15.33-PM.png
END:VEVENT
END:VCALENDAR