BEGIN:VCALENDAR
VERSION:2.0
PRODID:-//Vakarų Vėjai - ECPv6.15.3//NONSGML v1.0//EN
CALSCALE:GREGORIAN
METHOD:PUBLISH
X-ORIGINAL-URL:https://vakaruvejai.com
X-WR-CALDESC:Vakarų Vėjai renginiai
REFRESH-INTERVAL;VALUE=DURATION:PT1H
X-Robots-Tag:noindex
X-PUBLISHED-TTL:PT1H
BEGIN:VTIMEZONE
TZID:America/Los_Angeles
BEGIN:DAYLIGHT
TZOFFSETFROM:-0800
TZOFFSETTO:-0700
TZNAME:PDT
DTSTART:20250309T100000
END:DAYLIGHT
BEGIN:STANDARD
TZOFFSETFROM:-0700
TZOFFSETTO:-0800
TZNAME:PST
DTSTART:20251102T090000
END:STANDARD
END:VTIMEZONE
BEGIN:VEVENT
DTSTART;TZID=America/Los_Angeles:20251213T180000
DTEND;TZID=America/Los_Angeles:20251213T200000
DTSTAMP:20260423T095540
CREATED:20251122T093511Z
LAST-MODIFIED:20251122T093511Z
UID:30075-1765648800-1765656000@vakaruvejai.com
SUMMARY:The Nutcracker Ballet by Ballet Institute of San Diego
DESCRIPTION:FEW TICKETS STILL AVAILABLEStep into Clara’s dream — a world where ballet brings imagination to life and the holidays sparkle with wonder.The Nutcracker whisks audiences away on a magical journey through enchanted lands\, where toy soldiers battle\, snowflakes dance\, and the Sugar Plum Fairy reigns. At the heart of it all is young Clara\, whose extraordinary dream unfolds through breathtaking ballet and timeless storytelling.Whether you’re joining us for the first time or continuing a beloved tradition\, discover why The Nutcracker is a dazzling celebration of dreams\, childhood wonder\, and the magic of the season. \nTICKETS
URL:https://vakaruvejai.com/renginys/the-nutcracker-ballet-by-ballet-institute-of-san-diego/
LOCATION:The Conrad\, 7600 Fay Ave\, La Jolla\, CA\, 92037
CATEGORIES:San Diego
ATTACH;FMTTYPE=image/jpeg:https://vakaruvejai.com/wp-content/uploads/2025/11/581020565_1344366371034193_6886358830242488941_n.jpg
END:VEVENT
BEGIN:VEVENT
DTSTART;TZID=America/Los_Angeles:20250814T190000
DTEND;TZID=America/Los_Angeles:20250814T210000
DTSTAMP:20260423T095540
CREATED:20250802T033059Z
LAST-MODIFIED:20250802T033059Z
UID:29524-1755198000-1755205200@vakaruvejai.com
SUMMARY:Dėmesio! "Retro" kviečia naujus narius\, Los Andželas
DESCRIPTION:Daugiau nei 20 metų gyvuojanti Los Andželo lietuvių šokių grupė „Retro” pradeda naują sezoną! \nAteik\, išbandyk – galbūt tai taps tavo nauja aistra! Nereikia būti profesionalu – svarbiausia noras judėti\, šypsotis ir būti kartu. Pažadame – nuobodu tikrai nebus! \nKviečiame į pirmą sezono repeticiją: rugpjūčio 14d. (ketvirtadienį) 19:00 val.Šv. Kazimiero parapijos viršutinėje salėje. Adresas: 2718 St. George St.\, Los Angeles\, CA 90027. \nJau netrukus „Retro” pradės pasiruošimą: \n\nLos Andželo Lietuvių dienoms (vyks spalio mėnesį)\nPasaulio lietuvių dainų ir šokių šventei (vyks 2026m. liepos mėn. Čikagoje).\n\nTuri klausimų? \nRašyk grupės vadovei Sigitai Barysienei – ohretro23@gmail.com \nLAUKIAME!
URL:https://vakaruvejai.com/renginys/demesio-retro-kviecia-naujus-narius-los-andzelas/
LOCATION:Šv. Kazimiero parapijos salėje\, 2714 St. George St.\, Los Angeles\, CA\, 90027
CATEGORIES:Lietuviški renginiai,Los Andželas
ATTACH;FMTTYPE=image/jpeg:https://vakaruvejai.com/wp-content/uploads/2025/08/524382250_18016130546727551_2585867351328322803_n.jpeg
END:VEVENT
BEGIN:VEVENT
DTSTART;TZID=America/Los_Angeles:20250123T183000
DTEND;TZID=America/Los_Angeles:20250123T203000
DTSTAMP:20260423T095540
CREATED:20250112T091323Z
LAST-MODIFIED:20250118T063809Z
UID:28149-1737657000-1737664200@vakaruvejai.com
SUMMARY:"DEZDEMONA" by Andželika Cholina (filmed version)\, San Franciskas
DESCRIPTION:DEZDEMONADirected and Choreographed by Anželika CholinaKaunas Musical Theatre\n\nWorld renowned choreographer Anželika Cholina’s take on William Shakespeare’s tragic tale of jealousy and duplicity is a percussion filled\, striking and vibrant production that delves deeply into the soul of the tragedy and its self-sacrificing yet defiant heroine. In Cholina’s production\, based on fellow Lithuanian Anatoly Shenderov’s original composition\, artists of the small ballet troupe of the Kaunas Musical Theater dance multiple roles\, thus creating not only the effect of mass\, but also giving meaning to the miracle and drama of the transformation of the characters.\nWHEN: January 23\, 6:30 pmWHERE: Lark Theater\, 547 Magnolia Ave\, Larkspur 94939\n\nMore about event and tickets are here:https://prod1.agileticketing.net/websales/pages/info.aspx?evtinfo=462679~93654fc6-c14e-40a7-812a-d5d2baa619e8&\n\nPart of the Artists in Exile Series. Art Seen Films is an intercultural project that distributes filmed theatre performances\, translated and subtitled\, into cinemas\, arts centers and online streaming platforms across the globe.\nEvent by Lark Theater
URL:https://vakaruvejai.com/renginys/dezdemona-by-andzelika-cholina-filmed-version-san-francisco/
LOCATION:Lark Theater\, 547 Magnolia Ave\, Larkspur\, CA\, 94939
CATEGORIES:Lietuviški renginiai,San Franciskas
ATTACH;FMTTYPE=image/jpeg:https://vakaruvejai.com/wp-content/uploads/2025/01/467644019_562144286462375_7823437981900638227_n.jpeg
END:VEVENT
END:VCALENDAR