BEGIN:VCALENDAR
VERSION:2.0
PRODID:-//Vakarų Vėjai - ECPv6.15.3//NONSGML v1.0//EN
CALSCALE:GREGORIAN
METHOD:PUBLISH
X-WR-CALNAME:Vakarų Vėjai
X-ORIGINAL-URL:https://vakaruvejai.com
X-WR-CALDESC:Vakarų Vėjai renginiai
REFRESH-INTERVAL;VALUE=DURATION:PT1H
X-Robots-Tag:noindex
X-PUBLISHED-TTL:PT1H
BEGIN:VTIMEZONE
TZID:America/Los_Angeles
BEGIN:DAYLIGHT
TZOFFSETFROM:-0800
TZOFFSETTO:-0700
TZNAME:PDT
DTSTART:20260308T100000
END:DAYLIGHT
BEGIN:STANDARD
TZOFFSETFROM:-0700
TZOFFSETTO:-0800
TZNAME:PST
DTSTART:20261101T090000
END:STANDARD
END:VTIMEZONE
BEGIN:VEVENT
DTSTART;TZID=America/Los_Angeles:20260111T140000
DTEND;TZID=America/Los_Angeles:20260111T160000
DTSTAMP:20260423T163730
CREATED:20260102T060953Z
LAST-MODIFIED:20260102T061551Z
UID:30224-1768140000-1768147200@vakaruvejai.com
SUMMARY:Sausio 13-osios solidarumo žygis / January 13th solidarity walk\, Sietlas\, WA
DESCRIPTION:Kvie2iame visus prisijungti.
URL:https://vakaruvejai.com/renginys/sausio-13-osios-solidarumo-zygis-january-13th-solidarity-walk-sietlas-wa/
LOCATION:Green Lake\, Seattle\, WA
CATEGORIES:Lietuviški renginiai,Seattle
ATTACH;FMTTYPE=image/jpeg:https://vakaruvejai.com/wp-content/uploads/2026/01/amfrozeviciute-pag-10-sausio-13-minejimas.jpg
END:VEVENT
END:VCALENDAR