BEGIN:VCALENDAR
VERSION:2.0
PRODID:-//Vakarų Vėjai - ECPv6.15.3//NONSGML v1.0//EN
CALSCALE:GREGORIAN
METHOD:PUBLISH
X-WR-CALNAME:Vakarų Vėjai
X-ORIGINAL-URL:https://vakaruvejai.com
X-WR-CALDESC:Vakarų Vėjai renginiai
REFRESH-INTERVAL;VALUE=DURATION:PT1H
X-Robots-Tag:noindex
X-PUBLISHED-TTL:PT1H
BEGIN:VTIMEZONE
TZID:America/Los_Angeles
BEGIN:DAYLIGHT
TZOFFSETFROM:-0800
TZOFFSETTO:-0700
TZNAME:PDT
DTSTART:20220313T100000
END:DAYLIGHT
BEGIN:STANDARD
TZOFFSETFROM:-0700
TZOFFSETTO:-0800
TZNAME:PST
DTSTART:20221106T090000
END:STANDARD
BEGIN:DAYLIGHT
TZOFFSETFROM:-0800
TZOFFSETTO:-0700
TZNAME:PDT
DTSTART:20230312T100000
END:DAYLIGHT
BEGIN:STANDARD
TZOFFSETFROM:-0700
TZOFFSETTO:-0800
TZNAME:PST
DTSTART:20231105T090000
END:STANDARD
BEGIN:DAYLIGHT
TZOFFSETFROM:-0800
TZOFFSETTO:-0700
TZNAME:PDT
DTSTART:20240310T100000
END:DAYLIGHT
BEGIN:STANDARD
TZOFFSETFROM:-0700
TZOFFSETTO:-0800
TZNAME:PST
DTSTART:20241103T090000
END:STANDARD
BEGIN:DAYLIGHT
TZOFFSETFROM:-0800
TZOFFSETTO:-0700
TZNAME:PDT
DTSTART:20250309T100000
END:DAYLIGHT
BEGIN:STANDARD
TZOFFSETFROM:-0700
TZOFFSETTO:-0800
TZNAME:PST
DTSTART:20251102T090000
END:STANDARD
END:VTIMEZONE
BEGIN:VEVENT
DTSTART;TZID=America/Los_Angeles:20251108T190000
DTEND;TZID=America/Los_Angeles:20251108T210000
DTSTAMP:20260423T161804
CREATED:20250913T071111Z
LAST-MODIFIED:20251025T041633Z
UID:29721-1762628400-1762635600@vakaruvejai.com
SUMMARY:Premiera Los Andžele: Čikagos satyros teatras "Antras kaimas"
DESCRIPTION:Kviečiame į Čikagos satyros teatrą „Antras kaimas”\, kuris atvyksta į Los Andželą. Visa informacija skelbime. \nBILIETAI
URL:https://vakaruvejai.com/renginys/premiera-los-andzele-cikagos-satyros-teatras-antras-kaimas/
LOCATION:Šv. Kazimiero parapija\, 2716 St. George St.\, Los Angeles\, CA\, 90027
CATEGORIES:Lietuviški renginiai,Los Andželas
ATTACH;FMTTYPE=image/jpeg:https://vakaruvejai.com/wp-content/uploads/2025/09/Antas-Kaimas-LA-poster-2-scaled.jpg
END:VEVENT
BEGIN:VEVENT
DTSTART;TZID=America/Los_Angeles:20240519T130000
DTEND;TZID=America/Los_Angeles:20240519T150000
DTSTAMP:20260423T161804
CREATED:20240504T021858Z
LAST-MODIFIED:20240504T050031Z
UID:26682-1716123600-1716130800@vakaruvejai.com
SUMMARY:Kauno Valstybinio Lėlių Teatro spektaklis "Sesytė Elenytė ir Joniukas Aviniukas" ir edukacinė programa vaikams\, Los Andželas
DESCRIPTION:Dėmesio!!! Pirmą kartą Los Andžele! Kauno Valstybinis Lėlių Teatras iš Lietuvos jums atveža spektaklį vaikams ir visai šeimai „Sesytė Elenytė ir Joniukas Aviniukas”. Šis teatras pelnė tarptautinį pripažinimą ir atvėrė Lietuvos lėlininkams kelią į užsienio scenas\, kurie žavėjo tūkstančius vaikų ir suaugusiųjų savo talentu. \nSpektaklis vaikams  \nSESYTĖ ELENYTĖ IR JONIUKAS AVINIUKAS \nPjesės autorė – Daiva Čepauskaitė\nRežisierė – Milda Mičiulytė\nScenografas – Artūras Šimonis\nKompozitorius – Martynas Bialobžeskis\nVideo menininkas – Titas Jurjonas \nChoreografas – Marius Pinigis \nVaidina: \nDominyka Budinavičiūtė / Audronė Grėbliauskienė\, \nArvydas Šaučiūnas /Augustas Gudelis\, \nVigita Rudytė / Laima Strazdauskienė\, \nMindaugas Černiauskas / Saulius Bagaliūnas \nRūta Kumpikaitė / Jolita Ross \nSpektaklis nukels žiūrovus į rugine duona kvepiančią pirkią\, kurioje kiekvienas esame laukiamas kaip savuose namuose. Toje pirkioje tėvai savo vaikams skaito lietuvišką pasaką. Visi šeimos nariai netikėtai įsijaučia taip\, kad pasaka virsta realybe\, o realybė – pasaka. \nSpektaklio kūrėjai scenoje ieško atsakymų: kas yra gėris ir blogis\, kodėl mums visiems tokie svarbūs glaudūs šeimos ir bendruomenės santykiai\, įveikiant savo kelyje iškilusias kliūtis? Elenytės ir Joniuko kelionė primins\, kad būtent šeimos ir mūsų visų vienybė suteikia stiprybės Gėriui ir tik būdami kartu galime nugalėti Blogį. \nŠis spektaklis ne tik įkvėptas stebuklinės lietuvių liaudies pasakos\, bet ir kupinas lietuviškų dainų\, folklorinių simbolių ir sakralios šviesos\, kuri iš naujo leis pamatyti mūsų tautosakos grožį ir unikalumą. \nN-6 \nTrukmė: 1 val. \nPremjera 2024 m. gegužės 4-5 d. \nRežisieriaus padėjėja – Jolita Ross \nMuzikinės dalies vedėja – Regina Kamičaitienė \nŠviesų režisierius – Remigijus Januška\, Tomas Klimas \nGarso režisierius – Algirdas Kubilinskas\, Giedrius Bilvinas \nTeatro vadovė – Rasa Bartninkaitė \n\nNe tik rekomenduojama\, bet būtina pamatyti!\n \n\nLĖLĖ\, KURI DIDŽIUOJASI\, KAD TURI „Ė“ – Interaktyvi edukacija visai šeimai \nIdėjos autorius ir režisierius – Andrius Žiurauskas \nDailininkas – Artūras Šimonis \nKompozitorius – Stanislovas Savickis-Stano \nVaidina: \nDarius Krapikas / Arvydas Šaučiūnas / Augustas Gudelis \nAudronė Grėbliauskienė / Laima Strazdauskienė / Rūta Kumpikaitė \nŠios interaktyvios edukacijos metu\, mažieji ir didieji žiūrovai turės galimybę prisijungti prie dviejų keliaujančių teatro lėlininkų. Jie apkeliavę visą platųjį pasaulį\, moka daugybę skirtingų kalbų\, tačiau širdies gilumoje – jie visada buvo ir bus tikri lietuviai\, o lietuvių kalba jiems – pati mieliausia! Nes kalba ši – nepaprasta… Ji turi vieną stebuklingą raidę\, kurios neturi jokia kita kalba pasaulyje. Ši raidė tai – „Ė“. \nLėlininkams tai ypatingai svarbi raidė. Kaip tikri burtininkai\, jie kasdien kuria stebuklą ir įpučia gyvybę daiktams. Tam jiems neužtenka žodžių – jiems reikia burtažodžių. Būtent toks yra žodis „lėlė“\, kuris turi net dvi pačias unikaliausias raides savo pavadinime! \nŠi edukacija – tai nuotaikingas žaidimas su kalba ir nuoširdus didžiavimasis lietuvių kalbos ir kultūros lobiais. Edukacijos metu dalyviai daug sužinos ne tik apie skirtingus lietuviškos kultūros simbolius ir mitinius veikėjus\, bet ir apie lėlių teatrą. \nTrukmė: 45 min. \nN-5 m.
URL:https://vakaruvejai.com/renginys/kauno-valstybinio-leliu-teatro-spektaklis-sesyte-elenyte-ir-joniukas-aviniukas-los-andzelas/
LOCATION:Šv. Kazimiero parapijos salėje\, 2714 St. George St.\, Los Angeles\, CA\, 90027
CATEGORIES:Lietuviški renginiai,Los Andželas
ATTACH;FMTTYPE=image/jpeg:https://vakaruvejai.com/wp-content/uploads/2024/05/Unknown.jpeg
END:VEVENT
BEGIN:VEVENT
DTSTART;VALUE=DATE:20220605
DTEND;VALUE=DATE:20220627
DTSTAMP:20260423T161804
CREATED:20220506T225008Z
LAST-MODIFIED:20220506T225008Z
UID:21348-1654387200-1656287999@vakaruvejai.com
SUMMARY:TRAGIC MAGIC. A Story of Recovery by Sigute Miller\, Los Andželas
DESCRIPTION:TRAGIC MAGIC ~ A Story of Recovery is a riveting saga of tragedy\, trauma\, transformation and recovery. Daughter of Lithuanian “DP’s” (displaced persons)\, needing to fit in\, Sigute experienced the dragon of addiction at an early age. From hanging with the bad boys\, harrowing blackouts\, falling prey to the “casting couch”\, a “star” of Rodeo Drive\, endangering her young daughter\, confrontations with the law\, to getting sober\, transforming in India\, and reconnecting with her first love – nature – she weaves her redemptive journey with raw honesty\, pathos\, song\, poems and humor. \n\n\nTRAGIC MAGIC CASTS A SPELL STARTING JUNE 5 AT THE ACTORS COMPANY LET LIVE THEATRE \nWHAT: Tragic Magic. An Official Selection of the Hollywood Fringe Festival. \nWHO: Written\, performed and produced by Sigute Miller. Directed and developed by Beth Bornstein Dunnington. \nWHERE: The Actors Company Let Live Theatre\, 916 N. Formosa Ave.\, Los Angeles\, CA 90046. \nWHEN: Previews Sunday\, June 5\, 2022 at 1:00 p.m. Regular performances Saturday\, June 11 at 7:00 p.m. Sunday\, June 12 at 4:00 p.m. Friday\, June 24 at 7:00 p.m. Sunday\, June 26 at 11 a.m. \nADMISSION: $12.\nRESERVATIONS: http://hollywoodfringe.org/projects/7394\nESTIMATED RUNNING TIME: 58 minutes \nCONSUMER ADVISORY: Suggested for audiences 16 to Adult. Contains adult themes and content.
URL:https://vakaruvejai.com/renginys/tragic-magic-a-story-of-recovery-by-sigute-miller-los-andzelas/
LOCATION:The Actors Company Let Live Theatre\, 916 N. Formosa Ave\, Los Angeles\, CA\, 90046
CATEGORIES:Los Andželas
ATTACH;FMTTYPE=image/jpeg:https://vakaruvejai.com/wp-content/uploads/2022/05/image-1.jpeg
END:VEVENT
END:VCALENDAR