BEGIN:VCALENDAR
VERSION:2.0
PRODID:-//Vakarų Vėjai - ECPv6.15.3//NONSGML v1.0//EN
CALSCALE:GREGORIAN
METHOD:PUBLISH
X-ORIGINAL-URL:https://vakaruvejai.com
X-WR-CALDESC:Vakarų Vėjai renginiai
REFRESH-INTERVAL;VALUE=DURATION:PT1H
X-Robots-Tag:noindex
X-PUBLISHED-TTL:PT1H
BEGIN:VTIMEZONE
TZID:America/Los_Angeles
BEGIN:DAYLIGHT
TZOFFSETFROM:-0800
TZOFFSETTO:-0700
TZNAME:PDT
DTSTART:20250309T100000
END:DAYLIGHT
BEGIN:STANDARD
TZOFFSETFROM:-0700
TZOFFSETTO:-0800
TZNAME:PST
DTSTART:20251102T090000
END:STANDARD
END:VTIMEZONE
BEGIN:VEVENT
DTSTART;TZID=America/Los_Angeles:20251213T180000
DTEND;TZID=America/Los_Angeles:20251213T200000
DTSTAMP:20260423T161927
CREATED:20251122T093511Z
LAST-MODIFIED:20251122T093511Z
UID:30075-1765648800-1765656000@vakaruvejai.com
SUMMARY:The Nutcracker Ballet by Ballet Institute of San Diego
DESCRIPTION:FEW TICKETS STILL AVAILABLEStep into Clara’s dream — a world where ballet brings imagination to life and the holidays sparkle with wonder.The Nutcracker whisks audiences away on a magical journey through enchanted lands\, where toy soldiers battle\, snowflakes dance\, and the Sugar Plum Fairy reigns. At the heart of it all is young Clara\, whose extraordinary dream unfolds through breathtaking ballet and timeless storytelling.Whether you’re joining us for the first time or continuing a beloved tradition\, discover why The Nutcracker is a dazzling celebration of dreams\, childhood wonder\, and the magic of the season. \nTICKETS
URL:https://vakaruvejai.com/renginys/the-nutcracker-ballet-by-ballet-institute-of-san-diego/
LOCATION:The Conrad\, 7600 Fay Ave\, La Jolla\, CA\, 92037
CATEGORIES:San Diego
ATTACH;FMTTYPE=image/jpeg:https://vakaruvejai.com/wp-content/uploads/2025/11/581020565_1344366371034193_6886358830242488941_n.jpg
END:VEVENT
END:VCALENDAR